BEGIN:VCALENDAR
VERSION:2.0
PRODID:-//Keep Colchester Cool - ECPv6.15.20//NONSGML v1.0//EN
CALSCALE:GREGORIAN
METHOD:PUBLISH
X-WR-CALNAME:Keep Colchester Cool
X-ORIGINAL-URL:https://keepcolchestercool.co.uk
X-WR-CALDESC:Events for Keep Colchester Cool
REFRESH-INTERVAL;VALUE=DURATION:PT1H
X-Robots-Tag:noindex
X-PUBLISHED-TTL:PT1H
BEGIN:VTIMEZONE
TZID:Europe/London
BEGIN:DAYLIGHT
TZOFFSETFROM:+0000
TZOFFSETTO:+0100
TZNAME:BST
DTSTART:20250330T010000
END:DAYLIGHT
BEGIN:STANDARD
TZOFFSETFROM:+0100
TZOFFSETTO:+0000
TZNAME:GMT
DTSTART:20251026T010000
END:STANDARD
BEGIN:DAYLIGHT
TZOFFSETFROM:+0000
TZOFFSETTO:+0100
TZNAME:BST
DTSTART:20260329T010000
END:DAYLIGHT
BEGIN:STANDARD
TZOFFSETFROM:+0100
TZOFFSETTO:+0000
TZNAME:GMT
DTSTART:20261025T010000
END:STANDARD
BEGIN:DAYLIGHT
TZOFFSETFROM:+0000
TZOFFSETTO:+0100
TZNAME:BST
DTSTART:20270328T010000
END:DAYLIGHT
BEGIN:STANDARD
TZOFFSETFROM:+0100
TZOFFSETTO:+0000
TZNAME:GMT
DTSTART:20271031T010000
END:STANDARD
END:VTIMEZONE
BEGIN:VEVENT
DTSTART;TZID=Europe/London:20260124T130000
DTEND;TZID=Europe/London:20260124T160000
DTSTAMP:20260424T092255
CREATED:20260115T071049Z
LAST-MODIFIED:20260124T070955Z
UID:127860-1769259600-1769270400@keepcolchestercool.co.uk
SUMMARY:Teddy Bear's Concert
DESCRIPTION:Tickets £6 Adults / £3 Children£15 Family (admits 4\, must include 1 child)Doors open 1pm\, Show starts 1.30pmThis show is for a seated audience \nA perfect introduction to the world of music\, with musical stories and short pieces that will get your teddy dancing! \nA chance to conduct the orchestra and join in the percussion section.
URL:https://keepcolchestercool.co.uk/event/teddy-bears-concert-2/
LOCATION:Church St\, CO1 1NF Colchester\, United Kingdom
ORGANIZER;CN="Colchester Arts Centre":MAILTO:noreply@facebookmail_com
END:VEVENT
BEGIN:VEVENT
DTSTART;TZID=Europe/London:20260124T130000
DTEND;TZID=Europe/London:20260124T170000
DTSTAMP:20260424T092255
CREATED:20260122T071040Z
LAST-MODIFIED:20260124T070956Z
UID:127946-1769259600-1769274000@keepcolchestercool.co.uk
SUMMARY:Gundam Card Game Standard Event
DESCRIPTION:Gundam Card Game Standard Event  \nNow the launch has happened and people have had a chance to enjoy opening boosters. We can now look to start running standard / own deck events. \nRefresher for what your deck must be built to: \n• Deck: A total of 50 cards\, made up of Unit cards\, Command cards\, Pilot Cards\, and Base cards.• Up to two unique card colours (red\, blue\, green\, white\, purple) can be included in a deck. Cards ofa tertiary or more colours cannot be added to a deck. A deck can contain no more than 4 cardswith the same card number.• Resource deck: A total of 10 Resource cards.• Tokens: All tokens required for gameplay.No more than four copies of the same card can be included in a deck. No side decks are permitted. \nTo be ready for Store Tournaments we will run it as requested below. \n1-on-1 Standard Match Structure– Best-of-one Game Match– Number of game wins necessary: 1– Match Time: 30 minutes– Extra Time: 5 minutes (for extra turns\, etc.) \nEveryone will get a booster & another one will be put in to the prize pot for every player. \nStart Time: 12:45 pmEntry: £10.00 \nPlease make sure you have a Bandai TCG+ account as we’ll be running the event through that. https://www.bandai-tcg-plus.com \nPlease note all of these events have limited spaces of 24 people\, so to avoid missing out please either click attend on this event\, come in and speak to a member of staff of call us on 01206 561912 to make sure you don’t miss out.
URL:https://keepcolchestercool.co.uk/event/gundam-card-game-standard-event/
LOCATION:ACE Comics\, 42 Culver Street East\, Colchester\, CO1 1LE\, GB
ORGANIZER;CN="Glenn Richardson":MAILTO:noreply@facebookmail_com
END:VEVENT
BEGIN:VEVENT
DTSTART;TZID=Europe/London:20260124T150000
DTEND;TZID=Europe/London:20260124T173000
DTSTAMP:20260424T092255
CREATED:20260113T071015Z
LAST-MODIFIED:20260124T070956Z
UID:127768-1769266800-1769275800@keepcolchestercool.co.uk
SUMMARY:CODA - Acoustic Showcase
DESCRIPTION:A Saturday afternoon showcase featuring:Colour & ShapeForever Blues?Stu E Skinner(Hosting)Event Info:A weekly event featuring 3 to 5 acts performing live acoustic sets between 3-5:30pm.Hot & cold beverages served from 2:30pm onwards.This is a family friendly event so younglings are welcome providing they’re properly managed.Mics\, pa and backline are provided but performers are welcome to bring their own microphones etc
URL:https://keepcolchestercool.co.uk/event/coda-acoustic-showcase-12/
LOCATION:63 High street\, co1 1dn Colchester\, United Kingdom\, 63 High street\, co1 1dn Colchester\, United Kingdom
ORGANIZER;CN="Piggyfy Live - Acoustic Showcase - Coda":MAILTO:noreply@facebookmail.com
END:VEVENT
BEGIN:VEVENT
DTSTART;TZID=Europe/London:20260124T180000
DTEND;TZID=Europe/London:20260124T220000
DTSTAMP:20260424T092255
CREATED:20260120T071004Z
LAST-MODIFIED:20260124T070956Z
UID:127887-1769277600-1769292000@keepcolchestercool.co.uk
SUMMARY:Milonguito at Passage House cafe Colchester
DESCRIPTION:Enjoy this intimate milonga with friends at the beautiful Passage House cafe in Colchester. This place has a great hardwood floor! Delicious food\, hot beverages and soft drinks are available and the cafe has a bar for us. £5 on the door\, all welcome! \nTraditional tango music in TTVTTM tandas with cortinas selected by Miriam Gita. \nParking is available at Colchester city centre’s many nearby car parks.
URL:https://keepcolchestercool.co.uk/event/milonguito-at-passage-house-cafe-colchester/
LOCATION:The Passage House\, The Passage House
ORGANIZER;CN="The Joy Of Tango":MAILTO:noreply@facebookmail.com
END:VEVENT
BEGIN:VEVENT
DTSTART;TZID=Europe/London:20260124T190000
DTEND;TZID=Europe/London:20260124T220000
DTSTAMP:20260424T092255
CREATED:20250527T071040Z
LAST-MODIFIED:20260124T070956Z
UID:124751-1769281200-1769292000@keepcolchestercool.co.uk
SUMMARY:COLCHESTER: The Specials Ltd. 'Ghost Town' 40th Anniversary
DESCRIPTION:More info --> https://agmp.seetickets.com/event/the-specials-ltd-too-much-too-young-/colchester-arts-centre/3199399
URL:https://keepcolchestercool.co.uk/event/colchester-the-specials-ltd-ghost-town-40th-anniversary/
LOCATION:Colchester Arts Centre\, Colchester Arts Centre
ORGANIZER;CN="AGMP Concerts":MAILTO:noreply@facebookmail_com
END:VEVENT
BEGIN:VEVENT
DTSTART;TZID=Europe/London:20260124T190000
DTEND;TZID=Europe/London:20260124T220000
DTSTAMP:20260424T092255
CREATED:20251202T071057Z
LAST-MODIFIED:20260124T070956Z
UID:127392-1769281200-1769292000@keepcolchestercool.co.uk
SUMMARY:Pier Pressure - A night of metal from clacton and Southend
DESCRIPTION:We bring you a night of some of the best of Essex metal.  \n24th of January 2026 \n@threewise monkeys\, Colchetser  \nfeaturing  \nRegicide \nBlackWater Kings \nDraughrheim \nFallenRelic \n£5 on the door
URL:https://keepcolchestercool.co.uk/event/pier-pressure-a-night-of-metal-from-clacton-and-southend/
LOCATION:Three Wise Monkeys Colchester
ORGANIZER;CN="BlackWater Kings":MAILTO:noreply@facebookmail.com
END:VEVENT
BEGIN:VEVENT
DTSTART;TZID=Europe/London:20260124T193000
DTEND;TZID=Europe/London:20260124T223000
DTSTAMP:20260424T092255
CREATED:20260105T071015Z
LAST-MODIFIED:20260124T070957Z
UID:127602-1769283000-1769293800@keepcolchestercool.co.uk
SUMMARY:Mendlessohn
DESCRIPTION:Mendelssohn: Hebrides OvertureMendelssohn: Violin Concerto in E minor \nSoloist: Philippa BartonMendelssohn: Symphony No. 3 (Scottish) \nConductor: Chris Phelps \nTickets £18 (under 25s free) available at the door or to order – 01206 271128 or csotickets1@gmail.com
URL:https://keepcolchestercool.co.uk/event/mendlessohn/
LOCATION:St Botolph’s Church Walk\, Colchester\, CO2 7\, United Kingdom\, St Botolph's Church Walk\, Colchester\, CO2 7\, United Kingdom
ORGANIZER;CN="Colchester Symphony Orchestra":MAILTO:noreply@facebookmail_com
END:VEVENT
BEGIN:VEVENT
DTSTART;TZID=Europe/London:20260124T193000
DTEND;TZID=Europe/London:20260124T223000
DTSTAMP:20260424T092255
CREATED:20260105T071015Z
LAST-MODIFIED:20260119T071006Z
UID:127603-1769283000-1769293800@keepcolchestercool.co.uk
SUMMARY:Raz & The Gin Triplets @ QSBH 24.01.2026
DESCRIPTION:Raz: An almost entirely instrumental 3-piece band featuring Dan Goldstone on guitar\, Pera Frank on bass\, and George Krethlow-Shaw on drums. Raz’s original music is a blend of Jazz\, Funk\, Surf\, Pop\, Rock Fusion; with the mission of pushing musical boundaries. \n“Raz is one of the most unique fusion bands in Essex. With their constant changes through many genres in their songs\, they express greatly and transition between them smoothly. Great band with superb connection between them all.” \nFeaturing The Gin Triplets: Eleanor Cornell\, Sophie Nash and Jim Reynolds\, a trio of singer/songwriters. The Triplets bring powerful three-part vocal harmonies along with a original material and adapted covers. That and occasionally: the Gin. \nEvent starts 7:30pm on Saturday 24th January 2026 at Queen Street Brewhouse\, 7 Queen St\, Colchester\, Essex CO1 2PG at the price of FREE ENTRY!
URL:https://keepcolchestercool.co.uk/event/raz-the-gin-triplets-qsbh-24-01-2026/
LOCATION:Queen St Brewhouse\, 7 - 9 Queen Street\, Colchester\, CO1 2PG\, GB
ORGANIZER;CN="Raz":MAILTO:noreply@facebookmail.com
END:VEVENT
BEGIN:VEVENT
DTSTART;TZID=Europe/London:20260124T193000
DTEND;TZID=Europe/London:20260124T223000
DTSTAMP:20260424T092255
CREATED:20260120T071006Z
LAST-MODIFIED:20260124T070957Z
UID:127889-1769283000-1769293800@keepcolchestercool.co.uk
SUMMARY:RAZ & THE GIN TRIPLETS
DESCRIPTION:Raz: An almost entirely instrumental 3-piece band featuring Dan Goldstone on guitar\, Pera Frank on bass\, and George Krethlow-Shaw on drums. Raz’s original music is a blend of Jazz\, Funk\, Surf\, Pop\, Rock Fusion; with the mission of pushing musical boundaries.“Raz is one of the most unique fusion bands in Essex. With their constant changes through many genres in their songs\, they express greatly and transition between them smoothly. Great band with superb connection between them all.”Featuring The Gin Triplets: Eleanor Cornell\, Sophie Nash and Jim Reynolds\, a trio of singer/songwriters. The Triplets bring powerful three-part vocal harmonies along with a original material and adapted covers. That and occasionally: the Gin.Event starts 7:30pm on Saturday 24th January 2026 at Queen Street Brewhouse\, 7 Queen St\, Colchester\, Essex CO1 2PG at the price of FREE ENTRY!
URL:https://keepcolchestercool.co.uk/event/raz-the-gin-triplets/
LOCATION:7 Queen Street\, CO1 2PG Colchester\, United Kingdom\, 7 Queen Street\, CO1 2PG Colchester\, United Kingdom
ORGANIZER;CN="Queen St Brewhouse":MAILTO:noreply@facebookmail_com
END:VEVENT
BEGIN:VEVENT
DTSTART;TZID=Europe/London:20260124T211500
DTEND;TZID=Europe/London:20260124T230000
DTSTAMP:20260424T092255
CREATED:20260105T071016Z
LAST-MODIFIED:20260124T070957Z
UID:127604-1769289300-1769295600@keepcolchestercool.co.uk
SUMMARY:Fleeced Live at CODA Colchester
DESCRIPTION:Fleeced are back at Coda in the New year with a gut punching set of classic songs from across 7 decades\, Foofighters\, Simple Minds\, U2\,Stereophonics\, The Police\, Billy Idol to\, AC-DC\, Guns n Roses\, Lenny Kravitz\, Reef\, Nirvana and many more! lots of singing and dancing.#CodaColchester
URL:https://keepcolchestercool.co.uk/event/fleeced-live-at-coda-colchester/
LOCATION:Coda Colchester\, Coda Colchester
ORGANIZER;CN="Fleeced":MAILTO:noreply@facebookmail.com
END:VEVENT
END:VCALENDAR