BEGIN:VCALENDAR
VERSION:2.0
PRODID:-//Keep Colchester Cool - ECPv6.15.20//NONSGML v1.0//EN
CALSCALE:GREGORIAN
METHOD:PUBLISH
X-ORIGINAL-URL:https://keepcolchestercool.co.uk
X-WR-CALDESC:Events for Keep Colchester Cool
REFRESH-INTERVAL;VALUE=DURATION:PT1H
X-Robots-Tag:noindex
X-PUBLISHED-TTL:PT1H
BEGIN:VTIMEZONE
TZID:Europe/London
BEGIN:DAYLIGHT
TZOFFSETFROM:+0000
TZOFFSETTO:+0100
TZNAME:BST
DTSTART:20250330T010000
END:DAYLIGHT
BEGIN:STANDARD
TZOFFSETFROM:+0100
TZOFFSETTO:+0000
TZNAME:GMT
DTSTART:20251026T010000
END:STANDARD
BEGIN:DAYLIGHT
TZOFFSETFROM:+0000
TZOFFSETTO:+0100
TZNAME:BST
DTSTART:20260329T010000
END:DAYLIGHT
BEGIN:STANDARD
TZOFFSETFROM:+0100
TZOFFSETTO:+0000
TZNAME:GMT
DTSTART:20261025T010000
END:STANDARD
BEGIN:DAYLIGHT
TZOFFSETFROM:+0000
TZOFFSETTO:+0100
TZNAME:BST
DTSTART:20270328T010000
END:DAYLIGHT
BEGIN:STANDARD
TZOFFSETFROM:+0100
TZOFFSETTO:+0000
TZNAME:GMT
DTSTART:20271031T010000
END:STANDARD
END:VTIMEZONE
BEGIN:VEVENT
DTSTART;TZID=Europe/London:20260125T160000
DTEND;TZID=Europe/London:20260125T190000
DTSTAMP:20260424T084556
CREATED:20260122T071041Z
LAST-MODIFIED:20260125T071002Z
UID:127947-1769356800-1769367600@keepcolchestercool.co.uk
SUMMARY:Sunday Session - 3’s A Crowd
DESCRIPTION:They’re back here to play (finally)! Come along and join in a sing song on a Sunday afternoon! 🍺 🎶
URL:https://keepcolchestercool.co.uk/event/sunday-session-3s-a-crowd/
LOCATION:55 The Cross\, Wivenhoe\, 55 The Cross\, Wivenhoe
ORGANIZER;CN="The Horse &amp%3B Groom":MAILTO:noreply@facebookmail_com
END:VEVENT
BEGIN:VEVENT
DTSTART;TZID=Europe/London:20260125T184000
DTEND;TZID=Europe/London:20260125T214000
DTSTAMP:20260424T084556
CREATED:20260105T071016Z
LAST-MODIFIED:20260125T071002Z
UID:127605-1769366400-1769377200@keepcolchestercool.co.uk
SUMMARY:Friends Quiz (Colchester) - FULLY BOOKED
DESCRIPTION:Test your knowledge of the hilarious show\, and help raise money for an incredible cause! \n– £3 a head (cash only)– Maximum 6 to a team– Food served throughout – Book by selecting the date of the quiz and choosing quiz booking: threewisemonkeyscolchester.com/book-a-table  \nIf you book and then decide not to attend\, please CANCEL YOUR BOOKING. \nPlease arrive at least twenty minutes before the quiz is due to start to place food and drink orders.
URL:https://keepcolchestercool.co.uk/event/friends-quiz-colchester-fully-booked/
LOCATION:Three Wise Monkeys Colchester
ORGANIZER;CN="Film%2C TV & Music Quiz":MAILTO:noreply@facebookmail_com
END:VEVENT
BEGIN:VEVENT
DTSTART;TZID=Europe/London:20260125T190000
DTEND;TZID=Europe/London:20260125T220000
DTSTAMP:20260424T084556
CREATED:20260120T071006Z
LAST-MODIFIED:20260125T071002Z
UID:127890-1769367600-1769378400@keepcolchestercool.co.uk
SUMMARY:EAFC X QSB // Burns Night Event
DESCRIPTION:Tickets £12 (includes your first wee dram…Non alcoholic drams available) \nhttps://www.eventbrite.com/e/eafc-x-qsb-burns-night-tickets-1976887894910?utm-campaign=social&utm-content=attendeeshare&utm-medium=discovery&utm-term=listing&utm-source=cp&aff=ebdsshcopyurl \nHold the date as we bring our own very special folk soaked version of Burns Night celebration to our wonderful local pub\, Queen St Brewhouse. \nFEATURING THE FINE TALENTS OF \nAlice De Lumiere \nBethan Briggs-Miller \n& \nEthel Fled \n……………………… \nWith a Headline Set from THE MEDLARS \n……………………… \nAll capped off with a singaround of seasonal tunes led by Lizzie! \n……………………… \nWith More Entertainments to be Confirmed! \nBook for the pre show dinner directly with The Commons Cafe! \nPLEASE NOTE WE DO NOT FREQUENT THE FACEBOOK PAGE VERY OFTEN SO PLEASE EMAIL US WITH ANY QUESTIONS. eastanglianfolklorecentre@gmail.com
URL:https://keepcolchestercool.co.uk/event/eafc-x-qsb-burns-night-event/
LOCATION:Queen St Brewhouse\, 7 - 9 Queen Street\, Colchester\, CO1 2PG\, GB
END:VEVENT
BEGIN:VEVENT
DTSTART;TZID=Europe/London:20260125T193000
DTEND;TZID=Europe/London:20260125T213000
DTSTAMP:20260424T084556
CREATED:20251030T071101Z
LAST-MODIFIED:20260125T071003Z
UID:127026-1769369400-1769376600@keepcolchestercool.co.uk
SUMMARY:Clark Tracey's The Jazz Champions. “A veritable band of grown ups at their best.” - The Jazz Rag
DESCRIPTION:“For me\, Tracey is a world-class musician whose mature and distinctive artistry is right up there with the likes of Philly Joe Jones and Roy Haynes.” – Jazz Journal \nAn award-winning drummer\, bandleader\, composer\, and arranger who originally performed with his late\, great father\, Stan Tracey (CBE)\, Clark Tracey has gone on to establish himself in his own right as one of the country’s leading modern jazz drummers.​A five-time winner of the Best Drummer category in the British Jazz Awards\, Clark has built a reputation since the early 80s as someone who could spot future jazz stars; Guy Barker\, Alex Ridout\, Daniel Casimir\, Zoe Rahman\, and Mark Armstrong are just a few whose talent he nurtured. \nAwarded the British Empire Medal (BEM) in the 2019 Birthday Honours for services to music and the promotion of jazz\, Clark’s latest group\, The Jazz Champions\, features a stellar line-up of well-respected top-drawer musicians from the UK jazz scene with CVs to match: saxophonists Art Themen and Simon Allen\, pianist David Newton\, and double bassist Andrew Cleyndert. \nFormed in April 2024\, The Jazz Champions will perform tunes from their recently released CD\, Sound For Sore Ears\, along with an assortment of Stan Tracey favourites. \nA superb evening’s music is promised by this quintet of outstanding musicians.
URL:https://keepcolchestercool.co.uk/event/clark-traceys-the-jazz-champions-a-veritable-band-of-grown-ups-at-their-best-the-jazz-rag/
LOCATION:Wivenhoe Congregational Church\, 101 High Street\, CO7 9AB Wivenhoe\, United Kingdom\, Wivenhoe Congregational Church\, 101 High Street\, CO7 9AB Wivenhoe\, United Kingdom
ORGANIZER;CN="The Music Mix Wivenhoe":MAILTO:noreply@facebookmail.com
END:VEVENT
BEGIN:VEVENT
DTSTART;TZID=Europe/London:20260125T193000
DTEND;TZID=Europe/London:20260125T213000
DTSTAMP:20260424T084556
CREATED:20260113T071019Z
LAST-MODIFIED:20260119T071006Z
UID:127769-1769369400-1769376600@keepcolchestercool.co.uk
SUMMARY:Clark Tracey's Jazz Champions. “A veritable band of grown ups at their best.” - The Jazz Rag
DESCRIPTION:“For me\, Tracey is a world-class musician whose mature and distinctive artistry is right up there with the likes of Philly Joe Jones and Roy Haynes.” – Jazz Journal \nPrepare yourself for a cracking evening’s jazz\, courtesy ofaward-winning drummer\, bandleader\, composer\, and arranger Clark Tracey and his Jazz Champions!  \nClark\, who originally performed with his late\, great father\, Stan Tracey (CBE)\, has gone on to establish himself in his own right as one of the country’s leading modern jazz drummers.​A five-time winner of the Best Drummer category in the British Jazz Awards\, Clark has built a reputation since the early 80s as someone who could spot future jazz stars; Guy Barker\, Alex Ridout\, Daniel Casimir\, Zoe Rahman\, and Mark Armstrong are just a few whose talent he nurtured. \nAwarded the British Empire Medal (BEM) in the 2019 Birthday Honours for services to music and the promotion of jazz\, Clark’s latest group\, The Jazz Champions\, features a stellar line-up of world-class musicians from the UK jazz scene with CVs to match: saxophonists Art Themen and Simon Allen\, pianist David Newton\, and double bassist Andrew Cleyndert. \nFormed in April 2024\, The Jazz Champions will perform tunes from their recently released CD\, Sound For Sore Ears\, along with an assortment of Stan Tracey favourites. \nA superb evening’s music is promised by this quintet of outstanding musicians.
URL:https://keepcolchestercool.co.uk/event/clark-traceys-jazz-champions-a-veritable-band-of-grown-ups-at-their-best-the-jazz-rag/
LOCATION:Wivenhoe Congregational Church\, 101 High Street\, Colchester\, CO7 9AB\, GB
ORGANIZER;CN="Steve Wright":MAILTO:noreply@facebookmail_com
END:VEVENT
BEGIN:VEVENT
DTSTART;TZID=Europe/London:20260125T193000
DTEND;TZID=Europe/London:20260125T213000
DTSTAMP:20260424T084556
CREATED:20260113T071020Z
LAST-MODIFIED:20260125T071003Z
UID:127770-1769369400-1769376600@keepcolchestercool.co.uk
SUMMARY:Clark Tracey's Jazz Champions @ The Music Mix
DESCRIPTION:Prepare yourself for a cracking evening’s jazz\, courtesy ofaward-winning drummer\, bandleader\, composer\, and arranger Clark Tracey and his Jazz Champions!  \nClark\, who originally performed with his late\, great father\, Stan Tracey (CBE)\, has gone on to establish himself in his own right as one of the country’s leading modern jazz drummers.​A five-time winner of the Best Drummer category in the British Jazz Awards\, Clark has built a reputation since the early 80s as someone who could spot future jazz stars; Guy Barker\, Alex Ridout\, Daniel Casimir\, Zoe Rahman\, and Mark Armstrong are just a few whose talent he nurtured. \nAwarded the British Empire Medal (BEM) in the 2019 Birthday Honours for services to music and the promotion of jazz\, Clark’s latest group\, The Jazz Champions\, features a stellar line-up of well-respected top-drawer musicians from the UK jazz scene with CVs to match: Art Themen\, Simon Allen\, David Newton\, and Andrew Cleyndert. \nFormed in April 2024\, the Jazz Championswill perform tunes from their recently released CD Sound For Sore Ears\, along with an assortment of Stan Tracey favourites.
URL:https://keepcolchestercool.co.uk/event/clark-traceys-jazz-champions-the-music-mix/
LOCATION:Wivenhoe Congregational Church\, 101 High Street\, Colchester\, CO7 9AB\, GB
ORGANIZER;CN="Steve Wright":MAILTO:noreply@facebookmail_com
END:VEVENT
BEGIN:VEVENT
DTSTART;TZID=Europe/London:20260125T193000
DTEND;TZID=Europe/London:20260125T223000
DTSTAMP:20260424T084556
CREATED:20260115T071051Z
LAST-MODIFIED:20260125T071003Z
UID:127861-1769369400-1769380200@keepcolchestercool.co.uk
SUMMARY:Phil Nichol: Trying My Best
DESCRIPTION:Tickets £16.50.Doors open 7pm\, starts 7.30pm. \nPhil has been getting better at comedy since March 1987. One of these days he may just get it right. Until then Phil just keeps trying. If at first you don’t succeed\, try and try your best. This is a tour of Phil\, trying his best! \nThe Metro ***** The Herald ***** The Scotsman *****
URL:https://keepcolchestercool.co.uk/event/phil-nichol-trying-my-best/
LOCATION:Church St\, CO1 1NF Colchester\, United Kingdom
ORGANIZER;CN="Colchester Arts Centre":MAILTO:noreply@facebookmail_com
END:VEVENT
BEGIN:VEVENT
DTSTART;TZID=Europe/London:20260125T193000
DTEND;TZID=Europe/London:20260125T223000
DTSTAMP:20260424T084556
CREATED:20260122T071042Z
LAST-MODIFIED:20260125T071003Z
UID:127948-1769369400-1769380200@keepcolchestercool.co.uk
SUMMARY:KEEP THE HOME FIRES BURNING -BURNS NIGHT EVENT
DESCRIPTION:A wonderful Burns Night event\, organised by @east_anglian_folklore_centre at Queen Street Brewhouse on 25th January. If you would like to enjoy some vegan Haggis accompanied with Neeps and Tatties and Whisky Cream Sauce\, we will be serving just that at The Commons between 6pm to 7.30pm\, £10 per head. To book your Burns Night Supper please pop in to the cafe before 22nd January to place your order.
URL:https://keepcolchestercool.co.uk/event/keep-the-home-fires-burning-burns-night-event/
LOCATION:7 Queen Street\, Colchester\, CO1 2PG\, United Kingdom\, 7 Queen Street\, Colchester\, CO1 2PG\, United Kingdom
ORGANIZER;CN="Queen St Brewhouse":MAILTO:noreply@facebookmail_com
END:VEVENT
END:VCALENDAR