BEGIN:VCALENDAR
VERSION:2.0
PRODID:-//Keep Colchester Cool - ECPv6.15.20//NONSGML v1.0//EN
CALSCALE:GREGORIAN
METHOD:PUBLISH
X-ORIGINAL-URL:https://keepcolchestercool.co.uk
X-WR-CALDESC:Events for Keep Colchester Cool
REFRESH-INTERVAL;VALUE=DURATION:PT1H
X-Robots-Tag:noindex
X-PUBLISHED-TTL:PT1H
BEGIN:VTIMEZONE
TZID:Europe/London
BEGIN:DAYLIGHT
TZOFFSETFROM:+0000
TZOFFSETTO:+0100
TZNAME:BST
DTSTART:20250330T010000
END:DAYLIGHT
BEGIN:STANDARD
TZOFFSETFROM:+0100
TZOFFSETTO:+0000
TZNAME:GMT
DTSTART:20251026T010000
END:STANDARD
BEGIN:DAYLIGHT
TZOFFSETFROM:+0000
TZOFFSETTO:+0100
TZNAME:BST
DTSTART:20260329T010000
END:DAYLIGHT
BEGIN:STANDARD
TZOFFSETFROM:+0100
TZOFFSETTO:+0000
TZNAME:GMT
DTSTART:20261025T010000
END:STANDARD
BEGIN:DAYLIGHT
TZOFFSETFROM:+0000
TZOFFSETTO:+0100
TZNAME:BST
DTSTART:20270328T010000
END:DAYLIGHT
BEGIN:STANDARD
TZOFFSETFROM:+0100
TZOFFSETTO:+0000
TZNAME:GMT
DTSTART:20271031T010000
END:STANDARD
END:VTIMEZONE
BEGIN:VEVENT
DTSTART;TZID=Europe/London:20260126T180000
DTEND;TZID=Europe/London:20260126T210000
DTSTAMP:20260424T062357
CREATED:20251118T071035Z
LAST-MODIFIED:20260126T071031Z
UID:127254-1769450400-1769461200@keepcolchestercool.co.uk
SUMMARY:Battle of the Bands Heat 1 – Guest Judge Ghost Week
DESCRIPTION:Sign-up sheet: https://forms.gle/vJQsx3Sj8gfkoy8M6 \nEvent: Battle of the Bands \nLocation: Three Wise Monkeys\, Colchester Top Floor \nDates:– Heat 1: Monday\, 26th January 2026: Ghost Week– Heat 2: Tuesday\, 27th January 2026 PULSE– Heat 3: Wednesday\, 28th January 2026 GREEBO \nTime: 6:00 PM – 8:45 PM (No under 18s allowed after 9:00 PM)Ticket Price: £4 (includes £1 donation to the Brightlingsea Free Festival) \nOverview:TWM Live invites artists under 18 to participate in this exciting nationwide event as part of Independent Venue Week 2026. This is a fantastic opportunity for young musicians to gain exposure and showcase their talents in a supportive environment. \nEvent Structure:Each heat will feature one of Colchester’s local bands hosting the night and closing with a small set. \nPrize Information:– 1st Place: Opens the stage at the Brightlingsea Free Festival (up to 4\,000 attendees)\, receives 60% of door money (after donation)\, a full day in the studio\, and a mixed and mastered single at Black Cactus Studio.– 2nd Place: 30% of door money.– 3rd Place: 10% of door money.– Wild Card: An additional band will be selected to perform at Meff Fest 3\, a local punk festival. \nRequirements:All bands must arrive by 5 PM. A random draw will determine performance order. Backline equipment will be provided\, including a drum kit\, guitar amps\, and a bass amp. \nWelfare Policy:The safety of young attendees is paramount. Under 16s must be accompanied by an adult. A strict Challenge 25 policy will be enforced at the door\, and first aid-trained staff will be present. \nAccessibility:The venue is on the top floor with no lift access\, requiring five short flights of stairs. \nRefund Policy:No refunds will be processed within 7 days of the event. \nContact:For inquiries\, contact AJ at twmlive@pasinileisure.com. \nStay Updated:Keep an eye on our website and social media for updates.Ticket Link for Heat 1: https://ticketscandy.com/e/battle-of-the-bands-heat-1-guest-judge-ghost-week-13551Ticket Link for Heat 2: https://ticketscandy.com/e/battle-of-the-bands-heat-2-guest-judge-pulse-13552Ticket Link for Heat 3: https://ticketscandy.com/e/battle-of-the-bands-heat-3-guest-judge-greebo-13553 \nWe look forward to seeing many talented young artists at the Battle of the Bands!
URL:https://keepcolchestercool.co.uk/event/battle-of-the-bands-heat-1-guest-judge-ghost-week/
LOCATION:60 High Street\, CO1 1DN Colchester\, United Kingdom\, 60 High Street\, CO1 1DN Colchester\, United Kingdom
ORGANIZER;CN="Three Wise Monkeys Colchester":MAILTO:noreply@facebookmail_com
END:VEVENT
BEGIN:VEVENT
DTSTART;TZID=Europe/London:20260126T193000
DTEND;TZID=Europe/London:20260126T223000
DTSTAMP:20260424T062357
CREATED:20260115T071052Z
LAST-MODIFIED:20260126T071032Z
UID:127862-1769455800-1769466600@keepcolchestercool.co.uk
SUMMARY:An Audience Without Jake Thackray
DESCRIPTION:Tickets £12 / £11 concessions.Doors open 7.30pm\, starts 8pm. \nThis show is for a seated audience. \nJohn Watterson is delighted to bring his show to Colchester Folk Club – ‘An Audience without Jake Thackray’. \nThe show will include many Jake classics (Sister Josephine\, On Again On Again\, The Bantam Cock etc)\, anecdotes from John’s research into Jake’s life for the forthcoming biography as well as some newly discovered Jake Thackray masterpieces from John’s most recent CD\, The Lost Will and Testament of Jake Thackray. Most of the album’s fifteen songs have never been released in any format before. Many have lain\, forgotten\, in the BBC archives for decades; some have not been heard for half a century. \nLeeds-born Jake Thackray (1938-2002) is increasingly recognised as being one of the greatest English songwriters of the twentieth century\, a unique talent\, whose songs are full of poetry\, wit\, irreverence and humanity. He became known to millions through his regular appearances in the 1960s and 1970s on programmes such as Braden’s Week and That’s Life. During his career he performed over 1000 times on television and radio\, performed for the royal family and toured the world. His distinctive appearance\, deadpan delivery\, talent for storytelling\, clever wordplay\, occasional\, artful use of vulgarity and surreal imagination delighted many viewers and outraged some. \nSince his death in obscurity there has been growing recognition of his genius and a resurgence of interest in his work. His admirers include Jarvis Cocker\, Alex Turner\, Don Black\, Thea Gilmore\, Cerys Matthews\, and Benjamin Clementine. \nJohn Watterson is the UK’s leading performer of Jake’s songs. As Fake Thackray he has toured with Fairport Convention and performed at Latitude\, Cropredy and the Edinburgh Fringe Festivals. He has also played for Jake’s family. \nJohn has appeared many times on radio\, including Radio 4’s Great Lives\, a recent Radio 2 documentary on Jake presented by Cerys Matthews and Radio 3’s The Verb hosted by Ian McMillan.
URL:https://keepcolchestercool.co.uk/event/an-audience-without-jake-thackray/
LOCATION:Church St\, CO1 1NF Colchester\, United Kingdom
ORGANIZER;CN="Colchester Arts Centre":MAILTO:noreply@facebookmail_com
END:VEVENT
END:VCALENDAR