BEGIN:VCALENDAR
VERSION:2.0
PRODID:-//Keep Colchester Cool - ECPv6.15.20//NONSGML v1.0//EN
CALSCALE:GREGORIAN
METHOD:PUBLISH
X-WR-CALNAME:Keep Colchester Cool
X-ORIGINAL-URL:https://keepcolchestercool.co.uk
X-WR-CALDESC:Events for Keep Colchester Cool
REFRESH-INTERVAL;VALUE=DURATION:PT1H
X-Robots-Tag:noindex
X-PUBLISHED-TTL:PT1H
BEGIN:VTIMEZONE
TZID:Europe/London
BEGIN:DAYLIGHT
TZOFFSETFROM:+0000
TZOFFSETTO:+0100
TZNAME:BST
DTSTART:20250330T010000
END:DAYLIGHT
BEGIN:STANDARD
TZOFFSETFROM:+0100
TZOFFSETTO:+0000
TZNAME:GMT
DTSTART:20251026T010000
END:STANDARD
BEGIN:DAYLIGHT
TZOFFSETFROM:+0000
TZOFFSETTO:+0100
TZNAME:BST
DTSTART:20260329T010000
END:DAYLIGHT
BEGIN:STANDARD
TZOFFSETFROM:+0100
TZOFFSETTO:+0000
TZNAME:GMT
DTSTART:20261025T010000
END:STANDARD
BEGIN:DAYLIGHT
TZOFFSETFROM:+0000
TZOFFSETTO:+0100
TZNAME:BST
DTSTART:20270328T010000
END:DAYLIGHT
BEGIN:STANDARD
TZOFFSETFROM:+0100
TZOFFSETTO:+0000
TZNAME:GMT
DTSTART:20271031T010000
END:STANDARD
END:VTIMEZONE
BEGIN:VEVENT
DTSTART;TZID=Europe/London:20260128T120000
DTEND;TZID=Europe/London:20260128T140000
DTSTAMP:20260424T065403
CREATED:20260105T071016Z
LAST-MODIFIED:20260128T070958Z
UID:127607-1769601600-1769608800@keepcolchestercool.co.uk
SUMMARY:SPACE: Peer-to-Peer (in person)
DESCRIPTION:The SPACE Peer-to-Peer sessions are a space for sharing work in progress\, peer support and feedback and networking. \nThe sessions are open to all creatives and are free to attend.
URL:https://keepcolchestercool.co.uk/event/space-peer-to-peer-in-person-4/
LOCATION:37 queen street\, CO1 2PQ Colchester\, United Kingdom\, 37 queen street\, CO1 2PQ Colchester\, United Kingdom
ORGANIZER;CN="37 QUEEN ST":MAILTO:noreply@facebookmail.com
END:VEVENT
BEGIN:VEVENT
DTSTART;TZID=Europe/London:20260128T120000
DTEND;TZID=Europe/London:20260128T223000
DTSTAMP:20260424T065403
CREATED:20251125T071027Z
LAST-MODIFIED:20260128T070959Z
UID:127309-1769601600-1769639400@keepcolchestercool.co.uk
SUMMARY:17th Colchester Winter Ale Festival
DESCRIPTION:80+ real ales\, real cider and more. Full details at https://colchesterbeerfestivals.co.uk/ \nhttps://www.facebook.com/events/1828805534415952/?event_time_id=1828805541082618
URL:https://keepcolchestercool.co.uk/event/17th-colchester-winter-ale-festival/
LOCATION:Colchester Arts Centre\, Colchester Arts Centre
ORGANIZER;CN="Colchester and North East Essex CAMRA":MAILTO:noreply@facebookmail_com
END:VEVENT
BEGIN:VEVENT
DTSTART;TZID=Europe/London:20260128T180000
DTEND;TZID=Europe/London:20260128T210000
DTSTAMP:20260424T065403
CREATED:20251118T071035Z
LAST-MODIFIED:20260128T070959Z
UID:127255-1769623200-1769634000@keepcolchestercool.co.uk
SUMMARY:Battle of the Bands Heat 3 – Guest Judge GREEBO
DESCRIPTION:Sign-up sheet: https://forms.gle/vJQsx3Sj8gfkoy8M6 \nEvent: Battle of the Bands \nLocation: Three Wise Monkeys\, Colchester Top Floor \nDates:– Heat 1: Monday\, 26th January 2026: Ghost Week– Heat 2: Tuesday\, 27th January 2026 PULSE– Heat 3: Wednesday\, 28th January 2026 GREEBO \nTime: 6:00 PM – 8:45 PM (No under 18s allowed after 9:00 PM)Ticket Price: £4 (includes £1 donation to the Brightlingsea Free Festival) \nOverview:TWM Live invites artists under 18 to participate in this exciting nationwide event as part of Independent Venue Week 2026. This is a fantastic opportunity for young musicians to gain exposure and showcase their talents in a supportive environment. \nEvent Structure:Each heat will feature one of Colchester’s local bands hosting the night and closing with a small set. \nPrize Information:– 1st Place: Opens the stage at the Brightlingsea Free Festival (up to 4\,000 attendees)\, receives 60% of door money (after donation)\, a full day in the studio\, and a mixed and mastered single at Black Cactus Studio.– 2nd Place: 30% of door money.– 3rd Place: 10% of door money.– Wild Card: An additional band will be selected to perform at Meff Fest 3\, a local punk festival. \nRequirements:All bands must arrive by 5 PM. A random draw will determine performance order. Backline equipment will be provided\, including a drum kit\, guitar amps\, and a bass amp. \nWelfare Policy:The safety of young attendees is paramount. Under 16s must be accompanied by an adult. A strict Challenge 25 policy will be enforced at the door\, and first aid-trained staff will be present. \nAccessibility:The venue is on the top floor with no lift access\, requiring five short flights of stairs. \nRefund Policy:No refunds will be processed within 7 days of the event. \nContact:For inquiries\, contact AJ at twmlive@pasinileisure.com. \nStay Updated:Keep an eye on our website and social media for updates.Ticket Link for Heat 1: https://ticketscandy.com/e/battle-of-the-bands-heat-1-guest-judge-ghost-week-13551Ticket Link for Heat 2: https://ticketscandy.com/e/battle-of-the-bands-heat-2-guest-judge-pulse-13552Ticket Link for Heat 3: https://ticketscandy.com/e/battle-of-the-bands-heat-3-guest-judge-greebo-13553 \nWe look forward to seeing many talented young artists at the Battle of the Bands!
URL:https://keepcolchestercool.co.uk/event/battle-of-the-bands-heat-3-guest-judge-greebo/
LOCATION:60 High Street\, CO1 1DN Colchester\, United Kingdom\, 60 High Street\, CO1 1DN Colchester\, United Kingdom
ORGANIZER;CN="Three Wise Monkeys Colchester":MAILTO:noreply@facebookmail_com
END:VEVENT
BEGIN:VEVENT
DTSTART;TZID=Europe/London:20260128T190000
DTEND;TZID=Europe/London:20260128T230000
DTSTAMP:20260424T065403
CREATED:20260127T071052Z
LAST-MODIFIED:20260128T070959Z
UID:128094-1769626800-1769641200@keepcolchestercool.co.uk
SUMMARY:ONE PIECE Store Tournament Event
DESCRIPTION:ONE PIECE Store Tournament Event. This is our first of many One Piece events. We hope to keep this on the calendar so come and show your support for this super not so new now TCG\, \nThis is an event were you will need to bring along your own One Piece decks to battle it out in an amount of rounds that are using the best of 3 format. Rounds will last 50mins each. \nPrize SupportEveryone gets a store tournament 2025 pack & booster for coming and 1st place gets a foil tournament 2025 pack. Not only that but addition booster will be put into the prize pot for every player that enters. \nStart time: 7pmCost £10.00 \nPlease note all of these events have limited spaces of 24\, so to avoid missing out please either click attend on this event\, come in and speak to a member of staff of call us on 01206 561912 to make sure you don’t miss out.
URL:https://keepcolchestercool.co.uk/event/one-piece-store-tournament-event/
LOCATION:ACE Comics\, 42 Culver Street East\, Colchester\, CO1 1LE\, GB
ORGANIZER;CN="Glenn Richardson":MAILTO:noreply@facebookmail_com
END:VEVENT
BEGIN:VEVENT
DTSTART;TZID=Europe/London:20260128T193000
DTEND;TZID=Europe/London:20260128T223000
DTSTAMP:20260424T065403
CREATED:20260105T071017Z
LAST-MODIFIED:20260128T070959Z
UID:127608-1769628600-1769639400@keepcolchestercool.co.uk
SUMMARY:Open Mic Comedy Night @ Dice & a Slice
DESCRIPTION:Open Mic Comedy at Dice & a Slice! FREE ENTRY!  \nApply to perform at the link below \nhttps://forms.gle/CCNgZn2DrZx2h4Hp6
URL:https://keepcolchestercool.co.uk/event/open-mic-comedy-night-dice-a-slice/
LOCATION:Dice & A Slice\, 37 Queen Street\, Colchester\, CO1 2PQ\, GB
ORGANIZER;CN="Dice &amp%3B a Slice":MAILTO:noreply@facebookmail_com
END:VEVENT
END:VCALENDAR