BEGIN:VCALENDAR
VERSION:2.0
PRODID:-//Keep Colchester Cool - ECPv6.15.20//NONSGML v1.0//EN
CALSCALE:GREGORIAN
METHOD:PUBLISH
X-WR-CALNAME:Keep Colchester Cool
X-ORIGINAL-URL:https://keepcolchestercool.co.uk
X-WR-CALDESC:Events for Keep Colchester Cool
REFRESH-INTERVAL;VALUE=DURATION:PT1H
X-Robots-Tag:noindex
X-PUBLISHED-TTL:PT1H
BEGIN:VTIMEZONE
TZID:Europe/London
BEGIN:DAYLIGHT
TZOFFSETFROM:+0000
TZOFFSETTO:+0100
TZNAME:BST
DTSTART:20250330T010000
END:DAYLIGHT
BEGIN:STANDARD
TZOFFSETFROM:+0100
TZOFFSETTO:+0000
TZNAME:GMT
DTSTART:20251026T010000
END:STANDARD
BEGIN:DAYLIGHT
TZOFFSETFROM:+0000
TZOFFSETTO:+0100
TZNAME:BST
DTSTART:20260329T010000
END:DAYLIGHT
BEGIN:STANDARD
TZOFFSETFROM:+0100
TZOFFSETTO:+0000
TZNAME:GMT
DTSTART:20261025T010000
END:STANDARD
BEGIN:DAYLIGHT
TZOFFSETFROM:+0000
TZOFFSETTO:+0100
TZNAME:BST
DTSTART:20270328T010000
END:DAYLIGHT
BEGIN:STANDARD
TZOFFSETFROM:+0100
TZOFFSETTO:+0000
TZNAME:GMT
DTSTART:20271031T010000
END:STANDARD
END:VTIMEZONE
BEGIN:VEVENT
DTSTART;TZID=Europe/London:20260129T170000
DTEND;TZID=Europe/London:20260129T200000
DTSTAMP:20260424T065335
CREATED:20260105T071017Z
LAST-MODIFIED:20260129T071008Z
UID:127609-1769706000-1769716800@keepcolchestercool.co.uk
SUMMARY:Curry Night
DESCRIPTION:Join us on the last Thursday of every month at Other Monkey Brewing – The Taproom for a night of incredible flavours and craft beer. January is all about the Tikka – A rich\, mild and comforting flavour profile\, with a vibrant orange colour. Despite having Indian roots it’s widely considered a British national dish. Sides; naan\, popadom\, onion\, tomato & coriander salad\, chutney \nPair your meal with a pint of our signature Other Monkey Brewing beer\, freshly brewed right here on-site. All of this comes together for just £12.50 per person! \nWhether you’re a curry connoisseur or just love great food and beer\, this is an event you won’t want to miss. \nEvent Details:Date: Last Thursday of Every MonthTime: 5pm – 9pmLocation: Other Monkey Brewing – The TaproomPrice: £12.50 per person \nBook by selecting the date of the curry night and choosing curry booking. Vegan options are available
URL:https://keepcolchestercool.co.uk/event/curry-night-9/
LOCATION:5-6 St Nicholas St\, CO1 1LB Colchester\, United Kingdom\, 5-6 St Nicholas St\, CO1 1LB Colchester\, United Kingdom
ORGANIZER;CN="Other Monkey Brewing - The Taproom":MAILTO:noreply@facebookmail_com
END:VEVENT
BEGIN:VEVENT
DTSTART;TZID=Europe/London:20260129T180000
DTEND;TZID=Europe/London:20260129T210000
DTSTAMP:20260424T065335
CREATED:20260122T071043Z
LAST-MODIFIED:20260129T071010Z
UID:127949-1769709600-1769720400@keepcolchestercool.co.uk
SUMMARY:Author Event: A Life of Crime with crime writer Mike Ripley
DESCRIPTION:A Life of Crime \nIn conversation with author Mike Ripley\, over a glass of wine. Mike Ripley wrote his first novelon the train whilst commuting between Colchester and London. He has written a further 31 novels\, two works of non-fiction and a collection of short stories\, was a scriptwriter for the BBC series Lovejoy and edited two volumes of stories from the cult television series Callan. \nMike won the Last Laugh Award for comedy crime writing three times\, the Angel Award for East Anglian writers\, a Sherlock Award and the H.R.F. Keating Award for non-fiction\, for his history of British thrillers. He has appeared on stage for live audiences with\, among others: Colin Dexter\, Minette Walters\, Stella Rimington\, Sir Ian Rankin and Lee Child. As editor\, he re-published more than a hundred crime novels and thrillers which had gone out of print for Colchester publisher Ostara\, and developed a creative crime-writing course for the adult education department of Cambridge University. From 1989 to 2000 he was the crime fiction critic for the Daily Telegraph and from 2000 to 2008 for the Birmingham Post. He has also written on crime fiction for The Observer\, The Timesand The Guardian and for Radio 4.
URL:https://keepcolchestercool.co.uk/event/author-event-a-life-of-crime-with-crime-writer-mike-ripley/
LOCATION:125 High Street\, CO1 1SZ Colchester\, United Kingdom\, 125 High Street\, CO1 1SZ Colchester\, United Kingdom
ORGANIZER;CN="Red Lion Books":MAILTO:noreply@facebookmail_com
END:VEVENT
BEGIN:VEVENT
DTSTART;TZID=Europe/London:20260129T190000
DTEND;TZID=Europe/London:20260129T210000
DTSTAMP:20260424T065335
CREATED:20260120T071009Z
LAST-MODIFIED:20260129T071010Z
UID:127892-1769713200-1769720400@keepcolchestercool.co.uk
SUMMARY:Life Drawing - Thursday\, 29th January 2026
DESCRIPTION:We are a local life drawing group in Colchester. We meet up for untutored drawings with professional models from all backgrounds. \nAll abilities are welcome. Just drop in\, draw and pay £10 cash for the session. \nDrawing boards\, easels\, papers\, charcoal and pencils are provided for free or bring your materials. \nAccessible venue. \nLocation: Straight Road Community Centre329 Straight Road\, Colchester\, CO3 9EF
URL:https://keepcolchestercool.co.uk/event/life-drawing-thursday-29th-january-2026/
LOCATION:Straight Road Community Centre\, Straight Road Community Centre
ORGANIZER;CN="Jay Seram":MAILTO:noreply@facebookmail_com
END:VEVENT
BEGIN:VEVENT
DTSTART;TZID=Europe/London:20260129T190000
DTEND;TZID=Europe/London:20260129T213000
DTSTAMP:20260424T065335
CREATED:20251125T071028Z
LAST-MODIFIED:20260129T071010Z
UID:127310-1769713200-1769722200@keepcolchestercool.co.uk
SUMMARY:Wivenhoe Funny Farm 7.30pm start!
DESCRIPTION:Booking info at bottom of this post.  \nThursday 29th January 7.30pm to 9.30pm – back at Wivenhoe Bowls Club – doors 7pm (please use Woodland Way entrance) \nTop notch live stand-up comedy from Andrew O’Neill“One of the funniest comics on the circuit today” – TimeOut \n“Thrillingly good comedy – it flies at you\, picks you up\, takes you into its world\, makes you laugh\, makes you think\, makes you feel\, makes you care.” Scotsman \nSupport: \nBlank PengBlank Peng is an incognito bilingual stand-up comic. She started performing stand-up in Mandarin and began performing in English after coming to the UK.In just one year\, she became the first female winner of the Top Secret Comedy Gong\, King Gong\, Rising Star New Act Competition 2022\, Finalist of Leicester New Comedian of the Year\, West End New Act Runner-up\, Semi-finalist of Komedia Comedy Awards\, Bath Festival New Act Competition Nominee and her star is set to rise on the very near future! \nand Pat Smith \nMC Hazel Humphreys​ \nPlease read!ALL BOOKINGS NEED TO BE CONFIRMED VIA HAZEL – email – FUNNYFARMCOMEDY@GMAIL.COM \nPLEASE PAY IN ADVANCE unless agreed with us. \nWe will be asking for donations to help pay acts for reservations. Recommended £8.50 donation per seat booked (£7 concessions) but whatever you can manage. \nThis is an indoor gig at Wivenhoe Bowls Club starting 7.30pm (doors 7pm)\, there is limited seating available. Please book tables.  \nWe will be requesting donations for table reservations in order to help us pay our professional acts. This would be preferable via BACs in advance.  \nThis is a cracking comedy line-up with pro comics and the Funny Farm needs the audience’s help in covering the costs.  \nI’ve been asked by the Bowls Club to ask people to not form large queues at the bar and if possible return empty glasses at the end of the night. Done x
URL:https://keepcolchestercool.co.uk/event/wivenhoe-funny-farm-7-30pm-start-3/
LOCATION:Wivenhoe Bowls Club\, Woodland Way\, Colchester\, CO79\, GB
ORGANIZER;CN="Wivenhoe Funny Farm":MAILTO:noreply@facebookmail_com
END:VEVENT
BEGIN:VEVENT
DTSTART;TZID=Europe/London:20260129T190000
DTEND;TZID=Europe/London:20260129T223000
DTSTAMP:20260424T065335
CREATED:20251008T071101Z
LAST-MODIFIED:20260129T071011Z
UID:126462-1769713200-1769725800@keepcolchestercool.co.uk
SUMMARY:NOW! That's What I Call...DRAG! Colchester! IVW 2026
DESCRIPTION:Do you love all things drag?! Well strut right up because “NOW! That’s What I Call…DRAG!” is BACK for their first show of 2026 bringing you a gorgeous night of drag in COLCHESTER at the iconic Three Wise Monkeys! Serving up a classic slice of British drag cabaret\, expect fabulous lip synching\, live vocals\, camp comedy\, audience games and of course…CHAOS! \nHosted by East Anglia’s dynamic drag duo Knuckle Sandwich and Will Power (with special guests TBA!) you’ll be in for the night of your lives! After 2 years of sold out shows\, you won’t want to miss the big return of East Anglia’s ICONIC drag cabaret night! So put on those lashes\, pack on that glitter and get ready for the drag mixtape to begin! Trust us\, you won’t want it to end! \nThis event is seated\, with standing room available! Seating is first come\, first served! Please note the venue is upstairs and unfortunately\, is not wheelchair accessible. \nDoors at 7pm! Show at 7.45pm(ish)! \nThere will be limited tickets available on the door at £13 each \nPlease note: We unfortunately do not offer refunds – please message if you have any questions! \nNOTE: “NOW! That’s What I Call…DRAG!” is a queer led Drag Cabaret show\, and we strive to welcome all audiences into our events! We have a ZERO tolerance policy towards homophobia\, transphobia and all forms of abuse. The performers and the audiences deserve your respect at all times. If you do not respect everyone\, you will be asked to leave. \nWe kindly ask that ANY hen or stag party wanting to attend MUST message in advance of tickets being purchased. We reserve the right to refuse admittance if there is no prior contact\, and refunds will not be issued. Thank you.
URL:https://keepcolchestercool.co.uk/event/now-thats-what-i-call-drag-colchester/
LOCATION:Three Wise Monkeys Colchester
ORGANIZER;CN="Knuckle Sandwich":MAILTO:noreply@facebookmail_com
END:VEVENT
BEGIN:VEVENT
DTSTART;TZID=Europe/London:20260129T190000
DTEND;TZID=Europe/London:20260129T223000
DTSTAMP:20260424T065335
CREATED:20260105T071017Z
LAST-MODIFIED:20260129T071011Z
UID:127610-1769713200-1769725800@keepcolchestercool.co.uk
SUMMARY:Cancelled. Apologies. Moody Cow Paint Evening in Colchester
DESCRIPTION:A brand new highland cow comes to Colchester at Artsy Image.No experience necessary.Come along and have lots of fun creating something you didn’t think possible.
URL:https://keepcolchestercool.co.uk/event/moody-cow-paint-evening-in-colchester/
LOCATION:Artsy Image\, Artsy Image
END:VEVENT
BEGIN:VEVENT
DTSTART;TZID=Europe/London:20260129T193000
DTEND;TZID=Europe/London:20260129T203000
DTSTAMP:20260424T065335
CREATED:20260113T071026Z
LAST-MODIFIED:20260129T071011Z
UID:127772-1769715000-1769718600@keepcolchestercool.co.uk
SUMMARY:A Two Woman Hamlet
DESCRIPTION:It’s Hamlet\, but not as you know it. Two women (and a skull) take on 23 roles between them in 60 minutes\, in a spectacularly fun and surprisingly moving theatrical event. This is an unpretentious adaptation\, with joys in it for those familiar with Hamlet and those new to the story.  \nFollowing the critical success of the original production by Sherman and Friends at the Capitol Fringe (Washington\, DC\, 2018) and Edinburgh Fringe (2022)\, The Yorickans developed a fresh take on this irreverent adaptation for a sold-out run at Colchester’s Lakeside Theatre in March 2025. \nThe team then took the show on tour\, performing at the Camden and Colchester Fringe Festivals and the Wickham Theatre in Bristol last year. The Yorickans are delighted to bring the show back to its home turf\, now with the two original principal actors (Sharmila Peake and Deanna Strasse) switching over to the other track. \nFun\, fast-paced and with a feminist heart\, A Two Woman Hamlet is truly a different show with every performance! \nBased on an original concept by Mara Sherman\, Hannah Sweet and Nicola Collett.
URL:https://keepcolchestercool.co.uk/event/a-two-woman-hamlet-2/
LOCATION:Lakeside Theatre\, University of Essex\, Wivenhoe Park\, Colchester\, CO4 3SQ\, GB
ORGANIZER;CN="Lakeside Theatre":MAILTO:noreply@facebookmail_com
END:VEVENT
BEGIN:VEVENT
DTSTART;TZID=Europe/London:20260129T193000
DTEND;TZID=Europe/London:20260129T221500
DTSTAMP:20260424T065335
CREATED:20260105T071017Z
LAST-MODIFIED:20260129T071011Z
UID:127611-1769715000-1769724900@keepcolchestercool.co.uk
SUMMARY:The Lexden Crown presents An Old Skool Pen and Paper Quiz of 2025 with Big Jim
DESCRIPTION:The Lexden Crown presents an Old Skool Pen and Paper QuizIts Time to take it back to the Old Skool\, with a Pen and Paper style Quiz. \nBig Jims Old Skool Pub Quiz\, fun for all\, with 5 themed rounds of quiz fun\, including both Audio and Picture rounds and the return of the World famous Stealer round\, to steal the win on the last question\, as well. \n£2.50 per person\, max 6 people per team. \nSo grab a pen\, round up your friends or family and welcome back that old skool feeling of quizzing on a Thursday Night with Big Jim \nGreat food and drinks offers avaiable\, and it’s pizza night with there great wood fired pizzas\, as well as a great bistro pub with a warm atomsphere and lovely people\, and an average quizmaster.  \nCome and test your teams knowledge against Colchesters finest Quiz Teams\, enjoy some food\, beer and a great atmosphere\,whilst getting Quizzical with one of Colchester;s finest Quiz Hosts \nSee you there My Quizzy Quiz Loving Preps
URL:https://keepcolchestercool.co.uk/event/the-lexden-crown-presents-an-old-skool-pen-and-paper-quiz-of-2025-with-big-jim/
LOCATION:The Lexden Crown\, Bistro Pub – Colchester\, The Lexden Crown\, Bistro Pub - Colchester
ORGANIZER;CN="Big Jims Pub Quiz":MAILTO:noreply@facebookmail_com
END:VEVENT
BEGIN:VEVENT
DTSTART;TZID=Europe/London:20260129T200000
DTEND;TZID=Europe/London:20260129T230000
DTSTAMP:20260424T065335
CREATED:20260120T071010Z
LAST-MODIFIED:20260129T071012Z
UID:127893-1769716800-1769727600@keepcolchestercool.co.uk
SUMMARY:Power Station - COLCHESTER - FIRST SITE
DESCRIPTION:Power Station began in the depths of lockdown – and in the aftermath of our previous film Bank Job\, where we purchased and blew up £1.2 million of local debt – with the question ‘’what could we do from where we live\, with the people around us\, to build power – of energy and imagination?’ \nWorking to turn a street and local schools solar\, Power Station is a scalable in-your-face prototype of community led power. Channelling Withnail and I and Ealing comedy the film charts the financial and emotional trials and tribulations of making change together.From sleeping on rooftops to growing thousands of sunflowers and attempts at Christmas number one\, community spirit and resilience are at the heart of this documentary. \n“I can’t recommend this film enough.You’ll laugh. You’ll cry. You’ll kickstart a community-led renewable energy revolution. \nI will say\, without any sense of exaggeration or hyperbole\, that this is one of the most important films ever made. Everyone needs to see it.” \n– Rob Hopkins\, co-founder Transition Network
URL:https://keepcolchestercool.co.uk/event/power-station-colchester-first-site/
LOCATION:First Site Colchester Art Gallery\, First Site Colchester Art Gallery
END:VEVENT
END:VCALENDAR