BEGIN:VCALENDAR
VERSION:2.0
PRODID:-//Keep Colchester Cool - ECPv6.15.20//NONSGML v1.0//EN
CALSCALE:GREGORIAN
METHOD:PUBLISH
X-WR-CALNAME:Keep Colchester Cool
X-ORIGINAL-URL:https://keepcolchestercool.co.uk
X-WR-CALDESC:Events for Keep Colchester Cool
REFRESH-INTERVAL;VALUE=DURATION:PT1H
X-Robots-Tag:noindex
X-PUBLISHED-TTL:PT1H
BEGIN:VTIMEZONE
TZID:Europe/London
BEGIN:DAYLIGHT
TZOFFSETFROM:+0000
TZOFFSETTO:+0100
TZNAME:BST
DTSTART:20250330T010000
END:DAYLIGHT
BEGIN:STANDARD
TZOFFSETFROM:+0100
TZOFFSETTO:+0000
TZNAME:GMT
DTSTART:20251026T010000
END:STANDARD
BEGIN:DAYLIGHT
TZOFFSETFROM:+0000
TZOFFSETTO:+0100
TZNAME:BST
DTSTART:20260329T010000
END:DAYLIGHT
BEGIN:STANDARD
TZOFFSETFROM:+0100
TZOFFSETTO:+0000
TZNAME:GMT
DTSTART:20261025T010000
END:STANDARD
BEGIN:DAYLIGHT
TZOFFSETFROM:+0000
TZOFFSETTO:+0100
TZNAME:BST
DTSTART:20270328T010000
END:DAYLIGHT
BEGIN:STANDARD
TZOFFSETFROM:+0100
TZOFFSETTO:+0000
TZNAME:GMT
DTSTART:20271031T010000
END:STANDARD
END:VTIMEZONE
BEGIN:VEVENT
DTSTART;TZID=Europe/London:20260130T193000
DTEND;TZID=Europe/London:20260130T223000
DTSTAMP:20260424T065335
CREATED:20251105T071058Z
LAST-MODIFIED:20260130T070959Z
UID:127149-1769801400-1769812200@keepcolchestercool.co.uk
SUMMARY:Native James Support From: Skeleton Boy + Dead Channels IVW 2026
DESCRIPTION:TWM Live is thrilled to announce Native James with support from Skeleton Boy + Dead Channels as part of IVW 2026. Join us for an exciting evening of live music on Friday\, 30th January\, at the top floor of Three Wise Monkeys in Colchester. Doors open at 7:30pm\, and tickets are priced at £10 plus booking fee. Don’t miss out on this fantastic event!THIS SHOW IS 18+Please note that access to the top floor of Three Wise Monkeys does not have a lift\, but there are rest opportunities between each flight of stairs.Viewer discretion is advised: This show may potentially contain flashing and strobing lighting effects.We wanted to inform you of our refund policy regarding event tickets. Please note that we will be unable to process any ticket refunds within 7 days of the event.We understand that circumstances may arise that prevent you from attending the event\, but unfortunately\, we are unable to accommodate refund requests within this timeframe.
URL:https://keepcolchestercool.co.uk/event/native-james-support-from-skeleton-boy-dead-channels-ivw-2026/
LOCATION:60 High Street\, CO1 1DN Colchester\, United Kingdom\, 60 High Street\, CO1 1DN Colchester\, United Kingdom
ORGANIZER;CN="Three Wise Monkeys Colchester":MAILTO:noreply@facebookmail_com
END:VEVENT
BEGIN:VEVENT
DTSTART;TZID=Europe/London:20260130T193000
DTEND;TZID=Europe/London:20260131T003000
DTSTAMP:20260424T065335
CREATED:20260130T071000Z
LAST-MODIFIED:20260131T071019Z
UID:128175-1769801400-1769819400@keepcolchestercool.co.uk
SUMMARY:Queen Street Beyond The Fringe Presents Creatures of the Night Boxing Day Extravaganza
DESCRIPTION:End of JanuaryGothtastic night in the Brewhouse sees DJ Will Bland & DJ Gentleman Jim playing the best stomping GOTH ROCK METAL🖤🤠☠️🫵🧟‍♀️🧟🎧🎚️💿
URL:https://keepcolchestercool.co.uk/event/queen-street-beyond-the-fringe-presents-creatures-of-the-night-boxing-day-extravaganza/
LOCATION:Queen St Brewhouse\, 7 - 9 Queen Street\, Colchester\, CO1 2PG\, GB
ORGANIZER;CN="Queen St Brewhouse":MAILTO:noreply@facebookmail_com
END:VEVENT
BEGIN:VEVENT
DTSTART;TZID=Europe/London:20260130T200000
DTEND;TZID=Europe/London:20260130T223000
DTSTAMP:20260424T065335
CREATED:20260113T071027Z
LAST-MODIFIED:20260130T071002Z
UID:127773-1769803200-1769812200@keepcolchestercool.co.uk
SUMMARY:Kenny Junior at Junction 25 LDC
DESCRIPTION:Join us for a night of line dancing to live music.£8 entryDoors open 7:15pm for 8pmNo bar so bring your own.Tea and coffee available. \nContact Trish on 07815 125261 to book a place
URL:https://keepcolchestercool.co.uk/event/kenny-junior-at-junction-25-ldc/
LOCATION:Marks Tey Parish Hall\, Old London Rd\, Marks Tey\, CO6 1EJ\, GB
END:VEVENT
BEGIN:VEVENT
DTSTART;TZID=Europe/London:20260130T200000
DTEND;TZID=Europe/London:20260130T230000
DTSTAMP:20260424T065335
CREATED:20240910T071140Z
LAST-MODIFIED:20260130T071002Z
UID:118094-1769803200-1769814000@keepcolchestercool.co.uk
SUMMARY:Dara O'Briain - Re:Creation
DESCRIPTION:Sale Dates and Times: \nPublic Onsale : Fri\, 6 Sep 2024 at 11:00 AM \nTicketmaster Presale : Wed\, 4 Sep 2024 at 11:00 AM \nOff The Kerb Presale : Wed\, 4 Sep 2024 at 11:00 AM
URL:https://keepcolchestercool.co.uk/event/dara-obriain-recreation/
LOCATION:Colchester Charter Hall\, Colchester Charter Hall
ORGANIZER;CN="Ticketmaster Events":MAILTO:noreply@facebookmail_com
END:VEVENT
BEGIN:VEVENT
DTSTART;TZID=Europe/London:20260130T200000
DTEND;TZID=Europe/London:20260130T230000
DTSTAMP:20260424T065335
CREATED:20260122T071044Z
LAST-MODIFIED:20260130T071002Z
UID:127951-1769803200-1769814000@keepcolchestercool.co.uk
SUMMARY:❤️Art Beats
DESCRIPTION:Dear neighbours\,We’re so excited to invite you to our very first special � Art Beats evening at Wivenhoe Cafe & Gallery!We’re also happy to announce that our TEN application has been accepted\, which means we’ll be able to serve alcohol at the event.We can’t wait to welcome you for an evening of art\, music\, and great company. \nCocktails Menu for �Art Beats Evening:1. Cupid’s ArrowVodka\, Strawberry\, Lime\, SodaVibe: Sweet\, Flirty\, RefreshingPrice: £7.502. Midnight KissGin\, Raspberry\, Lemon\, Elderflower\, SodaVibe: Elegant\, Aromatic\, Late-Night RomancePrice: £7.503. Love FrequencyBrandy\, Orange Juice\, Vanilla Syrup\, Orange PeelVibe: Warm\, Sensual\, Slow-Burn EnergyPrice: £7.504. Heartbeat MartiniVodka\, Cranberry Juice\, Lemon\, Vanilla Syrup\, Fresh Cranberries\, Lemon SlicesVibe: Clean\, Soft\, Romantic EdgePrice: £7.505. Valentine’s MojitoRum\, Fresh Mint\, Strawberry\, Lime\, Strawberry Syrup\, LemonadeVibe: Fresh\, Romantic\, Lightly SweetPrice: £7.50WinesPinot Grigio\, Sauvignon Blanc\, Merlot175ml: £5250ml: £7Bottle: £20BeerPolish Beer: £5
URL:https://keepcolchestercool.co.uk/event/%e2%9d%a4%ef%b8%8fart-beats/
LOCATION:1 East Street\, Wivenhoe\, Colchester\, 1 East Street\, Wivenhoe\, Colchester
END:VEVENT
END:VCALENDAR