BEGIN:VCALENDAR
VERSION:2.0
PRODID:-//Keep Colchester Cool - ECPv6.15.20//NONSGML v1.0//EN
CALSCALE:GREGORIAN
METHOD:PUBLISH
X-WR-CALNAME:Keep Colchester Cool
X-ORIGINAL-URL:https://keepcolchestercool.co.uk
X-WR-CALDESC:Events for Keep Colchester Cool
REFRESH-INTERVAL;VALUE=DURATION:PT1H
X-Robots-Tag:noindex
X-PUBLISHED-TTL:PT1H
BEGIN:VTIMEZONE
TZID:Europe/London
BEGIN:DAYLIGHT
TZOFFSETFROM:+0000
TZOFFSETTO:+0100
TZNAME:BST
DTSTART:20250330T010000
END:DAYLIGHT
BEGIN:STANDARD
TZOFFSETFROM:+0100
TZOFFSETTO:+0000
TZNAME:GMT
DTSTART:20251026T010000
END:STANDARD
BEGIN:DAYLIGHT
TZOFFSETFROM:+0000
TZOFFSETTO:+0100
TZNAME:BST
DTSTART:20260329T010000
END:DAYLIGHT
BEGIN:STANDARD
TZOFFSETFROM:+0100
TZOFFSETTO:+0000
TZNAME:GMT
DTSTART:20261025T010000
END:STANDARD
BEGIN:DAYLIGHT
TZOFFSETFROM:+0000
TZOFFSETTO:+0100
TZNAME:BST
DTSTART:20270328T010000
END:DAYLIGHT
BEGIN:STANDARD
TZOFFSETFROM:+0100
TZOFFSETTO:+0000
TZNAME:GMT
DTSTART:20271031T010000
END:STANDARD
END:VTIMEZONE
BEGIN:VEVENT
DTSTART;TZID=Europe/London:20260131T100000
DTEND;TZID=Europe/London:20260131T120000
DTSTAMP:20260424T065403
CREATED:20260127T071054Z
LAST-MODIFIED:20260131T071020Z
UID:128095-1769853600-1769860800@keepcolchestercool.co.uk
SUMMARY:Disney Lorcana Whispers in the Well League
DESCRIPTION:This week standard week. \nDue to popular demand and the love or Lorcana\, Saturday morning league is going back to a points based system (for those that want to join in with the points system). This is however just a fun guideline. if you do not have each of the formats decks don’t worry come and play any deck you like.  \nAt the end of each week prizes will be given out in the form of promo cards and badges etc. Don’t worry if you do not want to take part there will be promos for all as well as random prizes too.  \nRemember this is all for those that want to join in with the sticker fun. You are more than welcome to play any deck on any league session\, so don’t worry if you don’t have all the formats decks league is about enjoying and playing Lorcana each week.  \nAll morning we will have demo staff available to teach you all you need to know about this game. We will be running the demo’s with the new starter decks available. \nPlease note all of these events have limited spaces of 24 people\, so to avoid missing out please either click attend on this event\, come in and speak to a member of staff of call us on 01206 561912 to make sure you don’t miss out.
URL:https://keepcolchestercool.co.uk/event/disney-lorcana-whispers-in-the-well-league/
LOCATION:ACE Comics\, 42 Culver Street East\, Colchester\, CO1 1LE\, GB
ORGANIZER;CN="Glenn Richardson":MAILTO:noreply@facebookmail_com
END:VEVENT
BEGIN:VEVENT
DTSTART;TZID=Europe/London:20260131T100000
DTEND;TZID=Europe/London:20260131T130000
DTSTAMP:20260424T065403
CREATED:20260120T071011Z
LAST-MODIFIED:20260131T071020Z
UID:127895-1769853600-1769864400@keepcolchestercool.co.uk
SUMMARY:Fascinator Workshop
DESCRIPTION:Join us for a creative and inspiring Fascinator Workshop on Saturday 31st January\, 10am–1pm\, held at the workroom next to Colcheco. \nIn this small-group workshop\, you’ll learn how to design and create a beautiful headpiece using sinamay (a fine woven straw)\, feathers and optional veiling. You’ll be guided step by step through the process\, learning how to manipulate and shape the materials to create different styles\, so you can leave with a fascinator that’s completely unique and true to your own design. \nYou’ll be able to choose from a range of sinamay colours and feathers\, and experiment with different techniques in a relaxed\, supportive environment. No previous millinery experience is needed\, although you should be comfortable with basic hand sewing (starting and finishing stitching\, running stitch and back stitch). \nThe workshop takes place in the workroom next to Colcheco on Layer Road. Toilet facilities are available within the Colcheco shop. \nAll materials\, tools and expert tuitionChoice of sinamay colours and feathersTea\, coffee and sweet treats available throughoutA finished fascinator to take home \nYou don’t need to bring anything with you\, although you’re very welcome to bring along your own fabrics or trimmings if you’d like to incorporate them. Additional trimmings and feathers will also be available to purchase on the day. \nBeginners welcome – Basic hand sewing skills required (running stitch\, slip stitch\, sewing on a button) \nA relaxed\, creative morning perfect for anyone who loves making something special by hand. \nBook your tickets here: https://www.thecreativeworkshopcompany.co.uk/event-details/fascinator-workshop
URL:https://keepcolchestercool.co.uk/event/fascinator-workshop/
LOCATION:Colcheco\, Colcheco
ORGANIZER;CN="The Creative Workshop Company":MAILTO:noreply@facebookmail.com
END:VEVENT
BEGIN:VEVENT
DTSTART;TZID=Europe/London:20260131T110000
DTEND;TZID=Europe/London:20260131T233000
DTSTAMP:20260424T065403
CREATED:20260105T071018Z
LAST-MODIFIED:20260131T071020Z
UID:127612-1769857200-1769902200@keepcolchestercool.co.uk
SUMMARY:Rollerworld’s Super Roll
DESCRIPTION:� SUPER ROLL – HURRY TICKETS ARE LIVE! � SPORTS THEME� Saturday\, 31st January 2026� Charter Hall\, Colchester \n� Skate Hire sold out at the last event – make sure you book early this time! \n� Ticket Info:� 4-for-3 Early Bird Deal – buy 4 tickets\, only pay for 3 � Tickets on the door will be £15� Prices will increase in 2026 – book early to avoid paying more! \n⸻ \n� Session Times:� Relaxed: 11:00 AM – 12:00 PM� Family Session: 12:00 PM – 5:00 PM� Over 14’s Party Session: 7:00 PM – 11:30 PM \n� Spectator Tickets: £4- purchase at the same time as your skater tickets. \n⸻ \n� What to Expect:� Light Shows | � DJ | � Games | � Bar \n⸻ \n� BOOK NOW TO AVOID ANY PRICE INCREASE & SECURE YOUR PLACE:www.rollerworld.co.uk
URL:https://keepcolchestercool.co.uk/event/rollerworlds-super-roll/
LOCATION:Colchester Charter Hall\, Colchester Charter Hall
ORGANIZER;CN="Rollerworld":MAILTO:noreply@facebookmail_com
END:VEVENT
BEGIN:VEVENT
DTSTART;TZID=Europe/London:20260131T120000
DTEND;TZID=Europe/London:20260131T150000
DTSTAMP:20260424T065403
CREATED:20260105T071018Z
LAST-MODIFIED:20260131T071020Z
UID:127613-1769860800-1769871600@keepcolchestercool.co.uk
SUMMARY:Pokémon Play Lab Discovery Day
DESCRIPTION:We’re incredibly excited to be hosting a Pokémon Play Lab Discovery Day\, an official Play! Pokémon event designed to welcome brand-new Trainers into the Pokémon Trading Card Game. \nThis is a relaxed\, drop-in style day focused on learning\, fun\, and community. If you or your child have ever wanted to learn how to play Pokémon TCG\, this is the perfect place to start. \nWhat’s happening on the day \n• Friendly\, hands-on Pokémon TCG teaching sessions throughout the day \n• Free Pokémon Packs for new players to take home \n• Step-by-step learning using official Play Lab formats \n• Pikachu hats and Play! Pokémon goodies \n• Casual play\, card swaps\, and bulk boxes to browse \n• Experienced players and organisers on hand to help \n• A welcoming space for kids\, parents\, and complete beginners \nWe’re also pleased to confirm that the store will be stocked on the day\, with a variety of Pokémon products available\, including packs and accessories. \nYou don’t need any prior experience\, cards\, or knowledge to take part. Just turn up\, have fun\, and start your Pokémon journey. \nSpaces are limited by kit availability\, so early arrival is recommended. \nThis is an official Play! Pokémon League event\, supported by The Pokémon Company International. \nWe can’t wait to see new Trainers join the community 🧢⚡
URL:https://keepcolchestercool.co.uk/event/pokemon-play-lab-discovery-day/
LOCATION:Dice & A Slice\, 37 Queen Street\, Colchester\, CO1 2PQ\, GB
ORGANIZER;CN="Dice &amp%3B a Slice":MAILTO:noreply@facebookmail_com
END:VEVENT
BEGIN:VEVENT
DTSTART;TZID=Europe/London:20260131T120000
DTEND;TZID=Europe/London:20260131T150000
DTSTAMP:20260424T065403
CREATED:20260127T071055Z
LAST-MODIFIED:20260131T071021Z
UID:128096-1769860800-1769871600@keepcolchestercool.co.uk
SUMMARY:Gundam TCG GD03 Steel Requiem Release Event
DESCRIPTION:Gundam TCG GD03 Steel Requiem Prerelease Event  \nFor this new release of set 3 we will be running a Sealed Battle event\, meaning that instead of bringing a pre-built deck\, players open booster packs and build a deck using only the cards from those packs. Here are the specific deckbuilding rules for this format:Open 4 booster packs. (48+4 cards)Deck must be exactly 30 cards.No colour restrictions when building the deck.You can include any number of cards with the same card number. \nAt the end each player will get two additional booster packs for participating. We will also have the participation and winner promos to give out on the day too. \nStart Time: 12:00 pmEntry: £30.00 \nPlease make sure you have a Bandai TCG+ account as we’ll be running the event through that. https://www.bandai-tcg-plus.com \nPlease note all of these events have limited spaces of 24 people\, so to avoid missing out please either click attend on this event\, come in and speak to a member of staff of call us on 01206 561912 to make sure you don’t miss out.
URL:https://keepcolchestercool.co.uk/event/gundam-tcg-gd03-steel-requiem-release-event/
LOCATION:ACE Comics\, 42 Culver Street East\, Colchester\, CO1 1LE\, GB
ORGANIZER;CN="Glenn Richardson":MAILTO:noreply@facebookmail_com
END:VEVENT
BEGIN:VEVENT
DTSTART;TZID=Europe/London:20260131T123000
DTEND;TZID=Europe/London:20260131T170000
DTSTAMP:20260424T065403
CREATED:20260127T071055Z
LAST-MODIFIED:20260131T071021Z
UID:128097-1769862600-1769878800@keepcolchestercool.co.uk
SUMMARY:Magic The Gathering Lorwyn Eclipsed Commander Party
DESCRIPTION:Magic The Gathering Lorwyn Eclipsed Commander Party. \nCome and join us for Lorwyn Eclipsed Party! All participants will receive a commander party promo & pod winners will be able to get extra goodies from booster packs to promo packs.  \nWhile you play your games\, you’ll use special materials based on the Lorwyn Eclipsed universe to gain extra game effects. \nTHIS IS A BRING YOUR OWN (ANY) COMMANDER DECK ALONG TO THE EVENT\, then you will play in pods of 4. \nStart time 12.30pmCost £7.50 \nPlease note all of these events have limited spaces of 24 people\, so to avoid missing out please either click attend on this event\, come in and speak to a member of staff of call us on 01206 561912 to make sure you don’t miss out.
URL:https://keepcolchestercool.co.uk/event/magic-the-gathering-lorwyn-eclipsed-commander-party/
LOCATION:ACE Comics\, 42 Culver Street East\, Colchester\, CO1 1LE\, GB
ORGANIZER;CN="Glenn Richardson":MAILTO:noreply@facebookmail_com
END:VEVENT
BEGIN:VEVENT
DTSTART;TZID=Europe/London:20260131T130000
DTEND;TZID=Europe/London:20260131T170000
DTSTAMP:20260424T065403
CREATED:20260130T071004Z
LAST-MODIFIED:20260131T071021Z
UID:128176-1769864400-1769878800@keepcolchestercool.co.uk
SUMMARY:YuGiOh! Burst Protocol Pre-release
DESCRIPTION:For Burst Protocol we will be running a sealed play format event.  \nSneak Peeks are your chance to get your hands on the new set before others and a chance to play with them. Build your deck and compete in a swiss rounds style event for prizes playmats and just to have fun. \nYou all get 5 booster packs of Burst Protocol and use just those cards to build a new Deck. The minimum Deck size at a Sneak Peek is lowered to 20 cards. Since only these new cards are used\, everyone has a chance to win. \nEverybody gets a OTS or similar booster at the end along with (will stocks last) a field centre card. There will also be a The Infinite Forbidden playmat for the winner. \nEntry cost £20.00\, pre-book your place to avoid missing out on all the fun as limited spots available LIMITED TO 24 PLACES
URL:https://keepcolchestercool.co.uk/event/yugioh-burst-protocol-pre-release/
LOCATION:ACE Comics\, 42 Culver Street East\, Colchester\, CO1 1LE\, GB
ORGANIZER;CN="Glenn Richardson":MAILTO:noreply@facebookmail_com
END:VEVENT
BEGIN:VEVENT
DTSTART;TZID=Europe/London:20260131T140000
DTEND;TZID=Europe/London:20260131T170000
DTSTAMP:20260424T065403
CREATED:20260120T071011Z
LAST-MODIFIED:20260131T071021Z
UID:127897-1769868000-1769878800@keepcolchestercool.co.uk
SUMMARY:Candle Making Workshop
DESCRIPTION:Join us for a cosy and creative Candle Making Workshop at Colcheco\, perfect for anyone looking to unwind and make something special. \nDuring this hands-on session\, you’ll be guided step-by-step through the candle making process. You’ll learn about wax\, fragrance\, and pouring techniques\, before creating your own candle to take home. With a selection of scents available\, you can personalise your candle to suit your style or create a thoughtful handmade gift. \nThis workshop is suitable for beginners\, with no prior experience needed. All materials\, equipment\, and tuition are included\, so you can simply turn up and enjoy the process. \nThe afternoon is made even sweeter with hot beverages and sweet treats provided\, and dietary requirements can be catered for. Expect a relaxed\, friendly atmosphere and a lovely way to spend a Saturday afternoon getting creative. \nSaturday 31st January | 2:00pmColcheco\, 17 Layer Road\, Colchester CO2 7JW£27.50pp – includes hot beverages & sweet treats \nSpaces are limited\, so booking in advance is recommended. \nBook your tickets here: https://www.thecreativeworkshopcompany.co.uk/event-details/candle-making-workshop
URL:https://keepcolchestercool.co.uk/event/candle-making-workshop/
LOCATION:Colcheco\, Colcheco
ORGANIZER;CN="The Creative Workshop Company":MAILTO:noreply@facebookmail.com
END:VEVENT
BEGIN:VEVENT
DTSTART;TZID=Europe/London:20260131T150000
DTEND;TZID=Europe/London:20260131T173000
DTSTAMP:20260424T065403
CREATED:20260113T071028Z
LAST-MODIFIED:20260131T071021Z
UID:127774-1769871600-1769880600@keepcolchestercool.co.uk
SUMMARY:CODA - Acoustic Showcase
DESCRIPTION:A Saturday afternoon showcase featuring:Daniel Stephen TurnerMatt-As-TropheRowan Donaldson Stu E Skinner(Hosting)Event Info:A weekly event featuring 3 to 5 acts performing live acoustic sets between 3-5:30pm.Hot & cold beverages served from 2:30pm onwards.This is a family friendly event so younglings are welcome providing they’re properly managed.Mics\, pa and backline are provided but performers are welcome to bring their own microphones etc
URL:https://keepcolchestercool.co.uk/event/coda-acoustic-showcase-christmas-addition-2/
LOCATION:63 High street\, co1 1dn Colchester\, United Kingdom\, 63 High street\, co1 1dn Colchester\, United Kingdom
ORGANIZER;CN="Piggyfy Live - Acoustic Showcase - Coda":MAILTO:noreply@facebookmail.com
END:VEVENT
BEGIN:VEVENT
DTSTART;TZID=Europe/London:20260131T150000
DTEND;TZID=Europe/London:20260131T180000
DTSTAMP:20260424T065403
CREATED:20251202T071059Z
LAST-MODIFIED:20260131T071021Z
UID:127393-1769871600-1769882400@keepcolchestercool.co.uk
SUMMARY:Brewery Tour & Meet the Brewer
DESCRIPTION:Listen whilst our brewers take you through the story\, flavour and notes of our core range of fantastic Other Monkey Brewing beer poured fresh from our taps. \nYour £10 ticket will include tasting glasses of different beers from our core range\, each of which will be accompanied by its own unique production story. We also have gift certificates available for collection perfect for presents \nOver 18s only. \nGuests with specific dietary requirements or with allergies should contact the team via info@othermonkeybrewing.com prior to ticket purchase. \nAccess – There is no lift to access the tasting room at Other Monkey Brewing The Taproom. There is one flight of stairs to reach the tasting room.
URL:https://keepcolchestercool.co.uk/event/brewery-tour-meet-the-brewer-4/
LOCATION:5-6 St Nicholas St\, CO1 1LB Colchester\, United Kingdom\, 5-6 St Nicholas St\, CO1 1LB Colchester\, United Kingdom
ORGANIZER;CN="Other Monkey Brewing - The Taproom":MAILTO:noreply@facebookmail_com
END:VEVENT
BEGIN:VEVENT
DTSTART;TZID=Europe/London:20260131T193000
DTEND;TZID=Europe/London:20260131T223000
DTSTAMP:20260424T065403
CREATED:20251008T071101Z
LAST-MODIFIED:20260131T071022Z
UID:126463-1769887800-1769898600@keepcolchestercool.co.uk
SUMMARY:90s Party Night
DESCRIPTION:Get ready to rewind to the ultimate decade of pop culture at our unforgettable 90s Party Night! Expect non-stop anthems\, iconic throwbacks\, and a dance floor packed with 90s vibes all night long. \nThe event is strictly for over 18s\, and ID may be required upon entry. Doors open at 7:30pm and the event finishes at Midnight. \nParking is free just make sure to validate your car reg in reception.Any car parked for longer than 10 minutes will need to do this.  \nNeed to leave your car overnight? No problem — your parking will stay valid until the next day. Just make sure it’s collected by 10am.
URL:https://keepcolchestercool.co.uk/event/90s-party-night-5/
LOCATION:Colchester United FC\, JobServe Community Stadium\, United Way\, Colchester\, CO4 5UP\, GB
ORGANIZER;CN="Events at Colchester United FC":MAILTO:noreply@facebookmail_com
END:VEVENT
BEGIN:VEVENT
DTSTART;TZID=Europe/London:20260131T193000
DTEND;TZID=Europe/London:20260131T223000
DTSTAMP:20260424T065403
CREATED:20251202T071059Z
LAST-MODIFIED:20260131T071022Z
UID:127394-1769887800-1769898600@keepcolchestercool.co.uk
SUMMARY:Back for another swing at the Brewhouse
DESCRIPTION:We are back stronger and wiser\, deafer and wider! With spanking new drummer extraordinaire David “ANIMAL” Clayton (poached from planet Punk)
URL:https://keepcolchestercool.co.uk/event/back-for-another-swing-at-the-brewhouse/
LOCATION:Queen St Brewhouse\, 7 - 9 Queen Street\, Colchester\, CO1 2PG\, GB
ORGANIZER;CN="Duncan Bilko Boon":MAILTO:noreply@facebookmail_com
END:VEVENT
BEGIN:VEVENT
DTSTART;TZID=Europe/London:20260131T193000
DTEND;TZID=Europe/London:20260131T230000
DTSTAMP:20260424T065403
CREATED:20260122T071045Z
LAST-MODIFIED:20260131T071022Z
UID:127953-1769887800-1769900400@keepcolchestercool.co.uk
SUMMARY:COLCHESTER SALSA RUEDA SPECIAL WITH GUEST TEACHER SAL FEHMI!
DESCRIPTION:Colchester Salsa’s first salsa social dance of 2026 with guest teacher Sal Fehmi! 7.30-8.30pm: Rueda class with Sal\, Beginners level class with Adrian. 8.30-11.00pm: DJs (playing Salsa\, Kizomba and Bachata). Venue: St Johns Church Community Centre\, St Johns Close\, Colchester\, CO4 0HP. Free car parking\, large perfect sprung wooden dance floor. On this occasion we will provide some drinks but please bring some if possible. Tickets £12 for class plus dance; £8 for dancing only (8.45-11.00am). For a £2 reduction in either entry price\, book in advance\, or click “Going” and share the event on Facebook. For further details text 07734 780930.
URL:https://keepcolchestercool.co.uk/event/colchester-salsa-rueda-special-with-guest-teacher-sal-fehmi/
LOCATION:St John’s Church Community Centre\, St Johns Close\, CO4 0HP Colchester\, Essex.\, St John's Church Community Centre\, St Johns Close\, CO4 0HP Colchester\, Essex.
ORGANIZER;CN="COLCHESTER SALSA":MAILTO:noreply@facebookmail_com
END:VEVENT
BEGIN:VEVENT
DTSTART;TZID=Europe/London:20260131T193000
DTEND;TZID=Europe/London:20260131T230000
DTSTAMP:20260424T065403
CREATED:20260130T071010Z
LAST-MODIFIED:20260131T071022Z
UID:128177-1769887800-1769900400@keepcolchestercool.co.uk
SUMMARY:PURPLE DAWGS AND PUNK FREUD AT THE BREWHOUSE
DESCRIPTION:2 band and lots of noise in the rock and roll style!
URL:https://keepcolchestercool.co.uk/event/purple-dawgs-and-punk-freud-at-the-brewhouse/
LOCATION:7 Queen Street\, CO1 2PG Colchester\, United Kingdom\, 7 Queen Street\, CO1 2PG Colchester\, United Kingdom
ORGANIZER;CN="Queen St Brewhouse":MAILTO:noreply@facebookmail_com
END:VEVENT
BEGIN:VEVENT
DTSTART;TZID=Europe/London:20260131T200000
DTEND;TZID=Europe/London:20260131T223000
DTSTAMP:20260424T065403
CREATED:20260105T071018Z
LAST-MODIFIED:20260131T071022Z
UID:127614-1769889600-1769898600@keepcolchestercool.co.uk
SUMMARY:Live music with Electric Ocean
DESCRIPTION:A rare treat with Electric Ocean performing live at the Albion! Get in early to grab a seat…
URL:https://keepcolchestercool.co.uk/event/live-music-with-electric-ocean-2/
LOCATION:Ye Olde Albion Pub\, High Street\, Rowhedge\, Colchester\, CO5 7ES\, GB
ORGANIZER;CN="Ye Olde Albion Pub":MAILTO:noreply@facebookmail_com
END:VEVENT
BEGIN:VEVENT
DTSTART;TZID=Europe/London:20260131T200000
DTEND;TZID=Europe/London:20260131T230000
DTSTAMP:20260424T065403
CREATED:20250523T071040Z
LAST-MODIFIED:20260131T071022Z
UID:124561-1769889600-1769900400@keepcolchestercool.co.uk
SUMMARY:A Twist of ABBA live at The Station Pub\, Wivenhoe
DESCRIPTION:Join us for a night of all your favourite ABBA hits!
URL:https://keepcolchestercool.co.uk/event/a-twist-of-abba-live-at-the-station-pub-wivenhoe/
LOCATION:The Station Pub Wivenhoe\, Station Rd\, Colchester\, CO7 9\, GB
ORGANIZER;CN="A Twist Of ABBA":MAILTO:noreply@facebookmail_com
END:VEVENT
BEGIN:VEVENT
DTSTART;TZID=Europe/London:20260131T200000
DTEND;TZID=Europe/London:20260131T230000
DTSTAMP:20260424T065403
CREATED:20260130T071018Z
LAST-MODIFIED:20260131T071022Z
UID:128178-1769889600-1769900400@keepcolchestercool.co.uk
SUMMARY:Prince’s Birthday @ Silk Road
DESCRIPTION:Mark your calendars! 🎉 Join us at Silk Road on Saturday the 31st of January in the heart of Colchester for an unforgettable night of luxury\, music\, and celebration. Get ready to sip expertly crafted cocktails\, relax with premium shishas\, and dance to the beats that keep the party going until the early hours.  \nMore exciting details about this special night will be revealed soon. Stay tuned for a full line-up and surprises that you won’t want to miss! \n_#colchester #essex #colchesterevents #essexevents #nightclub
URL:https://keepcolchestercool.co.uk/event/princes-birthday-silk-road/
LOCATION:The Silk Road Lounge & Bar\, 4 St Botolphs Street\, Colchester\, GB
END:VEVENT
END:VCALENDAR