BEGIN:VCALENDAR
VERSION:2.0
PRODID:-//Keep Colchester Cool - ECPv6.15.20//NONSGML v1.0//EN
CALSCALE:GREGORIAN
METHOD:PUBLISH
X-ORIGINAL-URL:https://keepcolchestercool.co.uk
X-WR-CALDESC:Events for Keep Colchester Cool
REFRESH-INTERVAL;VALUE=DURATION:PT1H
X-Robots-Tag:noindex
X-PUBLISHED-TTL:PT1H
BEGIN:VTIMEZONE
TZID:Europe/London
BEGIN:DAYLIGHT
TZOFFSETFROM:+0000
TZOFFSETTO:+0100
TZNAME:BST
DTSTART:20250330T010000
END:DAYLIGHT
BEGIN:STANDARD
TZOFFSETFROM:+0100
TZOFFSETTO:+0000
TZNAME:GMT
DTSTART:20251026T010000
END:STANDARD
BEGIN:DAYLIGHT
TZOFFSETFROM:+0000
TZOFFSETTO:+0100
TZNAME:BST
DTSTART:20260329T010000
END:DAYLIGHT
BEGIN:STANDARD
TZOFFSETFROM:+0100
TZOFFSETTO:+0000
TZNAME:GMT
DTSTART:20261025T010000
END:STANDARD
BEGIN:DAYLIGHT
TZOFFSETFROM:+0000
TZOFFSETTO:+0100
TZNAME:BST
DTSTART:20270328T010000
END:DAYLIGHT
BEGIN:STANDARD
TZOFFSETFROM:+0100
TZOFFSETTO:+0000
TZNAME:GMT
DTSTART:20271031T010000
END:STANDARD
END:VTIMEZONE
BEGIN:VEVENT
DTSTART;TZID=Europe/London:20260201T114500
DTEND;TZID=Europe/London:20260201T160000
DTSTAMP:20260424T065635
CREATED:20260105T071019Z
LAST-MODIFIED:20260201T071008Z
UID:127615-1769946300-1769961600@keepcolchestercool.co.uk
SUMMARY:Bring & Buy
DESCRIPTION:Looking to have a new year clear out? The Bring & Buy is a perfect way to get rid of some of your board games\, rpg books\, miniatures\, TCGs and general gaming gear and make a few quid while doing it!  \nAlso a perfect way to get some bargain games for your collection!  \nSubmit you For Sale Items at the link below!  \nhttps://forms.gle/vGTV5PN2eaGGrD8T7
URL:https://keepcolchestercool.co.uk/event/bring-buy/
LOCATION:Dice & A Slice\, 37 Queen Street\, Colchester\, CO1 2PQ\, GB
ORGANIZER;CN="Dice &amp%3B a Slice":MAILTO:noreply@facebookmail_com
END:VEVENT
BEGIN:VEVENT
DTSTART;TZID=Europe/London:20260201T150000
DTEND;TZID=Europe/London:20260201T170000
DTSTAMP:20260424T065635
CREATED:20251105T071059Z
LAST-MODIFIED:20260201T071009Z
UID:127150-1769958000-1769965200@keepcolchestercool.co.uk
SUMMARY:Calm At The Castle
DESCRIPTION:Join us on the first Sunday of the month for a little calm at Colchester Castle. \nThese sessions are suitable for visitors with ASD\, providing an opportunity for them to explore the museum at a quieter time. We aim to minimise sensory stimulation in the galleries by turning off audio and visuals and providing a sensory space off the main gallery. \nEar defenders\, visual guides and twiddlemuffs are available from the Museum’s reception free of charge. \nYou can find out more about our autism-friendly resources by visiting our Access page. \nThis event is included in Castle admission. There is no need to book; just purchase general admission tickets to the Castle\, or consider a Museums Pass to enjoy unlimited visits during the year!
URL:https://keepcolchestercool.co.uk/event/calm-at-the-castle-2/
LOCATION:Colchester Castle\, Colchester Castle
ORGANIZER;CN="Colchester Museums":MAILTO:noreply@facebookmail.com
END:VEVENT
BEGIN:VEVENT
DTSTART;TZID=Europe/London:20260201T190000
DTEND;TZID=Europe/London:20260201T220000
DTSTAMP:20260424T065635
CREATED:20251008T071101Z
LAST-MODIFIED:20260201T071009Z
UID:126464-1769972400-1769983200@keepcolchestercool.co.uk
SUMMARY:Irish/Scottish Folk Jam
DESCRIPTION:Everyone welcome to join in or listen.Traditional Folk Jam
URL:https://keepcolchestercool.co.uk/event/irish-scottish-folk-jam-4/
LOCATION:1-2 Castle Road\, Colchester\, UK\, 1-2 Castle Road\, Colchester\, UK
ORGANIZER;CN="The Foresters Arms":MAILTO:noreply@facebookmail_com
END:VEVENT
BEGIN:VEVENT
DTSTART;TZID=Europe/London:20260201T190000
DTEND;TZID=Europe/London:20260201T220000
DTSTAMP:20260424T065635
CREATED:20260115T071058Z
LAST-MODIFIED:20260126T071037Z
UID:127863-1769972400-1769983200@keepcolchestercool.co.uk
SUMMARY:Fiona Ross
DESCRIPTION:JazzTickets £17 / £15 concessions.Doors open 7pm\, starts 7.30pm.This show is for a seated audience. \nNamed among the 100 Alternative Power Music List\, multi-award-winning jazz artist\, journalist\, Grammy Academy member and founder of the award-winning Women in Jazz Media organisation Fiona Ross is ‘an artist at the top of her game’ (Jazz Quarterly). \nWhether it is her full nine-piece line up or her exclusive acoustic set\, audiences are left wanting more and ‘her talents are simply extraordinary’ (Kind Of Jazz). As a vocalist\, pianist\, composer and producer Fiona has become known for creating her own contemporary Jazz sound using fast paced Latin Jazz\, vintage jazz club and a little neo soul along with heart wrenching ballads. Performing at prestigious venues across the UK\, her music is played on radio stations all over the world and with a strong social media presence\, she has garnered nearly 1 million views of her music videos. \nExpect a sensational evening of captivating material from her critically acclaimed catalogue including her latest album ‘Moments in My Notebook’! \n‘Technical virtuosity and that raw emotional drive\, of an artist at the height of her game’ Jazz Quarterly \n‘Ross is undoubtedly one of the most groundbreaking artists of our time.’ Music Mingle \n‘With Moments in My Notebook\, Ross cements her place as one of the most fearlessly original voices in contemporary jazz and singer-songwriter storytelling’. Darryl Sterdan\,  \nBand Line-UpLead/Vocals and Piano: Fiona RossGuitar: Gibbi BettiniDrums: Marley DrummondDouble and Electric Bass: Derek DaleySaxophones and Flute: Loren HignellTrumpets: Dave Bo
URL:https://keepcolchestercool.co.uk/event/fiona-ross/
LOCATION:Church St\, CO1 1NF Colchester\, United Kingdom
ORGANIZER;CN="Colchester Arts Centre":MAILTO:noreply@facebookmail_com
END:VEVENT
BEGIN:VEVENT
DTSTART;TZID=Europe/London:20260201T190000
DTEND;TZID=Europe/London:20260201T230000
DTSTAMP:20260424T065635
CREATED:20260122T071046Z
LAST-MODIFIED:20260201T071009Z
UID:127954-1769972400-1769986800@keepcolchestercool.co.uk
SUMMARY:Club Country Sunday! 🤠
DESCRIPTION:🤠 CLUB COUNTRY SUNDAY @ RUBIX 🤠Colchester’s favourite Country night returns! \nDust off the cowboy boots and head down to Rubix Bar & Nightclub for a big\, feel-good Country Sunday packed with anthems\, sing-alongs and hands-in-the-air moments 🎶🍻 \n📅 Sunday 1st February⏰ 7PM – 11PM🎟 FREE ENTRY📍 Rubix – Colchester \nExpect:🤠 Modern & classic country hits🎶 Big choruses you know every word to🖥️ Large screen videos!🍹 Top drinks & a buzzing Sunday crowd \nPerfect for a chilled start that turns into a full-on party — because Sundays are better at Rubix 🔥 \n👉 Free entry all night – don’t miss it!
URL:https://keepcolchestercool.co.uk/event/club-country-sunday-%f0%9f%a4%a0/
LOCATION:Rubix Bar\, Rubix Bar
ORGANIZER;CN="Rubix Bar":MAILTO:noreply@facebookmail_com
END:VEVENT
BEGIN:VEVENT
DTSTART;TZID=Europe/London:20260201T193000
DTEND;TZID=Europe/London:20260201T223000
DTSTAMP:20260424T065635
CREATED:20260105T071019Z
LAST-MODIFIED:20260201T071009Z
UID:127616-1769974200-1769985000@keepcolchestercool.co.uk
SUMMARY:BBC Introducing in Essex and Cambridgeshire Presents: PISCES\, GEORGE BONE\, LEMONDAZE\, DEAN FROST
DESCRIPTION:BBC Introducing in Essex and Cambridgeshire Presents: A Showcase Gig at Three Wise Monkeys for Independent Venue WeekDate: Sunday 1st FebruaryLocation: Three Wise Monkeys\, ColchesterTickets:£7.50 + Booking FeeTime: Doors open at 7:00 PMBBC Introducing in Essex and Cambridgeshire is thrilled to announce a special showcase gig in celebration of Independent Venue Week 2026. This event will take place at the iconic Three Wise Monkeys in Colchester on Sunday 1st February\, bringing together some of the most exciting rising talents from the local music scene.The Line-Up:PISCESLEMONDAZEDEAN FROSTGEORGE BONEIndependent Venue WeekThis annual celebration champions the importance of grassroots music venues\, providing a platform for emerging artists and fostering a sense of community within the music industry. As proud supporters of independent music\, BBC Introducing in Essex and Cambridgeshire is honored to contribute to this initiative by showcasing local talent in one of the region’s most beloved venues.Tickets:Tickets are available now via the Three Wise Monkeys website and at the door (subject to availability). Don’t miss this incredible night of live music\, community spirit\, and celebration of independent venues.About BBC Introducing:BBC Introducing provides a vital platform for undiscovered and unsigned artists across the UK. By supporting grassroots music and giving artists opportunities to perform\, record\, and reach new audiences\, BBC Introducing continues to shape the future of the UK’s music landscape.Join Us:Come and be part of this unforgettable evening celebrating local talent and the independent music scene. Follow BBC Introducing in Essex and Cambridgeshire on social media for updates and more information.Tickets are £7.50 plus booking feePlease note that access to the top floor of Three Wise Monkeys does not have a lift\, but there are rest opportunities between each flight of stairs.Viewer discretion is advised: This show may potentially contain flashing and strobing lighting effects.We wanted to inform you of our refund policy regarding event tickets. Please note that we will be unable to process any ticket refunds within 7 days of the event.We understand that circumstances may arise that prevent you from attending the event\, but unfortunately\, we are unable to accommodate refund requests within this timeframe.
URL:https://keepcolchestercool.co.uk/event/bbc-introducing-in-essex-and-cambridgeshire-presents-pisces-lemondaze-dean-frost/
LOCATION:60 High Street\, CO1 1DN Colchester\, United Kingdom\, 60 High Street\, CO1 1DN Colchester\, United Kingdom
ORGANIZER;CN="Three Wise Monkeys Colchester":MAILTO:noreply@facebookmail_com
END:VEVENT
BEGIN:VEVENT
DTSTART;TZID=Europe/London:20260201T193000
DTEND;TZID=Europe/London:20260201T223000
DTSTAMP:20260424T065635
CREATED:20260122T071047Z
LAST-MODIFIED:20260201T071009Z
UID:127955-1769974200-1769985000@keepcolchestercool.co.uk
SUMMARY:Fiona Ross at Colchester Arts Centre
DESCRIPTION:Named among the 100 Alternative Power Music List\, multi-award-winning jazz artist\, journalist\, Grammy Academy member and founder of the award-winning Women in Jazz Media organisation Fiona Ross is ‘an artist at the top of her game’ (Jazz Quarterly). \nWhether it is her full nine-piece line up or her exclusive acoustic set\, audiences are left wanting more and ‘her talents are simply extraordinary’ (Kind Of Jazz). As a vocalist\, pianist\, composer and producer Fiona has become known for creating her own contemporary Jazz sound using fast paced Latin Jazz\, vintage jazz club and a little neo soul along with heart wrenching ballads. Performing at prestigious venues across the UK\, her music is played on radio stations all over the world and with a strong social media presence\, she has garnered nearly 1 million views of her music videos. \nExpect a sensational evening of captivating material from her critically acclaimed catalogue including her latest album ‘Moments in My Notebook’! \n‘Technical virtuosity and that raw emotional drive\, of an artist at the height of her game’ Jazz Quarterly \n‘Ross is undoubtedly one of the most groundbreaking artists of our time.’ Music Mingle \n‘With Moments in My Notebook\, Ross cements her place as one of the most fearlessly original voices in contemporary jazz and singer-songwriter storytelling’. Darryl Sterdan\,  \nBand Line-UpLead/Vocals and Piano: Fiona RossGuitar: Marco PiccioniDrums: Warren WoodcraftDouble and Electric Bass: Derek DaleySaxophones and Flute: Loren HignellTrumpets: Dave BoaPercussion: Simon Todd
URL:https://keepcolchestercool.co.uk/event/fiona-ross-at-colchester-arts-centre/
LOCATION:Colchester Arts Centre\, Colchester Arts Centre
END:VEVENT
END:VCALENDAR