BEGIN:VCALENDAR
VERSION:2.0
PRODID:-//Keep Colchester Cool - ECPv6.15.20//NONSGML v1.0//EN
CALSCALE:GREGORIAN
METHOD:PUBLISH
X-WR-CALNAME:Keep Colchester Cool
X-ORIGINAL-URL:https://keepcolchestercool.co.uk
X-WR-CALDESC:Events for Keep Colchester Cool
REFRESH-INTERVAL;VALUE=DURATION:PT1H
X-Robots-Tag:noindex
X-PUBLISHED-TTL:PT1H
BEGIN:VTIMEZONE
TZID:Europe/London
BEGIN:DAYLIGHT
TZOFFSETFROM:+0000
TZOFFSETTO:+0100
TZNAME:BST
DTSTART:20250330T010000
END:DAYLIGHT
BEGIN:STANDARD
TZOFFSETFROM:+0100
TZOFFSETTO:+0000
TZNAME:GMT
DTSTART:20251026T010000
END:STANDARD
BEGIN:DAYLIGHT
TZOFFSETFROM:+0000
TZOFFSETTO:+0100
TZNAME:BST
DTSTART:20260329T010000
END:DAYLIGHT
BEGIN:STANDARD
TZOFFSETFROM:+0100
TZOFFSETTO:+0000
TZNAME:GMT
DTSTART:20261025T010000
END:STANDARD
BEGIN:DAYLIGHT
TZOFFSETFROM:+0000
TZOFFSETTO:+0100
TZNAME:BST
DTSTART:20270328T010000
END:DAYLIGHT
BEGIN:STANDARD
TZOFFSETFROM:+0100
TZOFFSETTO:+0000
TZNAME:GMT
DTSTART:20271031T010000
END:STANDARD
END:VTIMEZONE
BEGIN:VEVENT
DTSTART;TZID=Europe/London:20260204T190000
DTEND;TZID=Europe/London:20260204T220000
DTSTAMP:20260424T065336
CREATED:20260105T071019Z
LAST-MODIFIED:20260204T071000Z
UID:127618-1770231600-1770242400@keepcolchestercool.co.uk
SUMMARY:Victoria Inn Film\, TV & Music Quiz 39
DESCRIPTION:Test your knowledge of all things film\, TV and music\, and help raise money for an incredible cause! \n– £3 a head (cash only)– Maximum 4 to a team– Outside food & dogs welcome – Book on 01206 514510 \nPlease arrive at least twenty minutes before the quiz is due to start to place drink orders. \nIf you book and then decide not to attend\, please cancel your booking.
URL:https://keepcolchestercool.co.uk/event/victoria-inn-film-tv-music-quiz-39/
LOCATION:Victoria Inn Colchester\, 10 North Station Rd\, Colchester\, CO1 1RB\, GB
ORGANIZER;CN="Film%2C TV & Music Quiz":MAILTO:noreply@facebookmail_com
END:VEVENT
BEGIN:VEVENT
DTSTART;TZID=Europe/London:20260204T190000
DTEND;TZID=Europe/London:20260204T220000
DTSTAMP:20260424T065336
CREATED:20260105T071019Z
LAST-MODIFIED:20260106T071042Z
UID:127619-1770231600-1770242400@keepcolchestercool.co.uk
SUMMARY:Colchester Comedy February Showcase
DESCRIPTION:Join us at Three Wise Monkeys\, Colchester\, for a comedy showcase that promises a bang for your buck! The line up in no particular order: ZAK RANGER HERMANG MAKWANA CRAIG MCCALL EDDIE ROJAS KATHERINE! And Headliner… DON AVOCADO (JIM CARLBERG) Grab this double ticket for entry to both our February and March Showcase comedy shows at Three Wise Monkeys!You’ll see a mix of fresh\, new faces in the local comedy scene\, alongside our seasoned Headliner Don Avacado (Jim Carlberg)\, guaranteeing two evenings of hilarious entertainment. Don’t miss out!➡️ Doors open at 7:00 PM ➡️ Show starts at 7:30 PM 🎟️ Tickets are just £10 + booking fee !Age Restrictions:Over 18s OnlyBook your early bird tickets for an evening of guaranteed laughs!
URL:https://keepcolchestercool.co.uk/event/colchester-comedy-february-showcase/
LOCATION:60 High Street\, CO1 1DN Colchester\, United Kingdom\, 60 High Street\, CO1 1DN Colchester\, United Kingdom
ORGANIZER;CN="Three Wise Monkeys Colchester":MAILTO:noreply@facebookmail_com
END:VEVENT
BEGIN:VEVENT
DTSTART;TZID=Europe/London:20260204T190000
DTEND;TZID=Europe/London:20260204T220000
DTSTAMP:20260424T065336
CREATED:20260120T071014Z
LAST-MODIFIED:20260204T071001Z
UID:127898-1770231600-1770242400@keepcolchestercool.co.uk
SUMMARY:Draw @ The Minories
DESCRIPTION:New for 2026 – Draw @ The Minories \nStarting in February\, Wednesday evenings see the start of our new drawing classes aimed at beginners and experts alike. The sessions will be led by Natalie Eldred\, a practising artist. Whether you come along for a single session or join us weekly\, you will develop your skills\, confidence\, technique and creative understanding. \nThese sessions are designed to offer space for beginners and the more experienced to explore drawing as a foundation for artistic growth. The sessions will be complimented by short or one-off courses that utilise drawing such as printmaking and painting. \nThese sessions are more than a typical drawing class. By creating a safe space for creativity and expression\, everyone is welcome to come along and experiment. \nhttps://www.facebook.com/events/2106008613481906/?event_time_id=2106008616815239
URL:https://keepcolchestercool.co.uk/event/draw-the-minories/
LOCATION:74 High Street\, CO1 1UE Colchester\, United Kingdom\, 74 High Street\, CO1 1UE Colchester\, United Kingdom
ORGANIZER;CN="The Minories":MAILTO:noreply@facebookmail.com
END:VEVENT
BEGIN:VEVENT
DTSTART;TZID=Europe/London:20260204T190000
DTEND;TZID=Europe/London:20260204T220000
DTSTAMP:20260424T065336
CREATED:20260125T071009Z
LAST-MODIFIED:20260204T071001Z
UID:128065-1770231600-1770242400@keepcolchestercool.co.uk
SUMMARY:Colchester Comedy Showcase
DESCRIPTION:🎤 Get Ready to Laugh\, Colchester! \nLooking for the perfect midweek pick-me-up?  \nThe Colchester Comedy Showcase is coming to the Top Floor of Three Wise Monkeys\, and you don’t want to miss it! 🍻 \nPresented by Topper Promotions\, we’re bringing together a stellar lineup of talent for one night only. Whether you’re a comedy regular or just need a good night out\, this is the place to be. \nThe LineupFeaturing hilarious sets from: \n * Zak Ranger * Hermang Makwana * Craig McCall * Eddie Rojas * Katherine! \n🌟 Headliner: The one and only Don Avocado (Jim Carlberg) \nThe Details \n📅 When: Wednesday\, 4th February \n📍 Where: Three Wise Monkeys\, Colchester (Top Floor) \n🕖 Doors Open: 7:00 PM \n🎟️ Tickets: Early Bird specials available for just £10 + booking fee!Don’t wait until it’s sold out—grab your tickets now and join us for a night of craft beer and non-stop laughs. \n👉 Scan the QR code in the image or click the link in our bio to book!
URL:https://keepcolchestercool.co.uk/event/colchester-comedy-showcase-4/
LOCATION:CO1 1DN Colchester\, United Kingdom\, CO1 1DN Colchester\, United Kingdom
ORGANIZER;CN="Topper Promotions - UK":MAILTO:noreply@facebookmail.com
END:VEVENT
BEGIN:VEVENT
DTSTART;TZID=Europe/London:20260204T193000
DTEND;TZID=Europe/London:20260204T213000
DTSTAMP:20260424T065336
CREATED:20260204T071001Z
LAST-MODIFIED:20260204T071001Z
UID:128214-1770233400-1770240600@keepcolchestercool.co.uk
SUMMARY:February Brewkulele
DESCRIPTION:The joy is back tomorrow.. bangers from The Housemartins\, Fleetwood Mac\, Kaiser Chiefs\, Lady Gaga and more!
URL:https://keepcolchestercool.co.uk/event/february-brewkulele/
LOCATION:Three Wise Monkeys Colchester
ORGANIZER;CN="Colchester Brewkulele":MAILTO:noreply@facebookmail.com
END:VEVENT
END:VCALENDAR