BEGIN:VCALENDAR
VERSION:2.0
PRODID:-//Keep Colchester Cool - ECPv6.15.20//NONSGML v1.0//EN
CALSCALE:GREGORIAN
METHOD:PUBLISH
X-ORIGINAL-URL:https://keepcolchestercool.co.uk
X-WR-CALDESC:Events for Keep Colchester Cool
REFRESH-INTERVAL;VALUE=DURATION:PT1H
X-Robots-Tag:noindex
X-PUBLISHED-TTL:PT1H
BEGIN:VTIMEZONE
TZID:Europe/London
BEGIN:DAYLIGHT
TZOFFSETFROM:+0000
TZOFFSETTO:+0100
TZNAME:BST
DTSTART:20250330T010000
END:DAYLIGHT
BEGIN:STANDARD
TZOFFSETFROM:+0100
TZOFFSETTO:+0000
TZNAME:GMT
DTSTART:20251026T010000
END:STANDARD
BEGIN:DAYLIGHT
TZOFFSETFROM:+0000
TZOFFSETTO:+0100
TZNAME:BST
DTSTART:20260329T010000
END:DAYLIGHT
BEGIN:STANDARD
TZOFFSETFROM:+0100
TZOFFSETTO:+0000
TZNAME:GMT
DTSTART:20261025T010000
END:STANDARD
BEGIN:DAYLIGHT
TZOFFSETFROM:+0000
TZOFFSETTO:+0100
TZNAME:BST
DTSTART:20270328T010000
END:DAYLIGHT
BEGIN:STANDARD
TZOFFSETFROM:+0100
TZOFFSETTO:+0000
TZNAME:GMT
DTSTART:20271031T010000
END:STANDARD
END:VTIMEZONE
BEGIN:VEVENT
DTSTART;TZID=Europe/London:20260206T183000
DTEND;TZID=Europe/London:20260206T213000
DTSTAMP:20260424T065635
CREATED:20260127T071059Z
LAST-MODIFIED:20260206T071026Z
UID:128098-1770402600-1770413400@keepcolchestercool.co.uk
SUMMARY:East Anglian Folklore Centre Fundraiser - Armoured Man\, Oli Steadman and the Eerie Essex Podcast
DESCRIPTION:Admission for full event including live podcast recording £19Doors open 6.30pm.Podcast recording begins at 7pm. \nEverything else from 8pm!Admission from 8pm £15. \nThis gig is for a seated audience. \nJoin us for a very special evening as we weave storytelling\, ritual and song with many wonderful friends of the Folklore Centre. This is a fundraising event designed to help support the ongoing operation of the East Anglian Folklore Centre\, and have a tonne of folkloric fun whilst doing so! Our fine Programme of Entertainments Includes: \nA live-recorded mega podcast with Eerie Essex\, Norfolk Folklore Society and other special guests. \nA garland of musical treats from local landscape inspired legends Armoured Man & Oli Steadman (Stornaway) who will be performing a fine selction of songs from his 365 days of folk project. \nFolklore Zine-Making/Crafting station. \nMuch More TBA \nhide
URL:https://keepcolchestercool.co.uk/event/east-anglian-folklore-centre-fundraiser-armoured-man-oli-steadman-and-the-eerie-essex-podcast/
LOCATION:Church St\, CO1 1NF Colchester\, United Kingdom
ORGANIZER;CN="Colchester Arts Centre":MAILTO:noreply@facebookmail_com
END:VEVENT
BEGIN:VEVENT
DTSTART;TZID=Europe/London:20260206T190000
DTEND;TZID=Europe/London:20260206T220000
DTSTAMP:20260424T065635
CREATED:20260122T071048Z
LAST-MODIFIED:20260206T071027Z
UID:127959-1770404400-1770415200@keepcolchestercool.co.uk
SUMMARY:Quiz Night at the Tower
DESCRIPTION:https://app.tickettailor.com/events/layermarneychurch/2017994
URL:https://keepcolchestercool.co.uk/event/quiz-night-at-the-tower/
LOCATION:Layer Marney Tower
END:VEVENT
BEGIN:VEVENT
DTSTART;TZID=Europe/London:20260206T190000
DTEND;TZID=Europe/London:20260206T230000
DTSTAMP:20260424T065635
CREATED:20260204T071003Z
LAST-MODIFIED:20260206T071027Z
UID:128215-1770404400-1770418800@keepcolchestercool.co.uk
SUMMARY:Magic The Gathering Friday Night Magic Standard Event
DESCRIPTION:With Friday nights back at Ace Comics Gaming Centre\, we are pleased to bring back Friday night magic standard onto the calendar too. \nStandard decks\, swiss rounds\, fnm prizes and prize packs on offer. \nOne booster pack will be added to the prize pot for each player entering. Promo packs for 1st and 2nd place and fnm promos on offer when available. \nLets look to bring standard back to ACE and Friday nights in Colchester.  \nStart time: 7:00pmCost £6.00 \nPlease note all of these events have limited spaces of 48 people\, so to avoid missing out please either click attend on this event\, come in and speak to a member of staff of call us on 01206 561912 to make sure you don’t miss out.
URL:https://keepcolchestercool.co.uk/event/magic-the-gathering-friday-night-magic-standard-event-2/
LOCATION:ACE Comics\, 42 Culver Street East\, Colchester\, CO1 1LE\, GB
ORGANIZER;CN="Glenn Richardson":MAILTO:noreply@facebookmail_com
END:VEVENT
BEGIN:VEVENT
DTSTART;TZID=Europe/London:20260206T200000
DTEND;TZID=Europe/London:20260207T000000
DTSTAMP:20260424T065635
CREATED:20251008T071102Z
LAST-MODIFIED:20260207T071003Z
UID:126466-1770408000-1770422400@keepcolchestercool.co.uk
SUMMARY:The Greatest MUSICALS Disco - Colchester
DESCRIPTION:This isn’t just any Disco\, this is THE GREATEST MUSICALS DISCO!!! 🎶🌟 \nPrepare yourselves for a full blown theatrical explosion 💥🎭 as we give you music from Hamilton\, Grease\, Dirty Dancing\, High School Musical\, Wicked & Mamma Mia to The Greatest Showman\, Frozen\, Rent\, Six and sooo much more!! \nWith a sensational mix of classic show tunes and movie soundtracks 🌞The playlist is a NON STOP theatrical journey through the greatest hits of all the musicals you know & love🎉 \nBut hold on\, because the madness doesn’t stop there! 🤯 We also have lip sync competitions\, prizes\, optional fancy dress & audience props making it an ultimate interactive event of unforgettable fun✨👗👔 \nSo if you like:🎤 Singing your heart out to all the BIGGEST musicals anthems 🌟💃 Dancing to your Favourite show tunes 🕺💕 Being surrounded by like-minded musical fanatics 🎶🤝 Enjoying a welcoming and safe environment 🤗👯 Making new friends 🤩🏆 Winning Prizes 🎁 \nThen prepare to be transported to a realm of pure\, unadulterated musical bliss! 🤩 and join us for an unforgettable experience filled with the most amazing musical and show tunes EVER!!! ⭐⭐⭐⭐⭐ \nPlease note this is an 18+ Event.—————————————————————— \nThe event is predominantly a dancing/standing event. Please ask a member of staff on arrival if you require seating. \nCarers may attend for free without a ticket as long as you have a ticket for yourself\, and you can provide proof of disability when you arrive. \nRefunds will only be given if the event itself is cancelled. Refunds cannot be given if an event is postponed or rescheduled to another date\, tickets purchased will still be valid and automatically transferred to the new date. If you are unable to attend the new date for any reason then you may resell or transfer your ticket to another person who can attend. Third party sites like TicketSwap.com can be used to resell tickets.
URL:https://keepcolchestercool.co.uk/event/the-greatest-musicals-disco-colchester/
LOCATION:Three Wise Monkeys Colchester
END:VEVENT
BEGIN:VEVENT
DTSTART;TZID=Europe/London:20260206T203000
DTEND;TZID=Europe/London:20260206T235900
DTSTAMP:20260424T065635
CREATED:20260105T071020Z
LAST-MODIFIED:20260206T071027Z
UID:127621-1770409800-1770422340@keepcolchestercool.co.uk
SUMMARY:Ska/Punk Night
DESCRIPTION:It’s on!Honkus RompusDestroy The IdolsThe Ska’d Town Crashers \nA night of Ska/Punk at Coda Colchester Bands start at 8:30pmFree entry
URL:https://keepcolchestercool.co.uk/event/ska-punk-night/
LOCATION:Coda Colchester\, Coda Colchester
ORGANIZER;CN="The Ska%E2%80%99d":MAILTO:noreply@facebookmail.com
END:VEVENT
END:VCALENDAR