BEGIN:VCALENDAR
VERSION:2.0
PRODID:-//Keep Colchester Cool - ECPv6.15.20//NONSGML v1.0//EN
CALSCALE:GREGORIAN
METHOD:PUBLISH
X-WR-CALNAME:Keep Colchester Cool
X-ORIGINAL-URL:https://keepcolchestercool.co.uk
X-WR-CALDESC:Events for Keep Colchester Cool
REFRESH-INTERVAL;VALUE=DURATION:PT1H
X-Robots-Tag:noindex
X-PUBLISHED-TTL:PT1H
BEGIN:VTIMEZONE
TZID:Europe/London
BEGIN:DAYLIGHT
TZOFFSETFROM:+0000
TZOFFSETTO:+0100
TZNAME:BST
DTSTART:20250330T010000
END:DAYLIGHT
BEGIN:STANDARD
TZOFFSETFROM:+0100
TZOFFSETTO:+0000
TZNAME:GMT
DTSTART:20251026T010000
END:STANDARD
BEGIN:DAYLIGHT
TZOFFSETFROM:+0000
TZOFFSETTO:+0100
TZNAME:BST
DTSTART:20260329T010000
END:DAYLIGHT
BEGIN:STANDARD
TZOFFSETFROM:+0100
TZOFFSETTO:+0000
TZNAME:GMT
DTSTART:20261025T010000
END:STANDARD
BEGIN:DAYLIGHT
TZOFFSETFROM:+0000
TZOFFSETTO:+0100
TZNAME:BST
DTSTART:20270328T010000
END:DAYLIGHT
BEGIN:STANDARD
TZOFFSETFROM:+0100
TZOFFSETTO:+0000
TZNAME:GMT
DTSTART:20271031T010000
END:STANDARD
END:VTIMEZONE
BEGIN:VEVENT
DTSTART;TZID=Europe/London:20260207T093000
DTEND;TZID=Europe/London:20260207T140000
DTSTAMP:20260424T065404
CREATED:20260105T071020Z
LAST-MODIFIED:20260207T071004Z
UID:127622-1770456600-1770472800@keepcolchestercool.co.uk
SUMMARY:Colchester Farmers Market
DESCRIPTION:Every month we have a wonderful line up of over thirty stalls at Colchester Farmers Market selling a fantastic range of products including honey direct from the beekeeper\, freshly baked slices of cake\, scrummy brownies & jampacked doughnuts as well as fresh apple juice\, biodynamic vegetables\, organic salt marsh lamb\, freshly cut flowers\, fresh beef & pork\, raw milk\, local sausages\, award winning local wine and freshly baked sourdoughs. \nHow about freshly baked\, stuffed New York style bagels for lunch or maybe you’d prefer delicious samosas and Indian snacks or the the freshest Sushi from Kokorozashi. \nThe Farmers Market is open on the first Saturday of every month (closed in January) with parking a two minute walk away and Blue Badge parking available outside the theatre. \nhttps://www.facebook.com/events/1215046767180291/?event_time_id=1215046793846955
URL:https://keepcolchestercool.co.uk/event/colchester-farmers-market-2/
LOCATION:Mercury Theatre Colchester\, Mercury Theatre Colchester
ORGANIZER;CN="Suffolk Market Events":MAILTO:noreply@facebookmail_com
END:VEVENT
BEGIN:VEVENT
DTSTART;TZID=Europe/London:20260207T100000
DTEND;TZID=Europe/London:20260207T120000
DTSTAMP:20260424T065404
CREATED:20260204T071004Z
LAST-MODIFIED:20260207T071004Z
UID:128216-1770458400-1770465600@keepcolchestercool.co.uk
SUMMARY:Disney Lorcana Whispers in the Well League
DESCRIPTION:This week standard week. \nDue to popular demand and the love or Lorcana\, Saturday morning league is going back to a points based system (for those that want to join in with the points system). This is however just a fun guideline. if you do not have each of the formats decks don’t worry come and play any deck you like.  \nAt the end of each week prizes will be given out in the form of promo cards and badges etc. Don’t worry if you do not want to take part there will be promos for all as well as random prizes too.  \nRemember this is all for those that want to join in with the sticker fun. You are more than welcome to play any deck on any league session\, so don’t worry if you don’t have all the formats decks league is about enjoying and playing Lorcana each week.  \nAll morning we will have demo staff available to teach you all you need to know about this game. We will be running the demo’s with the new starter decks available. \nPlease note all of these events have limited spaces of 24 people\, so to avoid missing out please either click attend on this event\, come in and speak to a member of staff of call us on 01206 561912 to make sure you don’t miss out.
URL:https://keepcolchestercool.co.uk/event/disney-lorcana-whispers-in-the-well-league-2/
LOCATION:ACE Comics\, 42 Culver Street East\, Colchester\, CO1 1LE\, GB
ORGANIZER;CN="Glenn Richardson":MAILTO:noreply@facebookmail_com
END:VEVENT
BEGIN:VEVENT
DTSTART;TZID=Europe/London:20260207T100000
DTEND;TZID=Europe/London:20260207T150000
DTSTAMP:20260424T065404
CREATED:20260105T071020Z
LAST-MODIFIED:20260207T071004Z
UID:127623-1770458400-1770476400@keepcolchestercool.co.uk
SUMMARY:Folk & Bespoke Artisan Craft Fairs
DESCRIPTION:Artisan Craft Fairs\, 10am-3pm\, free entry\, at Firstsite\, Lewis Gardens\, High Street\, Colchester CO1 1JH. Folk & Bespoke prides itself as being different\, not the same boring shops that you see around town\, bringing you the same cheap\, unethical goods. Folk & Bespoke aims to bring you something different EVERY month! . We aim to be a unique shopping experience\, a celebration of small independent businesses and time served craftspeople. My aim is to put you in the spotlight and support creative communities! My aim is for us to be the go to market for people to shop indie! . I hope that all of us small businesses will support other small businesses! . We are a small town community! You can’t go out without bumping in to someone you know or a familiar face. Our town will grow and this is the time for artisans\, creatives and independents to flourish. . The demand is there\, the talent is there. Let’s commit to being something different\, something better\, something great!  \nhttps://www.facebook.com/events/1192709558944484/?event_time_id=1192745822274191
URL:https://keepcolchestercool.co.uk/event/folk-bespoke-artisan-craft-fairs/
LOCATION:Firstsite Colchester\, Firstsite Colchester
ORGANIZER;CN="Folk and Bespoke":MAILTO:noreply@facebookmail_com
END:VEVENT
BEGIN:VEVENT
DTSTART;TZID=Europe/London:20260207T103000
DTEND;TZID=Europe/London:20260207T133000
DTSTAMP:20260424T065404
CREATED:20251202T071100Z
LAST-MODIFIED:20260207T071004Z
UID:127396-1770460200-1770471000@keepcolchestercool.co.uk
SUMMARY:Willow Heart Workshop
DESCRIPTION:Join us for a beautifully relaxed and creative morning at The Lexden Crown\, where you’ll learn to weave your very own willow heart with lights. This stunning piece makes a perfect decoration for your home\, a thoughtful handmade gift\, or even a lovely early Valentine’s project. \nNo experience is needed\, you’ll be guided step-by-step\, and all materials are supplied. Just come along\, enjoy the atmosphere\, and get stuck into a calming\, hands-on craft. \nTickets include your choice of refreshments: \n£35pp including a hot drink & cake \n£45pp including lunch: Thai vegetable curry & rice\, Scampi & fries\, or Chicken schnitzel & fries \nHeld in the warm and welcoming surroundings of The Lexden Crown\, this workshop is a lovely way to spend a winter morning with friends\, family\, or simply for a little creative time to yourself. \nSpaces are limited early booking recommended. \nhttps://www.thecreativeworkshopcompany.co.uk/event-details/willow-heart-workshop
URL:https://keepcolchestercool.co.uk/event/willow-heart-workshop-2/
LOCATION:The Lexden Crown\, Bistro Pub – Colchester\, The Lexden Crown\, Bistro Pub - Colchester
ORGANIZER;CN="The Creative Workshop Company":MAILTO:noreply@facebookmail.com
END:VEVENT
BEGIN:VEVENT
DTSTART;TZID=Europe/London:20260207T133000
DTEND;TZID=Europe/London:20260207T163000
DTSTAMP:20260424T065404
CREATED:20260127T071100Z
LAST-MODIFIED:20260207T071004Z
UID:128099-1770471000-1770481800@keepcolchestercool.co.uk
SUMMARY:Crafty Fools: Adventures In Science
DESCRIPTION:Tickets £12 / £10 concessions.Doors open 1.30pm\, show starts 2pm.For all aged 6 and up. \nJoin ‘The Magical Mr West’ on an incredible adventure into the world of science! Aided by his corvid companion Crowbert and a collection of curious contraptions\, Mr West demonstrates the fundamental principles of scientific enquiry and tackles some of the trickiest questions in the history of humanity. \nBest known as one half of magic duo ‘Morgan & West’\, ‘The Magical Mr West’ has travelled around the world performing to audiences of all ages with spectacular shows that include magic\, science and a good deal of tomfoolery. \nNow he presents his most amazing show yet\, with the help (or possibly hindrance…) of a wisecracking cartoon crow. \nExpect skills\, silliness and the studious application of logic as you
URL:https://keepcolchestercool.co.uk/event/crafty-fools-adventures-in-science/
LOCATION:Church St\, CO1 1NF Colchester\, United Kingdom
ORGANIZER;CN="Colchester Arts Centre":MAILTO:noreply@facebookmail_com
END:VEVENT
BEGIN:VEVENT
DTSTART;TZID=Europe/London:20260207T193000
DTEND;TZID=Europe/London:20260207T220000
DTSTAMP:20260424T065404
CREATED:20251008T071102Z
LAST-MODIFIED:20260207T071005Z
UID:126467-1770492600-1770501600@keepcolchestercool.co.uk
SUMMARY:Family Film Concert
DESCRIPTION:Get ready for an unforgettable evening of music and magic as SBMS brings the silver screen to life! Packed with blockbuster favourites and iconic scores that have captured hearts across generations\, this is a night of adventure\, drama and nostalgia that the whole family will love. \nFrom the playful mischief of Dukas’ The Sorcerer’s Apprentice to the swashbuckling excitement of Pirates of the Caribbean\, this thrilling programme spans fantasy\, romance and high-octane action. Feel the wonder of John Williams’ Harry Potter and Raiders March\, soar with James Horner’s sweeping music from Titanic\, and experience the heroic grandeur of Walton’s Henry V. \nWhether you’re humming along or discovering these masterpieces for the first time\, this concert promises a feel-good celebration of film music at its finest. \nProgramme \nDukas: Sorcerer’s ApprenticeBadelt: Pirates of the CaribbeanJohn Williams: Highlights from Harry PotterHorner: TitanicJohn Williams: Raiders MarchWalton: Music from Henry VJohn Williams: Star Wars: The MenaceElfman: Avengers: Age of UltronJohn Williams: Flying Theme from E.T. the Extra TerrestrialVarious composers: Themes from James Bond \nThis concert is sponsored by the Hervey Benham Charitable Trust. \nTickets on sale until 12:00pm on Saturday\, 7 February 2026. Tickets available on the door from 7:00pm (subject to availability).
URL:https://keepcolchestercool.co.uk/event/family-film-concert/
LOCATION:St Botolphs Church\, Colchester\, GB
ORGANIZER;CN="St Botolph's Music Society":MAILTO:noreply@facebookmail.com
END:VEVENT
BEGIN:VEVENT
DTSTART;TZID=Europe/London:20260207T200000
DTEND;TZID=Europe/London:20260207T230000
DTSTAMP:20260424T065404
CREATED:20260120T071016Z
LAST-MODIFIED:20260207T071005Z
UID:127902-1770494400-1770505200@keepcolchestercool.co.uk
SUMMARY:Live Music Story of Rock 'n' Roll
DESCRIPTION:Join us from 8pm for an unforgettable night as we take you on a journey through the greatest Rock ‘n’ Roll hits of all time! Sing\, dance and relive the music that shaped generations. \nEntry is free so why not book a table for a comfortable night? Just £5 to secure your table which will be deducted from your final bill.
URL:https://keepcolchestercool.co.uk/event/live-music-story-of-rock-n-roll/
LOCATION:The Flag\, Colchester Road\, Wivenhoe\,  \, CO7 9HS Colchester\, United Kingdom\, The Flag\, Colchester Road\, Wivenhoe\, \, CO7 9HS Colchester\, United Kingdom
END:VEVENT
END:VCALENDAR