BEGIN:VCALENDAR
VERSION:2.0
PRODID:-//Keep Colchester Cool - ECPv6.15.20//NONSGML v1.0//EN
CALSCALE:GREGORIAN
METHOD:PUBLISH
X-WR-CALNAME:Keep Colchester Cool
X-ORIGINAL-URL:https://keepcolchestercool.co.uk
X-WR-CALDESC:Events for Keep Colchester Cool
REFRESH-INTERVAL;VALUE=DURATION:PT1H
X-Robots-Tag:noindex
X-PUBLISHED-TTL:PT1H
BEGIN:VTIMEZONE
TZID:Europe/London
BEGIN:DAYLIGHT
TZOFFSETFROM:+0000
TZOFFSETTO:+0100
TZNAME:BST
DTSTART:20250330T010000
END:DAYLIGHT
BEGIN:STANDARD
TZOFFSETFROM:+0100
TZOFFSETTO:+0000
TZNAME:GMT
DTSTART:20251026T010000
END:STANDARD
BEGIN:DAYLIGHT
TZOFFSETFROM:+0000
TZOFFSETTO:+0100
TZNAME:BST
DTSTART:20260329T010000
END:DAYLIGHT
BEGIN:STANDARD
TZOFFSETFROM:+0100
TZOFFSETTO:+0000
TZNAME:GMT
DTSTART:20261025T010000
END:STANDARD
BEGIN:DAYLIGHT
TZOFFSETFROM:+0000
TZOFFSETTO:+0100
TZNAME:BST
DTSTART:20270328T010000
END:DAYLIGHT
BEGIN:STANDARD
TZOFFSETFROM:+0100
TZOFFSETTO:+0000
TZNAME:GMT
DTSTART:20271031T010000
END:STANDARD
END:VTIMEZONE
BEGIN:VEVENT
DTSTART;TZID=Europe/London:20260211T180000
DTEND;TZID=Europe/London:20260211T220000
DTSTAMP:20260424T062155
CREATED:20260204T071008Z
LAST-MODIFIED:20260211T071011Z
UID:128218-1770832800-1770847200@keepcolchestercool.co.uk
SUMMARY:WARGAME WEDNESDAY
DESCRIPTION:Come & Join us for WARGAME WEDNESDAY! Bring you armies and get battling!
URL:https://keepcolchestercool.co.uk/event/wargame-wednesday-2/
LOCATION:Dice & A Slice\, 37 Queen Street\, Colchester\, CO1 2PQ\, GB
ORGANIZER;CN="Dice &amp%3B a Slice":MAILTO:noreply@facebookmail_com
END:VEVENT
BEGIN:VEVENT
DTSTART;TZID=Europe/London:20260211T193000
DTEND;TZID=Europe/London:20260211T223000
DTSTAMP:20260424T062155
CREATED:20260122T071049Z
LAST-MODIFIED:20260211T071012Z
UID:127961-1770838200-1770849000@keepcolchestercool.co.uk
SUMMARY:Tales Of A Tour Manager - Cherry Mullins
DESCRIPTION:Presentation by Cherry Mullins (In French with English) \nA light hearted look at Cherry’s excerpts from over 30 years experience of being a European Tour Guide brought to life through a slide show\, combining stories and poems of places and people she’s encountered along the way. \nIf you have a love for France & all things French\, you will enjoy our evenings\, starting with refreshments (included) from 7.30pm and the speaker/event at 8pm prompt. Visitors are very welcome to join us for the evening £5.00.
URL:https://keepcolchestercool.co.uk/event/tales-of-a-tour-manager-cherry-mullins/
LOCATION:Christ Church Hall\, Ireton Road\, CO33AT Colchester\, United Kingdom\, Christ Church Hall\, Ireton Road\, CO33AT Colchester\, United Kingdom
ORGANIZER;CN="Colchester Anglo-French Circle":MAILTO:noreply@facebookmail_com
END:VEVENT
END:VCALENDAR