BEGIN:VCALENDAR
VERSION:2.0
PRODID:-//Keep Colchester Cool - ECPv6.15.20//NONSGML v1.0//EN
CALSCALE:GREGORIAN
METHOD:PUBLISH
X-ORIGINAL-URL:https://keepcolchestercool.co.uk
X-WR-CALDESC:Events for Keep Colchester Cool
REFRESH-INTERVAL;VALUE=DURATION:PT1H
X-Robots-Tag:noindex
X-PUBLISHED-TTL:PT1H
BEGIN:VTIMEZONE
TZID:Europe/London
BEGIN:DAYLIGHT
TZOFFSETFROM:+0000
TZOFFSETTO:+0100
TZNAME:BST
DTSTART:20250330T010000
END:DAYLIGHT
BEGIN:STANDARD
TZOFFSETFROM:+0100
TZOFFSETTO:+0000
TZNAME:GMT
DTSTART:20251026T010000
END:STANDARD
BEGIN:DAYLIGHT
TZOFFSETFROM:+0000
TZOFFSETTO:+0100
TZNAME:BST
DTSTART:20260329T010000
END:DAYLIGHT
BEGIN:STANDARD
TZOFFSETFROM:+0100
TZOFFSETTO:+0000
TZNAME:GMT
DTSTART:20261025T010000
END:STANDARD
BEGIN:DAYLIGHT
TZOFFSETFROM:+0000
TZOFFSETTO:+0100
TZNAME:BST
DTSTART:20270328T010000
END:DAYLIGHT
BEGIN:STANDARD
TZOFFSETFROM:+0100
TZOFFSETTO:+0000
TZNAME:GMT
DTSTART:20271031T010000
END:STANDARD
END:VTIMEZONE
BEGIN:VEVENT
DTSTART;TZID=Europe/London:20260212T190000
DTEND;TZID=Europe/London:20260212T210000
DTSTAMP:20260424T062356
CREATED:20260204T071008Z
LAST-MODIFIED:20260212T070956Z
UID:128219-1770922800-1770930000@keepcolchestercool.co.uk
SUMMARY:Life Drawing - Thursday\, 12th February 2026
DESCRIPTION:We are a local life drawing group in Colchester. We meet up for untutored drawings with professional models from all backgrounds. \nAll abilities are welcome. Just drop in\, draw and pay £10 cash for the session. \nDrawing boards\, easels\, papers\, charcoal and pencils are provided for free or bring your materials. \nAccessible venue. \nLocation: Straight Road Community Centre329 Straight Road\, Colchester\, CO3 9EF
URL:https://keepcolchestercool.co.uk/event/life-drawing-thursday-12th-february-2026/
LOCATION:Straight Road Community Centre\, Straight Road Community Centre
ORGANIZER;CN="Jay Seram":MAILTO:noreply@facebookmail_com
END:VEVENT
BEGIN:VEVENT
DTSTART;TZID=Europe/London:20260212T190000
DTEND;TZID=Europe/London:20260212T220000
DTSTAMP:20260424T062357
CREATED:20260105T071021Z
LAST-MODIFIED:20260212T070957Z
UID:127625-1770922800-1770933600@keepcolchestercool.co.uk
SUMMARY:Victoria Inn General Knowledge Quiz 4
DESCRIPTION:Test your general knowledge at the Victoria Inn General Knowledge Quiz\, and help raise money for an incredible cause! \n– £3 a head entry (CASH ONLY)– Maximum 4 to a team– Outside food & dogs welcome – Book on 01206 514510 \nPlease bring the number of people you book for\, and if you book and decide not to attend\, please cancel your booking.  \nPlease arrive at least twenty minutes before the quiz is due to start to place drink orders.
URL:https://keepcolchestercool.co.uk/event/victoria-inn-general-knowledge-quiz-4/
LOCATION:Victoria Inn Colchester\, 10 North Station Rd\, Colchester\, CO1 1RB\, GB
ORGANIZER;CN="Film%2C TV & Music Quiz":MAILTO:noreply@facebookmail_com
END:VEVENT
BEGIN:VEVENT
DTSTART;TZID=Europe/London:20260212T193000
DTEND;TZID=Europe/London:20260212T223000
DTSTAMP:20260424T062357
CREATED:20251008T071103Z
LAST-MODIFIED:20260212T070957Z
UID:126469-1770924600-1770935400@keepcolchestercool.co.uk
SUMMARY:Al Murray - All You Need Is Guv
DESCRIPTION:Sale Dates and Times: \nPublic Onsale : Fri\, 27 Jun 2025 at 10:00 AM \nTicketmaster Presale : Wed\, 25 Jun 2025 at 10:00 AM
URL:https://keepcolchestercool.co.uk/event/al-murray-all-you-need-is-guv/
LOCATION:Colchester Charter Hall\, Colchester Charter Hall
ORGANIZER;CN="Ticketmaster Events":MAILTO:noreply@facebookmail_com
END:VEVENT
BEGIN:VEVENT
DTSTART;TZID=Europe/London:20260212T193000
DTEND;TZID=Europe/London:20260212T223000
DTSTAMP:20260424T062357
CREATED:20251202T071101Z
LAST-MODIFIED:20260126T071041Z
UID:127397-1770924600-1770935400@keepcolchestercool.co.uk
SUMMARY:Al Murray Live in Colchester
DESCRIPTION:Britain’s funniest pub landlord Al Murray has announced the All You Need Is Guv Tour.Thu 12 Feb 2026\, 19:30 | Charter Hall\, Colchester \nTICKETS>>> at ticketmaster: https://cnear.me/6GbyvQD>>> at seetickets: https://cnear.me/Htd1IiL \nOn sale on Friday 27 June 2025 at 10:00 \nHey cool cats! Hot on the heels of a sell-out 138 date tour of these green and groovy isles\, The Guv will be back\, baby\, with a brand-new stand-up show for 2026. \nThere’s no denying the world’s a mess daddio\, but there is a glimmer of hope as the globe’s favourite Pub Landlord returns with his like-nobody-else Common Sense hot-takes for the masses\, offering a much-needed truth tonic (pint for the fella/glass of white wine for the lady) for these whacked out and troubled times. With a fresh and frothing pint to hand\, a barrel of laughs to pour from\, and a flower in his heart\, Guv is all you need. \nAnd for the brave\, bold\, and plain straight crazy cats amongst you who want to be in on the action in the ‘Splash Zone’ book them quick and wear the damn ponchos! \n*𝘐𝘧 𝘺𝘰𝘶 𝘮𝘢𝘬𝘦 𝘢 𝘱𝘶𝘳𝘤𝘩𝘢𝘴𝘦 𝘢𝘧𝘵𝘦𝘳 𝘤𝘭𝘪𝘤𝘬𝘪𝘯𝘨 𝘢 𝘭𝘪𝘯𝘬\, 𝘸𝘦 𝘮𝘢𝘺 𝘦𝘢𝘳𝘯 𝘢𝘯 𝘢𝘧𝘧𝘪𝘭𝘪𝘢𝘵𝘦 𝘤𝘰𝘮𝘮𝘪𝘴𝘴𝘪𝘰𝘯.
URL:https://keepcolchestercool.co.uk/event/al-murray-live-in-colchester/
LOCATION:Colchester Charter Hall\, Colchester Charter Hall
ORGANIZER;CN="London Events Guide":MAILTO:noreply@facebookmail.com
END:VEVENT
BEGIN:VEVENT
DTSTART;TZID=Europe/London:20260212T193000
DTEND;TZID=Europe/London:20260212T230000
DTSTAMP:20260424T062357
CREATED:20260121T071037Z
LAST-MODIFIED:20260212T070958Z
UID:127931-1770924600-1770937200@keepcolchestercool.co.uk
SUMMARY:Jeanie From The Mountains + Swines + Evy Frearson
DESCRIPTION:Bestdays Live and Keep Colchester Cool in collaboration with Colchester Arts Centre present Jeanie from the Mountains\, supported by Swines and Evy Frearson. \nJeanie from the Mountains was born in the back-office of Colchester’s beloved Best Days Vintage\, where songwriter and frontman Jez Dixon teamed up with long-time friend Steve Hurdle enlisting bassman “daddy” Ian McGee and a couple of younger\, better looking\, 20 somethings\, Archie Storrar and She’s In Parties’ drummer Matt Carman; with Helen Fisher completing the line-up.  \nThe pair craft songs that feel built for stadiums – lyrically rich\, cinematic\, and steeped in a sound that blends alternative folk\, soaring rock\, and flashes of ‘Granddaddy’ inspired synth. Having sold out multiple headline shows in Colchester’s grassroots venues\, the band released their debut single “Lattes in the Rain” last September\, followed by “al5 5ong” (pronounced Al’s Song). November\, they supported She’s in Parties on their Colchester homecoming show – marking this Jeanie from the Mountains’ first official support slot.  \nThursday 12th February 2026 see them headline their biggest show to date at Colchester Arts Centre.  \nWith big-hearted storytelling and a sound that’s both intimate and expansive\, Jeanie from the Mountains are carving out their place as one of Colchester’s most exciting new acts.Instagram – @jeaniefromthemountains. \nSupport from: \nSWINESGrunge garage rock in its rawest form Swines reimagines female fronted alternative rock in fresh and visceral ways.https://youtu.be/_xim2iLBufg?si=N8XLUHKcagcBi-s3 \nEVY FREARSONEvy is a 22-year-old British alternative floaty rock artist. Her writing and playing style are inspired by her love of legends from the 90s and more contemporary sounds such as Jeff Buckley\, Yebba\, and John Mayer. Evy has already been played on national and international radio\, including BBC 2\, BBC 6\, BBC Introducing\, Future Hits\, CCR\, Phoenix FM\, Planet Rock and many others. They have all featured her music and supported her over the last couple of years. BBC 6’s Tom Robinson exclaimed\, “Evy has a deep\, rich\, immersive sound”.https://evyfrearson.com/ \nDJ BEN HOWARDBefore and in between the acts. \nTickets £8 / £7 concessions.Doors open 7.30pm\, starts 8pm.This gig is for a standing audience.
URL:https://keepcolchestercool.co.uk/event/jeanie-from-the-mountains-swines-chunky-ate-a-bee/
LOCATION:Colchester Arts Centre\, Colchester Arts Centre
ORGANIZER;CN="Keep Colchester Cool":MAILTO:noreply@facebookmail.com
END:VEVENT
END:VCALENDAR