BEGIN:VCALENDAR
VERSION:2.0
PRODID:-//Keep Colchester Cool - ECPv6.15.20//NONSGML v1.0//EN
CALSCALE:GREGORIAN
METHOD:PUBLISH
X-ORIGINAL-URL:https://keepcolchestercool.co.uk
X-WR-CALDESC:Events for Keep Colchester Cool
REFRESH-INTERVAL;VALUE=DURATION:PT1H
X-Robots-Tag:noindex
X-PUBLISHED-TTL:PT1H
BEGIN:VTIMEZONE
TZID:Europe/London
BEGIN:DAYLIGHT
TZOFFSETFROM:+0000
TZOFFSETTO:+0100
TZNAME:BST
DTSTART:20250330T010000
END:DAYLIGHT
BEGIN:STANDARD
TZOFFSETFROM:+0100
TZOFFSETTO:+0000
TZNAME:GMT
DTSTART:20251026T010000
END:STANDARD
BEGIN:DAYLIGHT
TZOFFSETFROM:+0000
TZOFFSETTO:+0100
TZNAME:BST
DTSTART:20260329T010000
END:DAYLIGHT
BEGIN:STANDARD
TZOFFSETFROM:+0100
TZOFFSETTO:+0000
TZNAME:GMT
DTSTART:20261025T010000
END:STANDARD
BEGIN:DAYLIGHT
TZOFFSETFROM:+0000
TZOFFSETTO:+0100
TZNAME:BST
DTSTART:20270328T010000
END:DAYLIGHT
BEGIN:STANDARD
TZOFFSETFROM:+0100
TZOFFSETTO:+0000
TZNAME:GMT
DTSTART:20271031T010000
END:STANDARD
END:VTIMEZONE
BEGIN:VEVENT
DTSTART;TZID=Europe/London:20260217T130000
DTEND;TZID=Europe/London:20260217T140000
DTSTAMP:20260424T062348
CREATED:20260210T071012Z
LAST-MODIFIED:20260217T071003Z
UID:128267-1771333200-1771336800@keepcolchestercool.co.uk
SUMMARY:Organ recital
DESCRIPTION:⁉Did you know that every month\, FREE lunchtime organ recitals take place in the Moot Hall within Colchester Town Hall? You can hear the magnificent Moot Hall Organ (which is over 120 years old!!) in the elegant backdrop of (the recently re-opened after major restoration work) Moot Hall ✨ \n🕰 Time: 1pm⏳Duration: 1hour👛Price: Free! Retiring Collection in aid of the Friends of the Moot Hall Organ \n📅 Dates below ⬇17th Feb 10th March 14th April 12th May 9th June 14th July 11th August 15th September 13th October 10th November 8th December  \n💻Do go and have a look at www.moothallorgan.co.uk which is a brilliant website run by passionate volunteers. It has info about the history of the Moot Hall Organ and more info about the recitals and performers 🎶 \n📸Image Credits: Friends of the Moot Hall Organ \n#Colchester #Essex #MootHallOrgan
URL:https://keepcolchestercool.co.uk/event/organ-recital/
LOCATION:Colchester Town Hall
ORGANIZER;CN="Sue Lissimore":MAILTO:noreply@facebookmail_com
END:VEVENT
BEGIN:VEVENT
DTSTART;TZID=Europe/London:20260217T150000
DTEND;TZID=Europe/London:20260217T163000
DTSTAMP:20260424T062348
CREATED:20260127T071103Z
LAST-MODIFIED:20260217T071004Z
UID:128103-1771340400-1771345800@keepcolchestercool.co.uk
SUMMARY:Visit the Armoury
DESCRIPTION:These drop-in sessions run from 3 to 4:30 PM on 17 and 20 February\, and from 10:30 AM to 12 PM on 19 February. \nGet hands-on with history in the Castle’s Armoury! Try on replica helmets\, handle historical weapons\, and step into the shoes of knights from the past. Plus\, keep an eye out for a special guest… a friendly dragon might just drop by! \nSuitable for ages 4+. \nFor useful information\, such as how to find us and what facilities Colchester Castle has\, we recommend reading our Access information. \nThis event is included as part of Castle admission. There’s no need to make a reservation – pop by when the armoury is open. \nhttps://www.facebook.com/events/1422699369517035/?event_time_id=1422699372850368
URL:https://keepcolchestercool.co.uk/event/visit-the-armoury/
LOCATION:Colchester Castle\, Colchester Castle
ORGANIZER;CN="Colchester Museums":MAILTO:noreply@facebookmail.com
END:VEVENT
BEGIN:VEVENT
DTSTART;TZID=Europe/London:20260217T190000
DTEND;TZID=Europe/London:20260217T223000
DTSTAMP:20260424T062348
CREATED:20260210T071013Z
LAST-MODIFIED:20260217T071004Z
UID:128268-1771354800-1771367400@keepcolchestercool.co.uk
SUMMARY:Drink & Draw: February 2026
DESCRIPTION:An evening of Drinking and Drawing in the pub. All are welcome! \nBring a sketchbook\, something to draw with\, and some money for a drink (or two) \nSee you there!
URL:https://keepcolchestercool.co.uk/event/drink-draw-february-2026/
LOCATION:The Odd One Out\, 28 Mersea Road\, Colchester\, CO2 7ET\, GB
ORGANIZER;CN="Drink &amp%3B Draw Colchester":MAILTO:noreply@facebookmail_com
END:VEVENT
BEGIN:VEVENT
DTSTART;TZID=Europe/London:20260217T193000
DTEND;TZID=Europe/London:20260217T220000
DTSTAMP:20260424T062348
CREATED:20251008T071104Z
LAST-MODIFIED:20260217T071004Z
UID:126473-1771356600-1771365600@keepcolchestercool.co.uk
SUMMARY:Projected Digital Image League Competition
DESCRIPTION:Appraisal by Alison Jenkins ARPS DPAGB CPAGB/AV BPE1* \nHeader Image: Keep Out – Mark Kench
URL:https://keepcolchestercool.co.uk/event/projected-digital-image-league-competition/
LOCATION:Ireton Road\, CO3 3AT Colchester\, United Kingdom\, Ireton Road\, CO3 3AT Colchester\, United Kingdom
ORGANIZER;CN="Colchester Photographic Society":MAILTO:noreply@facebookmail_com
END:VEVENT
END:VCALENDAR