BEGIN:VCALENDAR
VERSION:2.0
PRODID:-//Keep Colchester Cool - ECPv6.15.20//NONSGML v1.0//EN
CALSCALE:GREGORIAN
METHOD:PUBLISH
X-ORIGINAL-URL:https://keepcolchestercool.co.uk
X-WR-CALDESC:Events for Keep Colchester Cool
REFRESH-INTERVAL;VALUE=DURATION:PT1H
X-Robots-Tag:noindex
X-PUBLISHED-TTL:PT1H
BEGIN:VTIMEZONE
TZID:Europe/London
BEGIN:DAYLIGHT
TZOFFSETFROM:+0000
TZOFFSETTO:+0100
TZNAME:BST
DTSTART:20250330T010000
END:DAYLIGHT
BEGIN:STANDARD
TZOFFSETFROM:+0100
TZOFFSETTO:+0000
TZNAME:GMT
DTSTART:20251026T010000
END:STANDARD
BEGIN:DAYLIGHT
TZOFFSETFROM:+0000
TZOFFSETTO:+0100
TZNAME:BST
DTSTART:20260329T010000
END:DAYLIGHT
BEGIN:STANDARD
TZOFFSETFROM:+0100
TZOFFSETTO:+0000
TZNAME:GMT
DTSTART:20261025T010000
END:STANDARD
BEGIN:DAYLIGHT
TZOFFSETFROM:+0000
TZOFFSETTO:+0100
TZNAME:BST
DTSTART:20270328T010000
END:DAYLIGHT
BEGIN:STANDARD
TZOFFSETFROM:+0100
TZOFFSETTO:+0000
TZNAME:GMT
DTSTART:20271031T010000
END:STANDARD
END:VTIMEZONE
BEGIN:VEVENT
DTSTART;TZID=Europe/London:20260222T120000
DTEND;TZID=Europe/London:20260222T150000
DTSTAMP:20260424T062435
CREATED:20260127T071107Z
LAST-MODIFIED:20260222T071149Z
UID:128107-1771761600-1771772400@keepcolchestercool.co.uk
SUMMARY:Vinyl Sessions: Bob Dylan - Blood on the Tracks
DESCRIPTION:Tickets £4Doors open 12pm\, show starts at 12:30pmThis show is for a seated audience. \nThe bar will be open throughout. \nBob Dylan / Blood on the Tracks \nThey (critics\, fans) call it Dylan’s ‘break-up album’\, and yeah\, there’s no shortage of battered emotions and accusatory finger-pointing to be found across its 10 tracks – but has a song cycle about love turning cold ever felt so counter-intuitively lush\, comforting and warm? For members of the faithful\, Blood on the Tracks is a centrepiece of the great man’s catalogue. for Dylan neophytes\, it’s perhaps the ideal entry point to discovering the complex\, multi-layered lyricism for which he’s so celebrated\, here beautifully recorded on wax using the finest studio technology of the time\, with Dylan himself in the producer’s chair. Free from the muffled clutter of his 60s period and the ill-advised sonic bombast of his (and\, to be fair\, most of his contemporaries’) 80s output\, the result is arguably among Dylan’s most pristine and contemporary-sounding records – with lots to chew on in the post-listening discussion\, we suspect… \nThe album playback will be followed by a Q&A session. \nAfter a short break\, we’ll follow the album with our usual ‘Dead Wax’ session. Bring along a vinyl disc of your choice and hear a track from it played through the Arts Centre PA. This can be anything you like\, for any reason – the more ‘out there’ the better.
URL:https://keepcolchestercool.co.uk/event/vinyl-sessions-bob-dylan-blood-on-the-tracks/
LOCATION:Church St\, CO1 1NF Colchester\, United Kingdom
ATTACH;FMTTYPE=image/jpeg:https://keepcolchestercool.co.uk/wp-content/uploads/128107_image_622784142_1307845214710978_6355178354275026370_n.jpg
ORGANIZER;CN="Colchester Arts Centre":MAILTO:noreply@facebookmail_com
END:VEVENT
BEGIN:VEVENT
DTSTART;TZID=Europe/London:20260222T184000
DTEND;TZID=Europe/London:20260222T214000
DTSTAMP:20260424T062435
CREATED:20260113T071037Z
LAST-MODIFIED:20260222T071150Z
UID:127782-1771785600-1771796400@keepcolchestercool.co.uk
SUMMARY:Breaking Bad Quiz (Colchester)
DESCRIPTION:Test your knowledge of the amazing show\, and help raise money for an incredible cause! \n– £3 a head (cash only)– Maximum 6 to a team– Food served throughout – Book by selecting the date of the quiz and choosing quiz booking: threewisemonkeyscolchester.com/book-a-table  \nIf you book and then decide not to attend\, please CANCEL YOUR BOOKING. \nPlease attend with the number of people you book for.  \nPlease arrive at least twenty minutes before the quiz is due to start to place food and drink orders.
URL:https://keepcolchestercool.co.uk/event/breaking-bad-quiz-colchester/
LOCATION:Three Wise Monkeys Colchester
ATTACH;FMTTYPE=image/jpeg:https://keepcolchestercool.co.uk/wp-content/uploads/127782_image_585252869_858180103259665_2168077525184346605_n.jpg
ORGANIZER;CN="Film%2C TV & Music Quiz":MAILTO:noreply@facebookmail_com
END:VEVENT
BEGIN:VEVENT
DTSTART;TZID=Europe/London:20260222T193000
DTEND;TZID=Europe/London:20260222T213000
DTSTAMP:20260424T062435
CREATED:20260113T071037Z
LAST-MODIFIED:20260222T071150Z
UID:127783-1771788600-1771795800@keepcolchestercool.co.uk
SUMMARY:Derek Nash Organ Trio: "Smooth cool to groovy funk\, the music fizzes with energy." - The Guardian​
DESCRIPTION:Serving up classic cuts from Blue Note’s 50s and 60s back catalogue\, plus a few compositions from the Derek Nash Quartet and Sax Appeal repertoire\, the Organ Trio’s mix of jazz\, funk\, blues and Latin has made them firm favourites on the British jazz scene.​Led by Jools Holland’s lead saxophonist for over 20 years\, multi-award winner Derek is arguably the busiest jazz musician in the UK today. One of the most enthusiastic and engaging performers\, he’s also one of the hottest\, funkiest saxophone players around. \n​Aside from fronting his own groups\, and co-leading The Wonder of Stevie with Noel McCalla\, Derek has regularly performed\, recorded and guested with a diverse range of artists\, including Eric Clapton\, Booker T.\, Sir Paul McCartney\, Mezzoforte\, Sir Tom Jones\,Amy Winehouse\,Jack Bruce\, Bob Dorough\, Rumer\, David Benoit\, Ernie Watts\, Nelson Rangell\, Don and Dave Grusin\, and Shakatak.  \nOrganist Jim Watson has worked with Kurt Elling\, Sting\, Incognito\, former AWB front man Hamish Stuart\, Manu Katche\, and the BBC Radio Big Band. \nAs well as running is own club\, drummer George Double has worked with Dame Shirley Bassey\, Grammy Award winner Jack Jones\, Marc Almond\, Mica Paris\, Ruthie Henshall\, and Kym Mazelle. \n​With the Organ Trio\, you’re most definitley guaranteed a cracking evening’s music! \n​Derek Nash (Saxophones)\, Jim Watson (Organ)\, George Double (Drums).
URL:https://keepcolchestercool.co.uk/event/derek-nash-organ-trio-smooth-cool-to-groovy-funk-the-music-fizzes-with-energy-the-guardian/
LOCATION:Wivenhoe Congregational Church\, 101 High Street\, Colchester\, CO7 9AB\, GB
ATTACH;FMTTYPE=image/jpeg:https://keepcolchestercool.co.uk/wp-content/uploads/127783_image_604833902_4414809118843240_5153025044557778330_n.jpg
ORGANIZER;CN="Steve Wright":MAILTO:noreply@facebookmail_com
END:VEVENT
END:VCALENDAR