BEGIN:VCALENDAR
VERSION:2.0
PRODID:-//Keep Colchester Cool - ECPv6.15.20//NONSGML v1.0//EN
CALSCALE:GREGORIAN
METHOD:PUBLISH
X-ORIGINAL-URL:https://keepcolchestercool.co.uk
X-WR-CALDESC:Events for Keep Colchester Cool
REFRESH-INTERVAL;VALUE=DURATION:PT1H
X-Robots-Tag:noindex
X-PUBLISHED-TTL:PT1H
BEGIN:VTIMEZONE
TZID:Europe/London
BEGIN:DAYLIGHT
TZOFFSETFROM:+0000
TZOFFSETTO:+0100
TZNAME:BST
DTSTART:20250330T010000
END:DAYLIGHT
BEGIN:STANDARD
TZOFFSETFROM:+0100
TZOFFSETTO:+0000
TZNAME:GMT
DTSTART:20251026T010000
END:STANDARD
BEGIN:DAYLIGHT
TZOFFSETFROM:+0000
TZOFFSETTO:+0100
TZNAME:BST
DTSTART:20260329T010000
END:DAYLIGHT
BEGIN:STANDARD
TZOFFSETFROM:+0100
TZOFFSETTO:+0000
TZNAME:GMT
DTSTART:20261025T010000
END:STANDARD
BEGIN:DAYLIGHT
TZOFFSETFROM:+0000
TZOFFSETTO:+0100
TZNAME:BST
DTSTART:20270328T010000
END:DAYLIGHT
BEGIN:STANDARD
TZOFFSETFROM:+0100
TZOFFSETTO:+0000
TZNAME:GMT
DTSTART:20271031T010000
END:STANDARD
END:VTIMEZONE
BEGIN:VEVENT
DTSTART;TZID=Europe/London:20260225T180000
DTEND;TZID=Europe/London:20260225T210000
DTSTAMP:20260424T044144
CREATED:20260224T071155Z
LAST-MODIFIED:20260225T071212Z
UID:129098-1772042400-1772053200@keepcolchestercool.co.uk
SUMMARY:Essex Witches - A Discussion
DESCRIPTION:Join us for a fascinating evening in the Studio where we’ll discuss Essex witches with the author of The Manningtree Witches\, A.K. Blakemore\, and local experts. \nThis discussion panel will explore the history and myths of Essex witches\, shedding light on the lives affected by this important period of local history. You can expect: \n– Expert insights into the social\, political\, and religious tensions of the period– New perspectives on the individuals accused– Discussions with author A.K. Blakemore\, experts from Essex Witch Museum\, the University of Essex and Colchester Museum
URL:https://keepcolchestercool.co.uk/event/essex-witches-a-discussion/
LOCATION:Balkerne Gate\, CO1 1PT Colchester\, United Kingdom\, Balkerne Gate\, CO1 1PT Colchester\, United Kingdom
ATTACH;FMTTYPE=image/jpeg:https://keepcolchestercool.co.uk/wp-content/uploads/129098_image_640076159_1380736054084733_7520688203942922309_n.jpg
ORGANIZER;CN="Mercury Theatre Colchester":MAILTO:noreply@facebookmail_com
END:VEVENT
BEGIN:VEVENT
DTSTART;TZID=Europe/London:20260225T190000
DTEND;TZID=Europe/London:20260225T220000
DTSTAMP:20260424T044144
CREATED:20260113T071037Z
LAST-MODIFIED:20260225T071212Z
UID:127784-1772046000-1772056800@keepcolchestercool.co.uk
SUMMARY:Pseudonym
DESCRIPTION:“Bridget is my pseudonym  \nMy thinly-veiled attempt to make sense-To add structure-Dramatic structure-A beginning\, middle\, and end-To a thing that has none” \nA poetic semi-autobiographical journey by award-winning playwright Deanna Strasse.  \n“Bridget” looks back on her life and ponders how she got here.A story about complacency\, William Shakespeare\, the theatre\, parasocial relationships\, and what ducks can teach us about feminism. \nWritten\, produced and performed by Deanna Strasse.Tech by Sharmilla Peake. \nContent Warning: mental health\, suicide ideology\, body dysmorphia\, death and dying\, sexual content\, sexism and misogony.
URL:https://keepcolchestercool.co.uk/event/pseudonym/
LOCATION:Lakeside Theatre\, University of Essex\, Wivenhoe Park\, Colchester\, CO4 3SQ\, GB
ATTACH;FMTTYPE=image/jpeg:https://keepcolchestercool.co.uk/wp-content/uploads/127784_image_595867629_1453957680066386_5779662011873595652_n.jpg
ORGANIZER;CN="Lakeside Theatre":MAILTO:noreply@facebookmail_com
END:VEVENT
BEGIN:VEVENT
DTSTART;TZID=Europe/London:20260225T190000
DTEND;TZID=Europe/London:20260225T220000
DTSTAMP:20260424T044144
CREATED:20260125T071016Z
LAST-MODIFIED:20260225T071212Z
UID:128070-1772046000-1772056800@keepcolchestercool.co.uk
SUMMARY:Life Drawing
DESCRIPTION:Unlock your creativity and develop your artistic skills at our 6-week Life Drawing Classes with experienced tutor Sarah Hill\, held in the Minories Ballroom. \nWhether you’re a complete beginner or looking to refine your technique\, these friendly Wednesday evening sessions (7pm–9pm) offer expert guidance and a welcoming atmosphere. \nAll materials are provided\, so you can focus on learning and enjoying the process. \nEach session is just £25\, giving you the chance to experiment\, improve\, and connect with fellow art lovers. \nJoin us on select dates this Spring — reserve your spot now and bring your drawings to life! \nhttps://www.facebook.com/events/25570964509264634/?event_time_id=25570964525931299
URL:https://keepcolchestercool.co.uk/event/life-drawing/
LOCATION:74 High Street\, CO1 1UE Colchester\, United Kingdom\, 74 High Street\, CO1 1UE Colchester\, United Kingdom
ATTACH;FMTTYPE=image/jpeg:https://keepcolchestercool.co.uk/wp-content/uploads/128070_image_616651780_1322473803259654_5108752613876550214_n.jpg
ORGANIZER;CN="The Minories":MAILTO:noreply@facebookmail.com
END:VEVENT
BEGIN:VEVENT
DTSTART;TZID=Europe/London:20260225T190000
DTEND;TZID=Europe/London:20260225T223000
DTSTAMP:20260424T044144
CREATED:20260224T071156Z
LAST-MODIFIED:20260225T071212Z
UID:129100-1772046000-1772058600@keepcolchestercool.co.uk
SUMMARY:Riftbound Nexus Nights Standard Event
DESCRIPTION:Riftbound Nexus Nights Spirtforged Standard Event  \nWe are excited to give you the chance\, now that the release event happened\, to join in our first standard Riftbound league of legends event using the new Nexus Nights promos as extra prize support. \nFor this event you will need your own deck\, these must consist of: \nMain Deck of exactly 40 cards (including a chosen champion)\, 1 Legend\, 12 runes\, and exactly 3 battlefields each with a unique name. \nYou will then battle in a 1v1 swiss style event (event with a number of rounds\, amount of rounds determined by the number of players). Each round will be best of 3 with a 50 minute timer for each round. \nStart Time: 7 pmEntry: £10.00 \nBooster will be put in to the prize pot for each participant. \nPlease note this event has limited spaces of 12 people\, so to avoid missing out please either click attend on this event\, come in and speak to a member of staff of call us on 01206 561912 to make sure you don’t miss out.
URL:https://keepcolchestercool.co.uk/event/riftbound-nexus-nights-standard-event/
LOCATION:ACE Comics\, 42 Culver Street East\, Colchester\, CO1 1LE\, GB
ATTACH;FMTTYPE=image/jpeg:https://keepcolchestercool.co.uk/wp-content/uploads/129100_image_640563543_10240751594958043_3850232652705573104_n.jpg
ORGANIZER;CN="Glenn Richardson":MAILTO:noreply@facebookmail_com
END:VEVENT
BEGIN:VEVENT
DTSTART;TZID=Europe/London:20260225T193000
DTEND;TZID=Europe/London:20260225T223000
DTSTAMP:20260424T044144
CREATED:20260225T071213Z
LAST-MODIFIED:20260225T071213Z
UID:129297-1772047800-1772058600@keepcolchestercool.co.uk
SUMMARY:The Queen Street Brewhouse Presents Wednesday Reels- Award Winning  Films Season Movie Night
DESCRIPTION:The final film of the Film Award Season at the Queen St Brewhouse is Jonathan Demme’s landmark drama ‘Philadelphia’ (1993)\, screening this Wednesday\, February 25th\, at 7:30 p.m. The film stars Tom Hanks\, Denzel Washington\, Jason Robards\, Mary Steenburgen\, and Antonio Banderas. Loosely based on two real-life cases\, Philadelphia is a legal courtroom drama about a lawyer who seeks justice after being wrongfully dismissed from his law firm due to discrimination. Demme’s film was not only one of the highest-grossing films of 1993\, but it was also nominated for five Academy Awards at the 66th Academy Awards. The film’s title\, Philadelphia\, serves as a symbolic backdrop for its themes\, exploring homophobia\, humanization\, justice\, liberty and the misconceptions surrounding HIV/AIDS.
URL:https://keepcolchestercool.co.uk/event/the-queen-street-brewhouse-presents-wednesday-reels-award-winning-films-season-movie-night/
LOCATION:Queen St Brewhouse\, 7 - 9 Queen Street\, Colchester\, CO1 2PG\, GB
ATTACH;FMTTYPE=image/jpeg:https://keepcolchestercool.co.uk/wp-content/uploads/129297_image_641360682_1500971395371842_1691604092698136568_n.jpg
ORGANIZER;CN="Queen St Brewhouse":MAILTO:noreply@facebookmail_com
END:VEVENT
BEGIN:VEVENT
DTSTART;TZID=Europe/London:20260225T193000
DTEND;TZID=Europe/London:20260225T224500
DTSTAMP:20260424T044144
CREATED:20260225T071213Z
LAST-MODIFIED:20260225T071213Z
UID:129299-1772047800-1772059500@keepcolchestercool.co.uk
SUMMARY:Wednesday Night Open Mic @ The Victoria Inn
DESCRIPTION:It’s Open Mic Night!Bring yourself… or send your friends in place of you…. or come with your friends and get involved.Bring your instruments or borrow mine (Guitar\, Piano\, Cajon & Mics provided).*We run a sign up board & work through the names in order & attendance prioritising those who arrive before 9.*The sign up board goes up around 7:30 & the mic goes live around 8:00. *We wrap up for 10:45.*Performers usually get 2-3 songs (up to 15 minutes in total) but this depends the number of participants on the night.
URL:https://keepcolchestercool.co.uk/event/wednesday-night-open-mic-the-victoria-inn/
LOCATION:The Victoria Pub\, The Victoria Pub
ATTACH;FMTTYPE=image/jpeg:https://keepcolchestercool.co.uk/wp-content/uploads/129299_image_634855434_1566573121933720_4949261043931726346_n.jpg
ORGANIZER;CN="Stu E Skinner":MAILTO:noreply@facebookmail_com
END:VEVENT
END:VCALENDAR