BEGIN:VCALENDAR
VERSION:2.0
PRODID:-//Keep Colchester Cool - ECPv6.15.20//NONSGML v1.0//EN
CALSCALE:GREGORIAN
METHOD:PUBLISH
X-WR-CALNAME:Keep Colchester Cool
X-ORIGINAL-URL:https://keepcolchestercool.co.uk
X-WR-CALDESC:Events for Keep Colchester Cool
REFRESH-INTERVAL;VALUE=DURATION:PT1H
X-Robots-Tag:noindex
X-PUBLISHED-TTL:PT1H
BEGIN:VTIMEZONE
TZID:Europe/London
BEGIN:DAYLIGHT
TZOFFSETFROM:+0000
TZOFFSETTO:+0100
TZNAME:BST
DTSTART:20250330T010000
END:DAYLIGHT
BEGIN:STANDARD
TZOFFSETFROM:+0100
TZOFFSETTO:+0000
TZNAME:GMT
DTSTART:20251026T010000
END:STANDARD
BEGIN:DAYLIGHT
TZOFFSETFROM:+0000
TZOFFSETTO:+0100
TZNAME:BST
DTSTART:20260329T010000
END:DAYLIGHT
BEGIN:STANDARD
TZOFFSETFROM:+0100
TZOFFSETTO:+0000
TZNAME:GMT
DTSTART:20261025T010000
END:STANDARD
BEGIN:DAYLIGHT
TZOFFSETFROM:+0000
TZOFFSETTO:+0100
TZNAME:BST
DTSTART:20270328T010000
END:DAYLIGHT
BEGIN:STANDARD
TZOFFSETFROM:+0100
TZOFFSETTO:+0000
TZNAME:GMT
DTSTART:20271031T010000
END:STANDARD
END:VTIMEZONE
BEGIN:VEVENT
DTSTART;TZID=Europe/London:20260304T190000
DTEND;TZID=Europe/London:20260304T220000
DTSTAMP:20260424T043923
CREATED:20260113T071039Z
LAST-MODIFIED:20260226T071209Z
UID:127786-1772650800-1772661600@keepcolchestercool.co.uk
SUMMARY:Victoria Inn Film\, TV & Music Quiz 40
DESCRIPTION:Test your knowledge of all things film\, TV and music\, and help raise money for an incredible cause! \n– £3 a head (cash only)– Maximum 4 to a team– Outside food & dogs welcome – Book on 01206 514510 \nPlease arrive at least twenty minutes before the quiz is due to start to place drink orders. \nIf you book and then decide not to attend\, please cancel your booking.
URL:https://keepcolchestercool.co.uk/event/victoria-inn-film-tv-music-quiz-40/
LOCATION:Victoria Inn Colchester\, 10 North Station Rd\, Colchester\, CO1 1RB\, GB
ATTACH;FMTTYPE=image/jpeg:https://keepcolchestercool.co.uk/wp-content/uploads/127786_image_611165707_892172449860430_3399209053144995144_n.jpg
ORGANIZER;CN="Film%2C TV & Music Quiz":MAILTO:noreply@facebookmail_com
END:VEVENT
BEGIN:VEVENT
DTSTART;TZID=Europe/London:20260304T190000
DTEND;TZID=Europe/London:20260304T220000
DTSTAMP:20260424T043923
CREATED:20260113T071039Z
LAST-MODIFIED:20260224T071202Z
UID:127787-1772650800-1772661600@keepcolchestercool.co.uk
SUMMARY:Colchester Comedy Showcase
DESCRIPTION:Prescribed Laughter: March Comedy ShowcaseWarning: Symptoms of severe boredom are best treated with immediate exposure to top-tier hilarity! Your doctor prescribes attending the Three Wise Monkeys Comedy Showcase this March. Prepare for a night you genuinely won’t forget\, surgically hosted by the sharp and sensational Greg Edwards. We’re featuring a potent cocktail of comedy—from buzzing new faces ready to erupt\, to established acts guaranteed to leave your sides splitting. This isn’t just a show; it’s essential therapy. Do not delay your dose!Make the smart choice and secure your treatment plan early: Tickets are only £10 if purchased before the evening of the show. Delaying your decision will cost you: it’s a steeper £15 on the door. Ditch the doom-scrolling and invest in a genuine\, memorable night out. Mark your calendar\, grab your tenner\, and get ready for a powerful injection of pure comedic genius. This is the cure for the mundane—miss it and regret it! \n📅 When: Wednesday\, 4th March📍 Where: Three Wise Monkeys\, Colchester (Top Floor)🕖 Doors Open: 7:00 PM🎟️ Tickets: Early Bird specials available for just £10 + booking fee!  \nDon’t wait until it’s sold out—grab your tickets now and join us for a night of craft beer and non-stop laughs.
URL:https://keepcolchestercool.co.uk/event/colchester-comedy-showcase-3/
LOCATION:60 High Street\, CO1 1DN Colchester\, United Kingdom\, 60 High Street\, CO1 1DN Colchester\, United Kingdom
ATTACH;FMTTYPE=image/jpeg:https://keepcolchestercool.co.uk/wp-content/uploads/127787_image_615404816_1295187615977918_5048822291396587106_n.jpg
ORGANIZER;CN="Three Wise Monkeys Colchester":MAILTO:noreply@facebookmail_com
END:VEVENT
BEGIN:VEVENT
DTSTART;TZID=Europe/London:20260304T190000
DTEND;TZID=Europe/London:20260304T220000
DTSTAMP:20260424T043923
CREATED:20260204T071021Z
LAST-MODIFIED:20260226T071209Z
UID:128225-1772650800-1772661600@keepcolchestercool.co.uk
SUMMARY:MARCH COLCHESTER COMEDY SHOWCASE
DESCRIPTION:Prescribed Laughter: March Comedy Showcase \nWarning: Symptoms of severe boredom are best treated with immediate exposure to top-tier hilarity! Your doctor prescribes attending the Three Wise Monkeys Comedy Showcase this March. Prepare for a night you genuinely won’t forget\, surgically hosted by the sharp and sensational Greg Edwards. We’re featuring a potent cocktail of comedy—from buzzing new faces ready to erupt\, to established acts guaranteed to leave your sides splitting. This isn’t just a show; it’s essential therapy. Do not delay your dose! \nMake the smart choice and secure your treatment plan early: Tickets are only £10 if purchased before the evening of the show. Delaying your decision will cost you: it’s a steeper £15 on the door. Ditch the doom-scrolling and invest in a genuine\, memorable night out. Mark your calendar\, grab your tenner\, and get ready for a powerful injection of pure comedic genius. This is the cure for the mundane—miss it and regret it! \n📅 When: Wednesday\, 4th March📍 Where: Three Wise Monkeys\, Colchester (Top Floor)🕖 Doors Open: 7:00 PM🎟️ Tickets: Early Bird specials available for just £10 + booking fee! Don’t wait until it’s sold out—grab your tickets now and join us for a night of craft beer and non-stop laughs.
URL:https://keepcolchestercool.co.uk/event/march-colchester-comedy-showcase/
LOCATION:Three Wise Monkeys Colchester
ATTACH;FMTTYPE=image/jpeg:https://keepcolchestercool.co.uk/wp-content/uploads/128225_image_625015622_1309782017836510_7755308482498843590_n.jpg
ORGANIZER;CN="Topper Promotions - UK":MAILTO:noreply@facebookmail.com
END:VEVENT
BEGIN:VEVENT
DTSTART;TZID=Europe/London:20260304T190000
DTEND;TZID=Europe/London:20260304T230000
DTSTAMP:20260424T043923
CREATED:20260224T071202Z
LAST-MODIFIED:20260226T071209Z
UID:129116-1772650800-1772665200@keepcolchestercool.co.uk
SUMMARY:Magic The Gathering Teenage Mutant Ninja Turtles Pre-Release Event
DESCRIPTION:Whether you’re taking your first steps into Magic\, finishing up your Standard deck\, or diving deep into Modern\, Commander\, and more—Magic: The Gathering Teenage Mutant Ninja Turtles is here\, come play and pick up this set early. \nTeenage Mutant Ninja Turtles Prerelease is coming and we will be running 3 pre-release events for this set new other universe set in the magic timeline. \nWhat you get \nFor each event\, you’ll receive a Teenage Mutant Ninja Turtles Prerelease Kit which contains:6 Teenage Mutant Ninja Turtles Play Booster Packs1 year-stamped rare or mythic promo card in foil A Spindown D20 to track your life totalA handy deck box to help transport and store your deck \nAim of the day is to build a Minimum of a 40 card deck with the boosters you get and compete in swiss rounds to find a winner (Land boxes are provided so all you need to bring is you). \nEvery player will receive an extra booster at the end of the event for playing and another is put into the prize pot\, 1 booster for each player in the pre-release event. \nStart time: 7pmFinish Time 11pmCost £40.00 \nPlease note all of these events have limited spaces of 50 people\, so to avoid missing out please either click attend on this event\, come in and speak to a member of staff of call us on 01206 561912 to make sure you don’t miss out.
URL:https://keepcolchestercool.co.uk/event/magic-the-gathering-teenage-mutant-ninja-turtles-pre-release-event-2/
LOCATION:ACE Comics\, 42 Culver Street East\, Colchester\, CO1 1LE\, GB
ATTACH;FMTTYPE=image/jpeg:https://keepcolchestercool.co.uk/wp-content/uploads/129116_image_636262142_10240678379167694_2639477775820319846_n.jpg
ORGANIZER;CN="Glenn Richardson":MAILTO:noreply@facebookmail_com
END:VEVENT
END:VCALENDAR