BEGIN:VCALENDAR
VERSION:2.0
PRODID:-//Keep Colchester Cool - ECPv6.15.20//NONSGML v1.0//EN
CALSCALE:GREGORIAN
METHOD:PUBLISH
X-ORIGINAL-URL:https://keepcolchestercool.co.uk
X-WR-CALDESC:Events for Keep Colchester Cool
REFRESH-INTERVAL;VALUE=DURATION:PT1H
X-Robots-Tag:noindex
X-PUBLISHED-TTL:PT1H
BEGIN:VTIMEZONE
TZID:Europe/London
BEGIN:DAYLIGHT
TZOFFSETFROM:+0000
TZOFFSETTO:+0100
TZNAME:BST
DTSTART:20250330T010000
END:DAYLIGHT
BEGIN:STANDARD
TZOFFSETFROM:+0100
TZOFFSETTO:+0000
TZNAME:GMT
DTSTART:20251026T010000
END:STANDARD
BEGIN:DAYLIGHT
TZOFFSETFROM:+0000
TZOFFSETTO:+0100
TZNAME:BST
DTSTART:20260329T010000
END:DAYLIGHT
BEGIN:STANDARD
TZOFFSETFROM:+0100
TZOFFSETTO:+0000
TZNAME:GMT
DTSTART:20261025T010000
END:STANDARD
BEGIN:DAYLIGHT
TZOFFSETFROM:+0000
TZOFFSETTO:+0100
TZNAME:BST
DTSTART:20270328T010000
END:DAYLIGHT
BEGIN:STANDARD
TZOFFSETFROM:+0100
TZOFFSETTO:+0000
TZNAME:GMT
DTSTART:20271031T010000
END:STANDARD
END:VTIMEZONE
BEGIN:VEVENT
DTSTART;TZID=Europe/London:20260305T190000
DTEND;TZID=Europe/London:20260305T220000
DTSTAMP:20260424T044210
CREATED:20260113T071039Z
LAST-MODIFIED:20260226T071209Z
UID:127788-1772737200-1772748000@keepcolchestercool.co.uk
SUMMARY:OMB Film Quiz 20
DESCRIPTION:Test your knowledge of films and help raise money for an incredible cause! \n– Book via https://sevn.ly/xJWOHUhN (If you book and then decide not to attend\, please cancel your booking) – £3 a head (cash only\, all proceeds to charity)– Maximum 6 to a team – Food available throughout  \nPlease try to arrive at least 15 minutes before the quiz is due to start to place food and drink orders.
URL:https://keepcolchestercool.co.uk/event/omb-film-quiz-20/
LOCATION:Other Monkey Brewing – The Taproom\, 5-6 St Nicholas St\, Colchester\, CO1 1LB\, GB
ATTACH;FMTTYPE=image/jpeg:https://keepcolchestercool.co.uk/wp-content/uploads/127788_image_611625945_890765156667826_4477768868217669558_n.jpg
ORGANIZER;CN="Film%2C TV & Music Quiz":MAILTO:noreply@facebookmail_com
END:VEVENT
BEGIN:VEVENT
DTSTART;TZID=Europe/London:20260305T193000
DTEND;TZID=Europe/London:20260305T223000
DTSTAMP:20260424T044210
CREATED:20260225T071219Z
LAST-MODIFIED:20260226T071209Z
UID:129315-1772739000-1772749800@keepcolchestercool.co.uk
SUMMARY:Emotional Madness with MaryAnn & Mates
DESCRIPTION:Tickets £3.Doors open 7.30pm\, show starts 8pm.This show is for a seated audience. \nAn evening of spoken word and poetry hosted by Mary-Ann Ambrose. \nA mixture of emotions\, a roller coaster of fun and sadness. \nLineup to be announced!
URL:https://keepcolchestercool.co.uk/event/emotional-madness-with-maryann-mates/
LOCATION:Church St\, CO1 1NF Colchester\, United Kingdom
ATTACH;FMTTYPE=image/jpeg:https://keepcolchestercool.co.uk/wp-content/uploads/129315_image_641353585_1332697058892460_5259236124941497831_n.jpg
ORGANIZER;CN="Colchester Arts Centre":MAILTO:noreply@facebookmail_com
END:VEVENT
END:VCALENDAR