BEGIN:VCALENDAR
VERSION:2.0
PRODID:-//Keep Colchester Cool - ECPv6.15.20//NONSGML v1.0//EN
CALSCALE:GREGORIAN
METHOD:PUBLISH
X-ORIGINAL-URL:https://keepcolchestercool.co.uk
X-WR-CALDESC:Events for Keep Colchester Cool
REFRESH-INTERVAL;VALUE=DURATION:PT1H
X-Robots-Tag:noindex
X-PUBLISHED-TTL:PT1H
BEGIN:VTIMEZONE
TZID:Europe/London
BEGIN:DAYLIGHT
TZOFFSETFROM:+0000
TZOFFSETTO:+0100
TZNAME:BST
DTSTART:20250330T010000
END:DAYLIGHT
BEGIN:STANDARD
TZOFFSETFROM:+0100
TZOFFSETTO:+0000
TZNAME:GMT
DTSTART:20251026T010000
END:STANDARD
BEGIN:DAYLIGHT
TZOFFSETFROM:+0000
TZOFFSETTO:+0100
TZNAME:BST
DTSTART:20260329T010000
END:DAYLIGHT
BEGIN:STANDARD
TZOFFSETFROM:+0100
TZOFFSETTO:+0000
TZNAME:GMT
DTSTART:20261025T010000
END:STANDARD
BEGIN:DAYLIGHT
TZOFFSETFROM:+0000
TZOFFSETTO:+0100
TZNAME:BST
DTSTART:20270328T010000
END:DAYLIGHT
BEGIN:STANDARD
TZOFFSETFROM:+0100
TZOFFSETTO:+0000
TZNAME:GMT
DTSTART:20271031T010000
END:STANDARD
END:VTIMEZONE
BEGIN:VEVENT
DTSTART;TZID=Europe/London:20260309T193000
DTEND;TZID=Europe/London:20260309T223000
DTSTAMP:20260424T044229
CREATED:20260225T071222Z
LAST-MODIFIED:20260226T071212Z
UID:129324-1773084600-1773095400@keepcolchestercool.co.uk
SUMMARY:Sam Carter *
DESCRIPTION:Tickets £16.50.Doors open 7.30pm\, starts 8pm.This gig is for a seated audience. \n‘Sam Carter is a brilliant guitarist and songwriter who combines the observational with social comment and personal reflection’ Songlines \n‘A singer who can hold the audience spellbound all by himself’ R2 \n‘Really wonderful’ Jools Holland \nMidlands-born Sam Carter is a BBC Folk Award-winning singer-songwriter and guitarist renowned for his lyrical storytelling\, which Uncut described as being “as penetrating as Richard Thompson’s best work”. \nFor over 15 years\, he has been stirring audiences from Camden to Canada\, from major festivals to intimate clubs. Carter’s expressive fingerpicking led Jon Boden of Bellowhead to call him “the finest English-style fingerpicking guitarist of his generation\,” while Ivor Novello-winner Nitin Sawhney has praised his “killer voice.” \nWith a discography that spans six solo albums and two releases with the folk-rock band False Lights\, Carter’s music reflects a blend of traditional English folk\, shape-note singing\, and rock. Notable highlights in his career include a spellbinding performance on Later… with Jools Holland\, where he played songs from his shape-note-inspired album The No Testament alongside renowned fiddler Sam Sweeney. \nCarter’s latest album release\, the acclaimed Top 40 Folk Chart album Silver Horizon\, has cemented his reputation as a skilful blender of ancient and modern. Produced by Andy Bell at the remote Red Kite Studios in Wales\, the album’s 11 indie-folk songs create a dreamlike soundscape\, with guitarist Stuart McCallum (The Breath) adding lush\, reverb-soaked textures. Carter says of this work\, “I’m still dealing with themes of love\, loss\, and change… but sketching events in an impressionistic way gives the songs more room to breathe.” \nSam Carter’s live performances are nothing short of captivating\, filled with the raw honesty\, humour\, and skilled musicianship that underscore his standing as one of contemporary folk’s brightest talents. \nSupport: The Washed Up Folk BandThe Washed Up Folk band hail from the misty shores of Essex and Suffolk with a unique brand of traditional folk story-telling and modern arrangements. “They intelligently weave together dynamic arrangements with rich vocal harmonies and insightful emotional depth\, creating a compelling listen.” – Folk and Honey.
URL:https://keepcolchestercool.co.uk/event/sam-carter/
LOCATION:Church St\, CO1 1NF Colchester\, United Kingdom
ATTACH;FMTTYPE=image/jpeg:https://keepcolchestercool.co.uk/wp-content/uploads/129324_image_641266127_1332731192222380_6939667763817945157_n.jpg
ORGANIZER;CN="Colchester Arts Centre":MAILTO:noreply@facebookmail_com
END:VEVENT
END:VCALENDAR