BEGIN:VCALENDAR
VERSION:2.0
PRODID:-//Keep Colchester Cool - ECPv6.15.20//NONSGML v1.0//EN
CALSCALE:GREGORIAN
METHOD:PUBLISH
X-WR-CALNAME:Keep Colchester Cool
X-ORIGINAL-URL:https://keepcolchestercool.co.uk
X-WR-CALDESC:Events for Keep Colchester Cool
REFRESH-INTERVAL;VALUE=DURATION:PT1H
X-Robots-Tag:noindex
X-PUBLISHED-TTL:PT1H
BEGIN:VTIMEZONE
TZID:Europe/London
BEGIN:DAYLIGHT
TZOFFSETFROM:+0000
TZOFFSETTO:+0100
TZNAME:BST
DTSTART:20250330T010000
END:DAYLIGHT
BEGIN:STANDARD
TZOFFSETFROM:+0100
TZOFFSETTO:+0000
TZNAME:GMT
DTSTART:20251026T010000
END:STANDARD
BEGIN:DAYLIGHT
TZOFFSETFROM:+0000
TZOFFSETTO:+0100
TZNAME:BST
DTSTART:20260329T010000
END:DAYLIGHT
BEGIN:STANDARD
TZOFFSETFROM:+0100
TZOFFSETTO:+0000
TZNAME:GMT
DTSTART:20261025T010000
END:STANDARD
BEGIN:DAYLIGHT
TZOFFSETFROM:+0000
TZOFFSETTO:+0100
TZNAME:BST
DTSTART:20270328T010000
END:DAYLIGHT
BEGIN:STANDARD
TZOFFSETFROM:+0100
TZOFFSETTO:+0000
TZNAME:GMT
DTSTART:20271031T010000
END:STANDARD
END:VTIMEZONE
BEGIN:VEVENT
DTSTART;TZID=Europe/London:20260310T190000
DTEND;TZID=Europe/London:20260310T220000
DTSTAMP:20260424T044035
CREATED:20260105T071026Z
LAST-MODIFIED:20260226T071212Z
UID:127642-1773169200-1773180000@keepcolchestercool.co.uk
SUMMARY:Off the Beaten Track Wine & Food Taster Evening
DESCRIPTION:Join us on Tuesday 10th March for our Off the Beaten Track Wine & Food Pairing Evening. Explore the wines of Austria & Hungry as we take you through four-courses of seasonally inspired food and wine at Three Wise Monkeys – in collaboration with independent and local wine merchants and suppliers\, Street Wines.Hosted by Charlie Rogers and Founder of Street Wines\, Neils Dubro. Together\, they will draw on their knowledge and experience\, taking you on a journey of the world through wine\, investigating the new and old worlds of wine and discussing what it is that makes food and wine work so well together.Our Off the Beaten Track Wine & Food Pairing Evening begins at 7pm on our restaurant floorThis is a Premium Wine evening so tickets are priced slightly higher at £55. The wines tasted will be available to purchase and take home on the nightOver 18s only.Guests with specific dietary requirements or with allergies should contact the team via info@twmcolchester.comprior to ticket purchase.Access – There is no lift to access the restaurant floor of Three Wise Monkeys. There are two flights of stairs to reach the restaurant floor.
URL:https://keepcolchestercool.co.uk/event/off-the-beaten-track-wine-food-taster-evening/
LOCATION:60 High Street\, CO1 1DN Colchester\, United Kingdom\, 60 High Street\, CO1 1DN Colchester\, United Kingdom
ATTACH;FMTTYPE=image/jpeg:https://keepcolchestercool.co.uk/wp-content/uploads/127642_image_605116943_1280511310778882_2639468872512591047_n.jpg
ORGANIZER;CN="Three Wise Monkeys Colchester":MAILTO:noreply@facebookmail_com
END:VEVENT
BEGIN:VEVENT
DTSTART;TZID=Europe/London:20260310T200000
DTEND;TZID=Europe/London:20260310T230000
DTSTAMP:20260424T044035
CREATED:20260105T071026Z
LAST-MODIFIED:20260226T071212Z
UID:127643-1773172800-1773183600@keepcolchestercool.co.uk
SUMMARY:Desiree Burch: The Golden Wrath @ Colchester Arts Centre
DESCRIPTION:Desiree Burch: The Golden Wrath Tour \nThere comes a day when you look around and wonder “is the world a raging bin fire\, or is it perimenopause?” The answer\, my friend\, is “yes”. \nAuthentic\, curious\, and gleefully irascible\, storyteller and comedian Desiree Burch leads a madcap voyage through the Middle Ages – AKA the mid-life crisis\, and its mandatory metamorphosis – in her new standup hour. Desiree brings both childlike wonder and crone-like wit to the experiences of losing sleep\, relevance\, knee cartilage\, oestrogen\, youth\, and illusions in a laugh-packed hour that celebrates the fury and freedom found when you’ve accepted that time has ruined your plans\, but roll up your sleeves to fight it anyway. \nDesiree Burch is an American comedian who has appeared across the UK’s biggest comedy shows\, including Taskmaster\, The Mash Report\, Live At The Apollo\, Travelman\, The Last Leg\, QI\, and more. She’s also the wisecracking narrator of Netflix’s iconic guilty pleasure Too Hot to Handle. \n★★★★★ “THAT DESIREE BURCH CAN HAVE AUDIENCES OF ALL DEMOGRAPHICS HOWLING OVER SOMETHING MANY WOULD STRUGGLE TO DEFINE IS TESTAMENT TO RARE COMIC CHOPS” The Age (Australia) \n★★★★★ “SPECTACULAR AS IT GETS WITHOUT COSTUMES\, PROPS AND FIREWORKS” Fest Mag \n★★★★ “Near-perfect example of comedic storytelling” The Evening Standard \n★★★★ The Guardian★★★★ The Scotsman \nTickets: https://colchesterartscentre.ticketsolve.com/ticketbooth/shows/1173660903
URL:https://keepcolchestercool.co.uk/event/desiree-burch-the-golden-wrath-colchester-arts-centre/
LOCATION:Colchester Arts Centre\, Colchester Arts Centre
ATTACH;FMTTYPE=image/jpeg:https://keepcolchestercool.co.uk/wp-content/uploads/127643_image_557737312_1207993504696035_1125021599978024863_n.jpg
END:VEVENT
END:VCALENDAR