BEGIN:VCALENDAR
VERSION:2.0
PRODID:-//Keep Colchester Cool - ECPv6.15.20//NONSGML v1.0//EN
CALSCALE:GREGORIAN
METHOD:PUBLISH
X-ORIGINAL-URL:https://keepcolchestercool.co.uk
X-WR-CALDESC:Events for Keep Colchester Cool
REFRESH-INTERVAL;VALUE=DURATION:PT1H
X-Robots-Tag:noindex
X-PUBLISHED-TTL:PT1H
BEGIN:VTIMEZONE
TZID:Europe/London
BEGIN:DAYLIGHT
TZOFFSETFROM:+0000
TZOFFSETTO:+0100
TZNAME:BST
DTSTART:20250330T010000
END:DAYLIGHT
BEGIN:STANDARD
TZOFFSETFROM:+0100
TZOFFSETTO:+0000
TZNAME:GMT
DTSTART:20251026T010000
END:STANDARD
BEGIN:DAYLIGHT
TZOFFSETFROM:+0000
TZOFFSETTO:+0100
TZNAME:BST
DTSTART:20260329T010000
END:DAYLIGHT
BEGIN:STANDARD
TZOFFSETFROM:+0100
TZOFFSETTO:+0000
TZNAME:GMT
DTSTART:20261025T010000
END:STANDARD
BEGIN:DAYLIGHT
TZOFFSETFROM:+0000
TZOFFSETTO:+0100
TZNAME:BST
DTSTART:20270328T010000
END:DAYLIGHT
BEGIN:STANDARD
TZOFFSETFROM:+0100
TZOFFSETTO:+0000
TZNAME:GMT
DTSTART:20271031T010000
END:STANDARD
END:VTIMEZONE
BEGIN:VEVENT
DTSTART;TZID=Europe/London:20260312T190000
DTEND;TZID=Europe/London:20260312T213000
DTSTAMP:20260424T044231
CREATED:20260113T071041Z
LAST-MODIFIED:20260226T071212Z
UID:127790-1773342000-1773351000@keepcolchestercool.co.uk
SUMMARY:Much Ado About Nothing
DESCRIPTION:The Theatre Arts Society presents their Spring Show! \nWritten by William ShakespeareDirected by Lou Naïlo \nLove. Deceit. Soirées. Shakespeare. \nStep into the roaring ’20s filled with love\, deceit\, and soirées\, for Shakespeare’s Much Ado About Nothing. \nAgainst a backdrop of the 1920s highlife\, follow four lovers and their blooming relationship as they try to overcome bitter rivalries and life-threatening gossip. \nAfter returning from the war\, Count Claudio falls in love with Hero\, his host’s daughter. Meanwhile\, Beatrice and Benedick exchange cutting words in a game of wit. While the former pair’s relationship grows\, Beatrice and Benedick are duped into thinking the other loves them. \nBut Claudio and Hero’s relationship isn’t safe from deception either. A cunning plot by the nefarious Don John seeks to tear their budding romance apart\, bringing Hero’s reputation down with it. \nDust off your masquerade masks and be our esteemed guest for this journey. With extravagant soirées\, a host of quips and jabs\, and a game of social deception\, there’s something for everyone in this take on Shakespeare’s Much Ado About Nothing. \nAge rating: 12+ \nContent warnings: Themes of child abuse\, mild sexual content
URL:https://keepcolchestercool.co.uk/event/much-ado-about-nothing/
LOCATION:Lakeside Theatre\, University of Essex\, Wivenhoe Park\, Colchester\, CO4 3SQ\, GB
ATTACH;FMTTYPE=image/jpeg:https://keepcolchestercool.co.uk/wp-content/uploads/127790_image_613015717_1479244880870999_6589580087761985620_n.jpg
ORGANIZER;CN="Lakeside Theatre":MAILTO:noreply@facebookmail_com
END:VEVENT
BEGIN:VEVENT
DTSTART;TZID=Europe/London:20260312T190000
DTEND;TZID=Europe/London:20260312T220000
DTSTAMP:20260424T044231
CREATED:20260204T071023Z
LAST-MODIFIED:20260226T071213Z
UID:128227-1773342000-1773352800@keepcolchestercool.co.uk
SUMMARY:Shar’s Drag Bingo
DESCRIPTION:Shar invites you to Three Wise Monkeys Colchester\, for an evening of songs\, silliness and bingo. \nTickets £5\, Doors 7pm\, Restaurant floor \nThis gig takes place on the restaurant floor of Three Wise Monkeys Colchester \nAccess – There is no lift to access the restaurant floor of Three Wise Monkeys. There are two short flights of stairs to reach the top floor with rest opportunities between each flight.
URL:https://keepcolchestercool.co.uk/event/shars-drag-bingo-4/
LOCATION:60 High Street\, CO1 1DN Colchester\, United Kingdom\, 60 High Street\, CO1 1DN Colchester\, United Kingdom
ATTACH;FMTTYPE=image/jpeg:https://keepcolchestercool.co.uk/wp-content/uploads/128227_image_624834786_1308376191325727_7444167436205970829_n.jpg
ORGANIZER;CN="Three Wise Monkeys Colchester":MAILTO:noreply@facebookmail_com
END:VEVENT
BEGIN:VEVENT
DTSTART;TZID=Europe/London:20260312T190000
DTEND;TZID=Europe/London:20260312T220000
DTSTAMP:20260424T044231
CREATED:20260210T071034Z
LAST-MODIFIED:20260226T071213Z
UID:128277-1773342000-1773352800@keepcolchestercool.co.uk
SUMMARY:Victoria Inn General Knowledge Quiz 5
DESCRIPTION:Test your general knowledge at the Victoria Inn General Knowledge Quiz\, and help raise money for an incredible cause! \n– £3 a head entry (CASH ONLY)– Maximum 4 to a team– Outside food & dogs welcome – Book on 01206 514510 \nPlease bring the number of people you book for\, and if you book and decide not to attend\, please cancel your booking.  \nPlease arrive at least twenty minutes before the quiz is due to start to place drink orders.
URL:https://keepcolchestercool.co.uk/event/victoria-inn-general-knowledge-quiz-5/
LOCATION:Victoria Inn Colchester\, 10 North Station Rd\, Colchester\, CO1 1RB\, GB
ATTACH;FMTTYPE=image/jpeg:https://keepcolchestercool.co.uk/wp-content/uploads/128277_image_629653330_914615660949442_87017218340454493_n.jpg
ORGANIZER;CN="Film%2C TV & Music Quiz":MAILTO:noreply@facebookmail_com
END:VEVENT
BEGIN:VEVENT
DTSTART;TZID=Europe/London:20260312T190000
DTEND;TZID=Europe/London:20260312T223000
DTSTAMP:20260424T044231
CREATED:20260225T071223Z
LAST-MODIFIED:20260226T071213Z
UID:129328-1773342000-1773354600@keepcolchestercool.co.uk
SUMMARY:Emma\, the Playful Red Panda - Paint Evening in Colchester
DESCRIPTION:A brand new painting comes to Colchester at Artsy Image.No experience necessary.Come along and have lots of fun creating something you didn’t think possible.
URL:https://keepcolchestercool.co.uk/event/emma-the-playful-red-panda-paint-evening-in-colchester/
LOCATION:Artsy Image\, Artsy Image
ATTACH;FMTTYPE=image/jpeg:https://keepcolchestercool.co.uk/wp-content/uploads/129328_image_616391281_1061886012905144_5757283115129661882_n.jpg
END:VEVENT
BEGIN:VEVENT
DTSTART;TZID=Europe/London:20260312T193000
DTEND;TZID=Europe/London:20260312T223000
DTSTAMP:20260424T044231
CREATED:20260210T071035Z
LAST-MODIFIED:20260226T071213Z
UID:128278-1773343800-1773354600@keepcolchestercool.co.uk
SUMMARY:Jake Cheek
DESCRIPTION:Jake Cheek performs live at Three Wise Monkeys\, Colchester\, with support from Jake Martin\, George Gadd\, and Daniel Stephen Turner. \nJake Cheek – Local legend Jake Cheek may be best known for his amazing bass tones his other project “Shed” but Jake is also a jaw dropping solo artist in his own right and a must see act! \nJake Martin – Known far and wide for his acoustic folk punk stylings Jake Martin is now a proud Colchester native! Fresh off supporting Pet Needs across Germany This will be Jake 1st show back in the UK and his last Colchester date for some time so don’t miss out! \nGeorge Gadd – Nottinghams finest! This guy is one of those acts you have to see before you die! If Weezer and Frank Turner had an overachieving child it would be George Gadd! This is his first trip to Colchester so get down early and make hime feel welcome! \nDaniel Stephen Turner – Kicking off the evening is another Colchester legend in the making! Daniel is another act that always stands out! An amazing songwriter and a wonderful human! \nDate: Thursday\, 12 March 2026Venue: Three Wise Monkeys\, ColchesterDoors: 7:30pmAges: 18+ \nPlease note that access to the top floor of Three Wise Monkeys does not have a lift\, but there are rest opportunities between each flight of stairs. \nViewer discretion is advised: This show may potentially contain flashing and strobing lighting effects. \nRefund policy: We are unable to process any ticket refunds within 7 days of the event.
URL:https://keepcolchestercool.co.uk/event/jake-cheek/
LOCATION:60 High Street\, CO1 1DN Colchester\, United Kingdom\, 60 High Street\, CO1 1DN Colchester\, United Kingdom
ATTACH;FMTTYPE=image/jpeg:https://keepcolchestercool.co.uk/wp-content/uploads/128278_image_626775993_1313966870766659_8085576508998692940_n.jpg
ORGANIZER;CN="Three Wise Monkeys Colchester":MAILTO:noreply@facebookmail_com
END:VEVENT
BEGIN:VEVENT
DTSTART;TZID=Europe/London:20260312T193000
DTEND;TZID=Europe/London:20260312T223000
DTSTAMP:20260424T044231
CREATED:20260225T071224Z
LAST-MODIFIED:20260226T071213Z
UID:129330-1773343800-1773354600@keepcolchestercool.co.uk
SUMMARY:Russell Hicks: This Time It's Personal *
DESCRIPTION:Tickets £20.50.Doors open 7.30pm\, show starts 8pm. \nThis show is for a seated audience. \nAmerican stand up comedian Russell Hicks is back on tour. It’s been a big year for Russell. He’s appeared in multiple feature films including Edgar Wright’s The Running Man (2025). You also may have seen his phenomenally successful ‘Dear Diary’ series on Instagram\, which has gained millions of views. Last year’s show was about his life in the UK. This year is about…him. He’s back. And this time… it’s personal. \n(As seen on ITV\, BBC\, Channel 4\, Prime Video\, and Paramount Pictures. 2x Leicester Festival Best Show Nominee and Winner of the 2024 Prague Fringe Festival)
URL:https://keepcolchestercool.co.uk/event/russell-hicks-this-time-its-personal/
LOCATION:Church St\, CO1 1NF Colchester\, United Kingdom
ATTACH;FMTTYPE=image/jpeg:https://keepcolchestercool.co.uk/wp-content/uploads/129330_image_641599901_1332740512221448_1582470775981005078_n.jpg
ORGANIZER;CN="Colchester Arts Centre":MAILTO:noreply@facebookmail_com
END:VEVENT
BEGIN:VEVENT
DTSTART;TZID=Europe/London:20260312T200000
DTEND;TZID=Europe/London:20260312T230000
DTSTAMP:20260424T044231
CREATED:20251008T071106Z
LAST-MODIFIED:20260226T071213Z
UID:126479-1773345600-1773356400@keepcolchestercool.co.uk
SUMMARY:Mo Gilligan: The Mo You Know
DESCRIPTION:Sale Dates and Times: \nPublic Onsale : Fri\, 26 Sep 2025 at 10:00 AM \nPriority from O2 : Wed\, 24 Sep 2025 at 10:00 AM \nLive Nation Presale : Thu\, 25 Sep 2025 at 10:00 AM
URL:https://keepcolchestercool.co.uk/event/mo-gilligan-the-mo-you-know/
LOCATION:Colchester Charter Hall\, Colchester Charter Hall
ATTACH;FMTTYPE=image/jpeg:https://keepcolchestercool.co.uk/wp-content/uploads/126479_image_550575757_1239050334930188_8661439659549550879_n.jpg
ORGANIZER;CN="Ticketmaster Events":MAILTO:noreply@facebookmail_com
END:VEVENT
END:VCALENDAR