BEGIN:VCALENDAR
VERSION:2.0
PRODID:-//Keep Colchester Cool - ECPv6.15.20//NONSGML v1.0//EN
CALSCALE:GREGORIAN
METHOD:PUBLISH
X-ORIGINAL-URL:https://keepcolchestercool.co.uk
X-WR-CALDESC:Events for Keep Colchester Cool
REFRESH-INTERVAL;VALUE=DURATION:PT1H
X-Robots-Tag:noindex
X-PUBLISHED-TTL:PT1H
BEGIN:VTIMEZONE
TZID:Europe/London
BEGIN:DAYLIGHT
TZOFFSETFROM:+0000
TZOFFSETTO:+0100
TZNAME:BST
DTSTART:20250330T010000
END:DAYLIGHT
BEGIN:STANDARD
TZOFFSETFROM:+0100
TZOFFSETTO:+0000
TZNAME:GMT
DTSTART:20251026T010000
END:STANDARD
BEGIN:DAYLIGHT
TZOFFSETFROM:+0000
TZOFFSETTO:+0100
TZNAME:BST
DTSTART:20260329T010000
END:DAYLIGHT
BEGIN:STANDARD
TZOFFSETFROM:+0100
TZOFFSETTO:+0000
TZNAME:GMT
DTSTART:20261025T010000
END:STANDARD
BEGIN:DAYLIGHT
TZOFFSETFROM:+0000
TZOFFSETTO:+0100
TZNAME:BST
DTSTART:20270328T010000
END:DAYLIGHT
BEGIN:STANDARD
TZOFFSETFROM:+0100
TZOFFSETTO:+0000
TZNAME:GMT
DTSTART:20271031T010000
END:STANDARD
END:VTIMEZONE
BEGIN:VEVENT
DTSTART;TZID=Europe/London:20260316T193000
DTEND;TZID=Europe/London:20260316T223000
DTSTAMP:20260424T044231
CREATED:20260225T071227Z
LAST-MODIFIED:20260226T071215Z
UID:129341-1773689400-1773700200@keepcolchestercool.co.uk
SUMMARY:Steve Knightley: Sanctuary - Songs From Sacred Spaces *
DESCRIPTION:Tickets £21.Doors open 7.30pm\, starts 8pm.This gig is for a seated audience. \nFollowing the success of his Winter Yards Band tour\, Steve Knightley is delighted to announce Sanctuary – Songs from Sacred Spaces. Known for his songs of history and location \, Steve will create an evening of material beautifully matched to these resonant venues — churches\, chapels and ancient buildings chosen for their atmosphere and acoustic warmth. The concerts will also feature Dan Salvatore\, who’s haunting handpan soundscapes add a meditative\, ambient dimension to the evening. Expect stripped-back arrangements\, strong storytelling\, and a focus on the relationship between song\, space\, and listener. \nwww.steveknightley.comwww.facebook.com/steveknightleywww.instagram.com/steveknightleyofficialwww.x.com/sohstevewww.youtube.com/@SteveKnightleyOfficial?sub_confirmation=1 \nwww.facebook.com/Daniel.Salvator33www.facebook.com/Salvatore.Handpanswww.instagram.com/salvatore_handpans
URL:https://keepcolchestercool.co.uk/event/steve-knightley-sanctuary-songs-from-sacred-spaces/
LOCATION:Church St\, CO1 1NF Colchester\, United Kingdom
ATTACH;FMTTYPE=image/jpeg:https://keepcolchestercool.co.uk/wp-content/uploads/129341_image_641264396_1332793465549486_8267879270308464742_n.jpg
ORGANIZER;CN="Colchester Arts Centre":MAILTO:noreply@facebookmail_com
END:VEVENT
END:VCALENDAR