BEGIN:VCALENDAR
VERSION:2.0
PRODID:-//Keep Colchester Cool - ECPv6.15.20//NONSGML v1.0//EN
CALSCALE:GREGORIAN
METHOD:PUBLISH
X-ORIGINAL-URL:https://keepcolchestercool.co.uk
X-WR-CALDESC:Events for Keep Colchester Cool
REFRESH-INTERVAL;VALUE=DURATION:PT1H
X-Robots-Tag:noindex
X-PUBLISHED-TTL:PT1H
BEGIN:VTIMEZONE
TZID:Europe/London
BEGIN:DAYLIGHT
TZOFFSETFROM:+0000
TZOFFSETTO:+0100
TZNAME:BST
DTSTART:20250330T010000
END:DAYLIGHT
BEGIN:STANDARD
TZOFFSETFROM:+0100
TZOFFSETTO:+0000
TZNAME:GMT
DTSTART:20251026T010000
END:STANDARD
BEGIN:DAYLIGHT
TZOFFSETFROM:+0000
TZOFFSETTO:+0100
TZNAME:BST
DTSTART:20260329T010000
END:DAYLIGHT
BEGIN:STANDARD
TZOFFSETFROM:+0100
TZOFFSETTO:+0000
TZNAME:GMT
DTSTART:20261025T010000
END:STANDARD
BEGIN:DAYLIGHT
TZOFFSETFROM:+0000
TZOFFSETTO:+0100
TZNAME:BST
DTSTART:20270328T010000
END:DAYLIGHT
BEGIN:STANDARD
TZOFFSETFROM:+0100
TZOFFSETTO:+0000
TZNAME:GMT
DTSTART:20271031T010000
END:STANDARD
END:VTIMEZONE
BEGIN:VEVENT
DTSTART;TZID=Europe/London:20260317T193000
DTEND;TZID=Europe/London:20260317T220000
DTSTAMP:20260424T044128
CREATED:20251008T071106Z
LAST-MODIFIED:20260226T071215Z
UID:126481-1773775800-1773784800@keepcolchestercool.co.uk
SUMMARY:Image Appreciation
DESCRIPTION:Tonight we’re blending a relaxed social gathering with an opportunity to explore the printed medium. Tables will be set up throughout the hall where members can display possibly unseen and/or unmounted printed images they’ve created. This is a chance to discover a variety of genres\, explore ideas\, discuss paper types and receive valuable feedback to refine and enhancethe presentation of your own work.
URL:https://keepcolchestercool.co.uk/event/image-appreciation/
LOCATION:Ireton Road\, CO3 3AT Colchester\, United Kingdom\, Ireton Road\, CO3 3AT Colchester\, United Kingdom
ATTACH;FMTTYPE=image/jpeg:https://keepcolchestercool.co.uk/wp-content/uploads/126481_image_538711181_1348366620624395_213415673177673996_n.jpg
ORGANIZER;CN="Colchester Photographic Society":MAILTO:noreply@facebookmail_com
END:VEVENT
BEGIN:VEVENT
DTSTART;TZID=Europe/London:20260317T193000
DTEND;TZID=Europe/London:20260317T223000
DTSTAMP:20260424T044128
CREATED:20250605T071048Z
LAST-MODIFIED:20260226T071215Z
UID:124891-1773775800-1773786600@keepcolchestercool.co.uk
SUMMARY:Chesney Hawkes + Laura Aston // Colchester Arts Centre
DESCRIPTION:Chesney Hawkes became one of the biggest pop stars of his era with his irresistiblemega-hit ‘The One and Only’\, becoming one of the most recognisable songs of a generation.Having spent over a decade in LA\, Chesney is finally back and bigger than ever\, with his long awaited comeback album ‘Living Arrows’ securing BBC Radio 2’s coveted ‘album of the week’\, and spawning the hit radio singles ‘Get A Hold Of Yourself’\, ‘Live Forever’ and ‘LOUD!’.With regular major television appearances including his iconic BBC Radio 2 ‘Piano Room’ and recent advance to the final of ‘Celebrity Big Brother’\, Chesney is very much back in our lives\, our ears and our hearts – Guilty pleasure to National Treasure!New album “Living Arrows” Out Now \nVIPUpgrade to VIP and enjoy exclusive early access to the venue! Meet Chesney Hawkes in person before the show\, and take home a signed limited edition souvenir print and a commemorative tour laminate with lanyard. VIP tickets are strictly limited for each date\, book early to avoid missing out. The ticket includes access to the gig.(VIP Customers should arrive at the venue 1hr 15mins before advertised door times)
URL:https://keepcolchestercool.co.uk/event/chesney-hawkes-colchester-arts-centre/
LOCATION:Colchester Arts Centre\, Colchester Arts Centre
ATTACH;FMTTYPE=image/jpeg:https://keepcolchestercool.co.uk/wp-content/uploads/124891_image_591827515_1371965624716979_7599480337427065269_n.jpg
ORGANIZER;CN="The Gig Cartel":MAILTO:noreply@facebookmail.com
END:VEVENT
BEGIN:VEVENT
DTSTART;TZID=Europe/London:20260317T193000
DTEND;TZID=Europe/London:20260317T223000
DTSTAMP:20260424T044128
CREATED:20260122T071058Z
LAST-MODIFIED:20260226T071215Z
UID:127970-1773775800-1773786600@keepcolchestercool.co.uk
SUMMARY:JDS live @ The Greyhound Wivenhoe (St Patricks Day party)
DESCRIPTION:St Patricks Day 2026 @ The Greyhound Wivenhoe
URL:https://keepcolchestercool.co.uk/event/jds-live-the-greyhound-wivenhoe-st-patricks-day-party/
LOCATION:Greyhound\, Greyhound
ATTACH;FMTTYPE=image/jpeg:https://keepcolchestercool.co.uk/wp-content/uploads/127970_image_569051299_1360308112771287_7511183065210810579_n.jpg
END:VEVENT
END:VCALENDAR