BEGIN:VCALENDAR
VERSION:2.0
PRODID:-//Keep Colchester Cool - ECPv6.15.20//NONSGML v1.0//EN
CALSCALE:GREGORIAN
METHOD:PUBLISH
X-ORIGINAL-URL:https://keepcolchestercool.co.uk
X-WR-CALDESC:Events for Keep Colchester Cool
REFRESH-INTERVAL;VALUE=DURATION:PT1H
X-Robots-Tag:noindex
X-PUBLISHED-TTL:PT1H
BEGIN:VTIMEZONE
TZID:Europe/London
BEGIN:DAYLIGHT
TZOFFSETFROM:+0000
TZOFFSETTO:+0100
TZNAME:BST
DTSTART:20250330T010000
END:DAYLIGHT
BEGIN:STANDARD
TZOFFSETFROM:+0100
TZOFFSETTO:+0000
TZNAME:GMT
DTSTART:20251026T010000
END:STANDARD
BEGIN:DAYLIGHT
TZOFFSETFROM:+0000
TZOFFSETTO:+0100
TZNAME:BST
DTSTART:20260329T010000
END:DAYLIGHT
BEGIN:STANDARD
TZOFFSETFROM:+0100
TZOFFSETTO:+0000
TZNAME:GMT
DTSTART:20261025T010000
END:STANDARD
BEGIN:DAYLIGHT
TZOFFSETFROM:+0000
TZOFFSETTO:+0100
TZNAME:BST
DTSTART:20270328T010000
END:DAYLIGHT
BEGIN:STANDARD
TZOFFSETFROM:+0100
TZOFFSETTO:+0000
TZNAME:GMT
DTSTART:20271031T010000
END:STANDARD
END:VTIMEZONE
BEGIN:VEVENT
DTSTART;TZID=Europe/London:20260320T190000
DTEND;TZID=Europe/London:20260320T220000
DTSTAMP:20260424T062632
CREATED:20260122T071058Z
LAST-MODIFIED:20260226T071216Z
UID:127973-1774033200-1774044000@keepcolchestercool.co.uk
SUMMARY:The Reverse Cowboys
DESCRIPTION:All guns blazing 3 piece punk outfit hailing from the Norfolk badlands. Serving up deep fried bangers with an electric stage presence on Friday 20th March. \nTHE LOUD. THE DRUNK. AND THE GOD DAMN COWBOYS.The Reverse Cowboys sit somewhere between punk and hard rock. 2 singles are currently available on all online streaming platforms and more to come very soon. Keep them peepers PEELED. \nSupport on the night comes from Krodah\, Wyvern & Dead Pretty! \nDoors open at 7:30 PM\, Tickets £10 + booking feePlease note that access to the top floor of Three Wise Monkeys does not have a lift\, but there are rest opportunities between each flight of stairs.Viewer discretion is advised: This show may potentially contain flashing and strobing lighting effects.We wanted to inform you of our refund policy regarding event tickets. Please note that we will be unable to process any ticket refunds within 7 days of the event.We understand that circumstances may arise that prevent you from attending the event\, but unfortunately\, we are unable to accommodate refund requests within this timeframe.
URL:https://keepcolchestercool.co.uk/event/the-reverse-cowboys/
LOCATION:60 High Street\, CO1 1DN Colchester\, United Kingdom\, 60 High Street\, CO1 1DN Colchester\, United Kingdom
ATTACH;FMTTYPE=image/jpeg:https://keepcolchestercool.co.uk/wp-content/uploads/127973_image_619121254_1303092805187399_5308497415884296055_n.jpg
ORGANIZER;CN="Three Wise Monkeys Colchester":MAILTO:noreply@facebookmail_com
END:VEVENT
BEGIN:VEVENT
DTSTART;TZID=Europe/London:20260320T190000
DTEND;TZID=Europe/London:20260320T220000
DTSTAMP:20260424T062632
CREATED:20260125T071022Z
LAST-MODIFIED:20260226T071216Z
UID:128072-1774033200-1774044000@keepcolchestercool.co.uk
SUMMARY:Comedy Night
DESCRIPTION:Join us for our first Comedy Night of 2025\, hosted by our brilliant regular MC Justin Panks. \nOpening the show is award-winning comedian Paul F. Taylor\, bringing his signature absurdist style of offbeat one-liners\, surreal observations\, and high-energy\, chaotic storytelling. \nIn the middle spot\, award-winning comedian and actress Wendy delivers sharp\, warm comedy drawn from her acclaimed Edinburgh Fringe solo shows\, including Things I Didn’t Know\, I Didn’t Know and Tiny Me. \nClosing the night is John Robertson\, a hugely experienced headliner with over 20 years in comedy\, known for his high-energy\, improvised stand up. Performing every year at the Edinburgh Fringe and having a signature show called ‘The Dark room’. \nDoors open at 7pm with Comedy starting at 8pm. Bar food available until 8:45pm.  \nBook 10 tickets in one transaction and get a free pitcher of beer. \nThis event is for over 16s only (under 18s to be accompanied by an adult). \nFree parking available – enter your car registration at the reception tablets on arrival.
URL:https://keepcolchestercool.co.uk/event/comedy-night-4/
LOCATION:Colchester United FC\, JobServe Community Stadium\, United Way\, Colchester\, CO4 5UP\, GB
ATTACH;FMTTYPE=image/jpeg:https://keepcolchestercool.co.uk/wp-content/uploads/128072_image_617434831_1454544766672086_2417257107908387503_n.jpg
ORGANIZER;CN="Events at Colchester United FC":MAILTO:noreply@facebookmail_com
END:VEVENT
BEGIN:VEVENT
DTSTART;TZID=Europe/London:20260320T193000
DTEND;TZID=Europe/London:20260320T223000
DTSTAMP:20260424T062632
CREATED:20260113T071043Z
LAST-MODIFIED:20260226T071216Z
UID:127793-1774035000-1774045800@keepcolchestercool.co.uk
SUMMARY:Title Goes Here UK Tour - Colchester
DESCRIPTION:20th March 2026\, 7:30pm at Headgate Theatre. Gazelle Theatre is excited to be taking their brand new show on tour! After a sell out tour of the 5 star show Romiet Gazelle are hitting the road with a brand new improv show. With a new actor joining the touring cast at every show it is sure to remember that won’t ever be repeated. Starring Gazelle Theatre’s own Brad Collett it will be an evening of unforgettable laughter and improvised chaos! One not to miss!!
URL:https://keepcolchestercool.co.uk/event/title-goes-here-uk-tour-colchester/
LOCATION:Headgate Theatre\, Headgate Theatre
ATTACH;FMTTYPE=image/jpeg:https://keepcolchestercool.co.uk/wp-content/uploads/127793_image_611139259_122308072232232476_2578401974161171956_n.jpg
END:VEVENT
BEGIN:VEVENT
DTSTART;TZID=Europe/London:20260320T193000
DTEND;TZID=Europe/London:20260320T223000
DTSTAMP:20260424T062632
CREATED:20260225T071228Z
LAST-MODIFIED:20260226T071216Z
UID:129343-1774035000-1774045800@keepcolchestercool.co.uk
SUMMARY:Wine & Chocolate Pairing (Colchester)
DESCRIPTION:Join us for a deliciously indulgent evening exploring the surprising harmony between English wine and chocolate. This guided tasting event will feature six delicious English wines\, each thoughtfully paired with a complementary chocolate to highlight unexpected flavours\, textures and contrasts. \nOur events are designed for all types of wine drinker\, we don’t do stuffy tastings at The English Wine Tasting Company! Instead\, expect plenty of delicious wines\, engaging insights\, and a relaxed\, sociable atmosphere. \nThis tasting event will start at 7.30pm and is expected to last 2 hours\, with the option to stay a little longer to socialise and enjoy any remaining wine. \nTickets £49pp.
URL:https://keepcolchestercool.co.uk/event/wine-chocolate-pairing-colchester/
LOCATION:No 10 Museum St\, No 10 Museum St
ORGANIZER;CN="The English Wine Tasting Company":MAILTO:noreply@facebookmail.com
END:VEVENT
END:VCALENDAR