BEGIN:VCALENDAR
VERSION:2.0
PRODID:-//Keep Colchester Cool - ECPv6.15.20//NONSGML v1.0//EN
CALSCALE:GREGORIAN
METHOD:PUBLISH
X-WR-CALNAME:Keep Colchester Cool
X-ORIGINAL-URL:https://keepcolchestercool.co.uk
X-WR-CALDESC:Events for Keep Colchester Cool
REFRESH-INTERVAL;VALUE=DURATION:PT1H
X-Robots-Tag:noindex
X-PUBLISHED-TTL:PT1H
BEGIN:VTIMEZONE
TZID:Europe/London
BEGIN:DAYLIGHT
TZOFFSETFROM:+0000
TZOFFSETTO:+0100
TZNAME:BST
DTSTART:20250330T010000
END:DAYLIGHT
BEGIN:STANDARD
TZOFFSETFROM:+0100
TZOFFSETTO:+0000
TZNAME:GMT
DTSTART:20251026T010000
END:STANDARD
BEGIN:DAYLIGHT
TZOFFSETFROM:+0000
TZOFFSETTO:+0100
TZNAME:BST
DTSTART:20260329T010000
END:DAYLIGHT
BEGIN:STANDARD
TZOFFSETFROM:+0100
TZOFFSETTO:+0000
TZNAME:GMT
DTSTART:20261025T010000
END:STANDARD
BEGIN:DAYLIGHT
TZOFFSETFROM:+0000
TZOFFSETTO:+0100
TZNAME:BST
DTSTART:20270328T010000
END:DAYLIGHT
BEGIN:STANDARD
TZOFFSETFROM:+0100
TZOFFSETTO:+0000
TZNAME:GMT
DTSTART:20271031T010000
END:STANDARD
END:VTIMEZONE
BEGIN:VEVENT
DTSTART;TZID=Europe/London:20260321T110000
DTEND;TZID=Europe/London:20260321T140000
DTSTAMP:20260424T044008
CREATED:20260224T071211Z
LAST-MODIFIED:20260226T071216Z
UID:129132-1774090800-1774101600@keepcolchestercool.co.uk
SUMMARY:Author event: Lisa Jackson Still Running After All These Years
DESCRIPTION:Lisa will talk about her memoir STILL RUNNING AFTER ALL THESE TEARS: A tale of love\, loss and laughter\, which describes one woman’s determination to survive unbearable grief – and get back into running – one step at a time. \nLisa Jackson is a hypnotherapist\, running writer and Runner’s World columnist\, and the author of the best-selling books Your Pace or Mine? and Running Made Easy. Lisa is also Women’s Running’s hypnotherapy expert\, and her work has been published in The Guardian\, The Independent\, Psychologies\, Red\, Prima\, Top Santé\, Healthy and Cosmopolitan. She is a veteran of over 100 marathons and two 56-mile ultramarathons. Lisa haspresented talks at numerous events including The National Running Show and RunFestRun.  \nFeeling utterly broken as she navigated bereavements\, Lisa turned to an old friend that had helped her through many tough times before: running. But whereas it had previously been a source of solace\, fun and companionship\, before long a debilitating injury meant she lost her running mojo\, too. Aiming to complete her 109th marathon\, Lisa set out to rekindle her love affair with running – and to build a new life. Still Running After All These Tears is a survival manual for the broken-hearted\, and for anyone struggling with major life challenges. It’s a celebration of the redemptive power of running\, and the life-enhancing lessons it can teach us. \nAbove all\, it’s a meditation on how to thrive in the face of trauma\, what makes a good death and\, most importantly\, how to lead a joyous\, meaningful life.
URL:https://keepcolchestercool.co.uk/event/author-event-lisa-jackson-still-running-after-all-these-years/
LOCATION:125 High Street\, Colchester\, 125 High Street\, Colchester
ATTACH;FMTTYPE=image/jpeg:https://keepcolchestercool.co.uk/wp-content/uploads/129132_image_637784206_1379841227508944_8919662086313982994_n.jpg
ORGANIZER;CN="Red Lion Books":MAILTO:noreply@facebookmail_com
END:VEVENT
BEGIN:VEVENT
DTSTART;TZID=Europe/London:20260321T150000
DTEND;TZID=Europe/London:20260321T173000
DTSTAMP:20260424T044008
CREATED:20260224T071211Z
LAST-MODIFIED:20260226T071216Z
UID:129135-1774105200-1774114200@keepcolchestercool.co.uk
SUMMARY:CODA - Acoustic Showcase
DESCRIPTION:A Saturday afternoon showcase featuring:Karen Black (Trio)??Stu E Skinner(Hosting)Event Info:A weekly event featuring 3 to 5 acts performing live acoustic sets between 3-5:30pm.Hot & cold beverages served from 2:30pm onwards.This is a family friendly event so younglings are welcome providing they’re properly managed.Mics\, pa and backline are provided but performers are welcome to bring their own microphones etc
URL:https://keepcolchestercool.co.uk/event/coda-acoustic-showcase-13/
LOCATION:63 High street\, co1 1dn Colchester\, United Kingdom\, 63 High street\, co1 1dn Colchester\, United Kingdom
ATTACH;FMTTYPE=image/jpeg:https://keepcolchestercool.co.uk/wp-content/uploads/129135_image_634436372_897052732925653_7792736711882770621_n.jpg
ORGANIZER;CN="Piggyfy Live - Acoustic Showcase - Coda":MAILTO:noreply@facebookmail.com
END:VEVENT
BEGIN:VEVENT
DTSTART;TZID=Europe/London:20260321T190000
DTEND;TZID=Europe/London:20260321T220000
DTSTAMP:20260424T044008
CREATED:20250513T071017Z
LAST-MODIFIED:20260226T071216Z
UID:124244-1774119600-1774130400@keepcolchestercool.co.uk
SUMMARY:Emilia Quinn Live at Three Wise Monkeys - Colchester plus guests The Jackson Line
DESCRIPTION:Emilia Quinn brings her full band to Essex heading to Three Wise Monkeys with guests The Jackson Line \nEmilia Quinn is a dynamic UK-based musician and singer-songwriter known for her raw\, soulful voice and genre-bending sound that fuses Americana\, Country\, Blues\, Rock and more. With a background in classical training and a passion for storytelling\, Emilia creates emotionally charged music that resonates deeply with her listeners. Her powerful vocals and honest lyricism explore themes of resilience self-discovery\, heartache and love earning her recognition in both the British and international music scenes. \nEmilia’s career began in grassroots venues\, but her unique blend of styles quickly caught attention\, leading her to perform at major festivals like Country2Country\, The Long Road\, Black Deer and share the stage with prominent artists. Her Award nominated debut album ‘Wanderlust & Breaking Rules” (2023) was described as ‘a real mix of southern gospel\, 70s Rolling Stones style riffola and heartfelt Blues/Folk/Country emotions’ – EF Country. It was followed by a highly anticipated second studio album in 2025 titled ‘Dented Halos’. Released on 19th September 2025 te album gained Number 1 in the iTunes Blues Chart and 27 in the all genres chart. Spell-binding and beautifully raw\, Rock The Joint Magazine describes it as “an album that breathes\, breaks\, heals\, and rises again.”  \nKnown for her captivating live performances\, Emilia’s on-stage energy and authenticity have solidified her reputation as a rising star in Americana\, Blues and Folk Rock genres.  \nWith Support From The Jackson Line \nWith two lead vocalists in the shape of Keith Porter and Jamie Cook\, harmonies were always going to be front and centre in The Jackson Line\, who deliver a modern take on classic Country and Americana. Storytelling\, harmonies and guitars are at the heart of what they do. \nThe band are comfortable with the tag of ‘modern country’\, but with each member bringing a wide range of differing influences to the table they create thoughtful\, melodic songs\, which capture the essence of country while allowing their other influences to permeate.
URL:https://keepcolchestercool.co.uk/event/emilia-quinn/
LOCATION:60 High Street\, CO1 1DN Colchester\, United Kingdom\, 60 High Street\, CO1 1DN Colchester\, United Kingdom
ATTACH;FMTTYPE=image/jpeg:https://keepcolchestercool.co.uk/wp-content/uploads/124244_image_634055180_1509951064465684_864314506865764334_n.jpg
ORGANIZER;CN="Three Wise Monkeys Colchester":MAILTO:noreply@facebookmail_com
END:VEVENT
BEGIN:VEVENT
DTSTART;TZID=Europe/London:20260321T193000
DTEND;TZID=Europe/London:20260321T223000
DTSTAMP:20260424T044008
CREATED:20260113T071044Z
LAST-MODIFIED:20260226T071217Z
UID:127795-1774121400-1774132200@keepcolchestercool.co.uk
SUMMARY:Dolly Parton Tribute
DESCRIPTION:Join us for an evening of exceptional entertainment as “Dolly” takes the stage with a vibrant and heartfelt tribute to one of country music’s most legendary figures. \nDoors open 7.30pm\, with the act on from approx. 8.30pm. Over 16’s only. \nParking is free at the stadium when attending one of our events. Simply enter your car registration number into the tablets in the reception foyer as you enter. \nIf you wish to leave your vehicle overnight\, you may do so and your parking validation will cover you until the following day. Please ensure that your vehicle is collected by 10am.
URL:https://keepcolchestercool.co.uk/event/dolly-parton-tribute/
LOCATION:JobServe Community Stadium\, United Way\, CO4 5UP Colchester\, United Kingdom\, JobServe Community Stadium\, United Way\, CO4 5UP Colchester\, United Kingdom
ATTACH;FMTTYPE=image/jpeg:https://keepcolchestercool.co.uk/wp-content/uploads/127795_image_557641957_1357352943057936_746888282440585907_n.jpg
ORGANIZER;CN="Events at Colchester United FC":MAILTO:noreply@facebookmail_com
END:VEVENT
BEGIN:VEVENT
DTSTART;TZID=Europe/London:20260321T193000
DTEND;TZID=Europe/London:20260321T223000
DTSTAMP:20260424T044008
CREATED:20260210T071042Z
LAST-MODIFIED:20260226T071217Z
UID:128282-1774121400-1774132200@keepcolchestercool.co.uk
SUMMARY:Handel's 'Messiah'
DESCRIPTION:Join us for a fresh and energetic performance of Handel’s ‘Messiah’ with some top quality soloists on Saturday 21st March at St Botolph’s Church. https://colchesterchoralsociety.co.uk/
URL:https://keepcolchestercool.co.uk/event/handels-messiah/
LOCATION:St Botolphs Church\, Colchester\, GB
ATTACH;FMTTYPE=image/jpeg:https://keepcolchestercool.co.uk/wp-content/uploads/128282_image_627666779_1400660358514213_3733381140777143130_n.jpg
ORGANIZER;CN="Colchester Choral Society":MAILTO:noreply@facebookmail.com
END:VEVENT
END:VCALENDAR