BEGIN:VCALENDAR
VERSION:2.0
PRODID:-//Keep Colchester Cool - ECPv6.15.20//NONSGML v1.0//EN
CALSCALE:GREGORIAN
METHOD:PUBLISH
X-ORIGINAL-URL:https://keepcolchestercool.co.uk
X-WR-CALDESC:Events for Keep Colchester Cool
REFRESH-INTERVAL;VALUE=DURATION:PT1H
X-Robots-Tag:noindex
X-PUBLISHED-TTL:PT1H
BEGIN:VTIMEZONE
TZID:Europe/London
BEGIN:DAYLIGHT
TZOFFSETFROM:+0000
TZOFFSETTO:+0100
TZNAME:BST
DTSTART:20250330T010000
END:DAYLIGHT
BEGIN:STANDARD
TZOFFSETFROM:+0100
TZOFFSETTO:+0000
TZNAME:GMT
DTSTART:20251026T010000
END:STANDARD
BEGIN:DAYLIGHT
TZOFFSETFROM:+0000
TZOFFSETTO:+0100
TZNAME:BST
DTSTART:20260329T010000
END:DAYLIGHT
BEGIN:STANDARD
TZOFFSETFROM:+0100
TZOFFSETTO:+0000
TZNAME:GMT
DTSTART:20261025T010000
END:STANDARD
BEGIN:DAYLIGHT
TZOFFSETFROM:+0000
TZOFFSETTO:+0100
TZNAME:BST
DTSTART:20270328T010000
END:DAYLIGHT
BEGIN:STANDARD
TZOFFSETFROM:+0100
TZOFFSETTO:+0000
TZNAME:GMT
DTSTART:20271031T010000
END:STANDARD
END:VTIMEZONE
BEGIN:VEVENT
DTSTART;TZID=Europe/London:20260325T193000
DTEND;TZID=Europe/London:20260329T160000
DTSTAMP:20260424T044230
CREATED:20260105T071028Z
LAST-MODIFIED:20260226T071218Z
UID:127656-1774467000-1774800000@keepcolchestercool.co.uk
SUMMARY:The Grand Babylon Hotel
DESCRIPTION:Nella Racksole wants steak and beer for her birthday treat\, but these are not on the menu of the exclusive Grand Babylon Hotel – so her American Railroad Millionaire father obligingly buys the chef… the kitchen… the entire hotel. \nHowever\, The Grand Babylon is not all it seems\, and Theodore Racksole soon discovers there’s more than a juicy steak on his plate – with kidnapping and murder for starters! \nHave Theodore and Nella bitten off more than they can chew? \nThe Grand Babylon Hotel is a rollicking comedy thriller\, with a virtuoso cast of five bringing you many faces\, chases\, glamour\, intrigue\, and a couple of German princes thrown in for good measure. \nA riotous evening out!
URL:https://keepcolchestercool.co.uk/event/the-grand-babylon-hotel/
LOCATION:Balkerne Gate\, CO1 1PT Colchester\, United Kingdom\, Balkerne Gate\, CO1 1PT Colchester\, United Kingdom
ATTACH;FMTTYPE=image/jpeg:https://keepcolchestercool.co.uk/wp-content/uploads/127656_image_597839965_1321402623351410_2796146236905204038_n.jpg
ORGANIZER;CN="Mercury Theatre Colchester":MAILTO:noreply@facebookmail_com
END:VEVENT
BEGIN:VEVENT
DTSTART;TZID=Europe/London:20260326T183000
DTEND;TZID=Europe/London:20260326T213000
DTSTAMP:20260424T044230
CREATED:20260120T071030Z
LAST-MODIFIED:20260226T071218Z
UID:127910-1774549800-1774560600@keepcolchestercool.co.uk
SUMMARY:Willow Heart Workshop
DESCRIPTION:Join us for a beautifully relaxed and creative evening at Romano Lounge\, where you’ll learn to weave your very own willow heart with lights. This stunning piece makes a perfect decoration for your home\, a thoughtful handmade gift\, or even a lovely early Valentine’s project. \nNo experience is needed\, you’ll be guided step-by-step\, and all materials are supplied. Just come along\, enjoy the atmosphere\, and get stuck into a calming\, hands-on craft. \nTickets include your choice of refreshments: \n£35pp including a hot drink & cake \nHeld in the warm and welcoming surroundings of Romano Lounge\, this workshop is a lovely way to spend a winter evening with friends\, family\, or simply for a little creative time to yourself. \n Spaces are limited early booking recommended.Book here: https://www.thecreativeworkshopcompany.co.uk/event-details/willow-heart-workshop-2
URL:https://keepcolchestercool.co.uk/event/willow-heart-workshop-3/
LOCATION:Romano Lounge\, Romano Lounge
ATTACH;FMTTYPE=image/jpeg:https://keepcolchestercool.co.uk/wp-content/uploads/127910_image_615825458_897237852837417_4314965426803919414_n.jpg
ORGANIZER;CN="The Creative Workshop Company":MAILTO:noreply@facebookmail.com
END:VEVENT
BEGIN:VEVENT
DTSTART;TZID=Europe/London:20260326T190000
DTEND;TZID=Europe/London:20260326T213000
DTSTAMP:20260424T044230
CREATED:20260113T071045Z
LAST-MODIFIED:20260226T071218Z
UID:127797-1774551600-1774560600@keepcolchestercool.co.uk
SUMMARY:Wivenhoe Funny Farm 7.30pm start!
DESCRIPTION:Booking info at bottom of this post.  \nThursday 26th March 7.30pm to 9.30pm – back at Wivenhoe Bowls Club – doors 7pm (please use Woodland Way entrance) \nTop notch live stand-up comedy from Pam Ford“Pam Ford is a force of nature” The Scotsman“Bold\, brash\, and absolutely hilarious\, Pam Ford is a powerhouse of comedy” Jongleurs Comedy \nSupport: Joe Jacobs“The Stomzy of Stand-up” Chortle“Always funny” – Beyond the Joke \n& Tom Alban \nMC Hazel Humphreys​ \nPlease read!ALL BOOKINGS NEED TO BE CONFIRMED VIA HAZEL – email – FUNNYFARMCOMEDY@GMAIL.COM \nPLEASE PAY IN ADVANCE unless agreed with us. \nWe will be asking for donations to help pay acts for reservations. Recommended £8.50 donation per seat booked (£7 concessions) but whatever you can manage. \nThis is an indoor gig at Wivenhoe Bowls Club starting 7.30pm (doors 7pm)\, there is limited seating available. Please book tables.  \nWe will be requesting donations for table reservations in order to help us pay our professional acts. This would be preferable via BACs in advance.  \nThis is a cracking comedy line-up with pro comics and the Funny Farm needs the audience’s help in covering the costs.  \nI’ve been asked by the Bowls Club to ask people to not form large queues at the bar and if possible return empty glasses at the end of the night. Done x
URL:https://keepcolchestercool.co.uk/event/wivenhoe-funny-farm-7-30pm-start-2/
LOCATION:Wivenhoe Bowls Club\, Woodland Way\, Colchester\, CO79\, GB
ATTACH;FMTTYPE=image/jpeg:https://keepcolchestercool.co.uk/wp-content/uploads/127797_image_557319393_1321545839757288_4718027399580424105_n.jpg
ORGANIZER;CN="Wivenhoe Funny Farm":MAILTO:noreply@facebookmail_com
END:VEVENT
BEGIN:VEVENT
DTSTART;TZID=Europe/London:20260326T190000
DTEND;TZID=Europe/London:20260326T220000
DTSTAMP:20260424T044230
CREATED:20260225T071230Z
LAST-MODIFIED:20260226T071218Z
UID:129348-1774551600-1774562400@keepcolchestercool.co.uk
SUMMARY:Au Pairs *
DESCRIPTION:Tickets £26.50Doors open 7pm.This gig is for a standing audience. \nAGMP Concerts proudly presents AU PAIRS‘Playing With A Different Sex’ 45th Anniversary + very special guests:GINA BIRCH & THE UNREASONABLES \nFirst concert in over 40 years for legendary Post Punk group AU PAIRS. \nAu Pairs formed in late 1978 in Birmingham\, UK in the post-punk era. They were a much-loved band who combined fun\, dancey music with an innovative and\, for that time\, a daringly progressive message. In their original form they were 2 women and 2 men\, the objective being to show that women and men can work together as equals. Lesley Woods led the band as frontperson\, lead singer\, songwriter and guitarist. Lesley was once described as “”one of the most striking women in British rock”. Their first album ‘Playing With A Different Sex’ is a post-punk classic and focusses on gender and other politics. A critic from The Guardian praised it for its “viciously well-observed lyrics on contemporary life\, love and the role of women “. \nThe band is re-forming beginning 2026 when they commence a UK tour with Lesley Woods and new members. The 2 women/2 men balance remains . Au Pairs blend political lyrics with a tough funk-dance-rock idiom which is as relevant today as it ever was. \nSpecial guest support is Gina Birch and the Unreasonables. Gina Birch was a founding member of influential post-punk group The Raincoats. Her next project was Rough Trade Records signings Dorothy. Gina’s debut solo LP ‘I Play My Bass Loud’ was released in 2021 and her second release ‘Trouble’ is out now.
URL:https://keepcolchestercool.co.uk/event/au-pairs/
LOCATION:Church St\, CO1 1NF Colchester\, United Kingdom
ATTACH;FMTTYPE=image/jpeg:https://keepcolchestercool.co.uk/wp-content/uploads/129348_image_641459668_1332826405546192_5902984423117808201_n.jpg
ORGANIZER;CN="Colchester Arts Centre":MAILTO:noreply@facebookmail_com
END:VEVENT
BEGIN:VEVENT
DTSTART;TZID=Europe/London:20260326T190000
DTEND;TZID=Europe/London:20260326T223000
DTSTAMP:20260424T044230
CREATED:20260225T071230Z
LAST-MODIFIED:20260226T071218Z
UID:129350-1774551600-1774564200@keepcolchestercool.co.uk
SUMMARY:The Lexden Crown presents An Old Skool Pen and Paper Quiz with Big Jim
DESCRIPTION:The Lexden Crown presents an Old Skool Pen and Paper QuizIts Time to take it back to the Old Skool\, with a Pen and Paper style Quiz. \nBig Jims Old Skool Pub Quiz\, fun for all\, with 5 themed rounds of quiz fun\, including both Audio and Picture rounds and the return of the World famous Stealer round\, to steal the win on the last question\, as well. \n£2 per person\, max 6 people per team. \nSo grab a pen\, round up your friends or family and welcome back that old skool feeling of quizzing on a Thursday Night with Big Jim \nGreat food and drinks offers avaiable\, and it’s pizza night with there great wood fired pizzas\, as well as a great bistro pub with a warm atomsphere and lovely people\, and an average quizmaster.  \nCome and test your teams knowledge against Colchesters finest Quiz Teams\, enjoy some food\, beer and a great atmosphere\,whilst getting Quizzical with one of Colchester;s finest Quiz Hosts \nSee you there My Quizzy Quiz Loving Preps
URL:https://keepcolchestercool.co.uk/event/the-lexden-crown-presents-an-old-skool-pen-and-paper-quiz-with-big-jim-7/
LOCATION:The Lexden Crown\, Bistro Pub – Colchester\, The Lexden Crown\, Bistro Pub - Colchester
ATTACH;FMTTYPE=image/jpeg:https://keepcolchestercool.co.uk/wp-content/uploads/129350_image_632059501_1475676251226634_6977774635856040606_n.jpg
ORGANIZER;CN="Big Jims Pub Quiz":MAILTO:noreply@facebookmail_com
END:VEVENT
END:VCALENDAR