BEGIN:VCALENDAR
VERSION:2.0
PRODID:-//Keep Colchester Cool - ECPv6.15.20//NONSGML v1.0//EN
CALSCALE:GREGORIAN
METHOD:PUBLISH
X-WR-CALNAME:Keep Colchester Cool
X-ORIGINAL-URL:https://keepcolchestercool.co.uk
X-WR-CALDESC:Events for Keep Colchester Cool
REFRESH-INTERVAL;VALUE=DURATION:PT1H
X-Robots-Tag:noindex
X-PUBLISHED-TTL:PT1H
BEGIN:VTIMEZONE
TZID:Europe/London
BEGIN:DAYLIGHT
TZOFFSETFROM:+0000
TZOFFSETTO:+0100
TZNAME:BST
DTSTART:20250330T010000
END:DAYLIGHT
BEGIN:STANDARD
TZOFFSETFROM:+0100
TZOFFSETTO:+0000
TZNAME:GMT
DTSTART:20251026T010000
END:STANDARD
BEGIN:DAYLIGHT
TZOFFSETFROM:+0000
TZOFFSETTO:+0100
TZNAME:BST
DTSTART:20260329T010000
END:DAYLIGHT
BEGIN:STANDARD
TZOFFSETFROM:+0100
TZOFFSETTO:+0000
TZNAME:GMT
DTSTART:20261025T010000
END:STANDARD
BEGIN:DAYLIGHT
TZOFFSETFROM:+0000
TZOFFSETTO:+0100
TZNAME:BST
DTSTART:20270328T010000
END:DAYLIGHT
BEGIN:STANDARD
TZOFFSETFROM:+0100
TZOFFSETTO:+0000
TZNAME:GMT
DTSTART:20271031T010000
END:STANDARD
END:VTIMEZONE
BEGIN:VEVENT
DTSTART;TZID=Europe/London:20260421T193000
DTEND;TZID=Europe/London:20260425T193000
DTSTAMP:20260423T232012
CREATED:20251202T071107Z
LAST-MODIFIED:20260226T071226Z
UID:127406-1776799800-1777145400@keepcolchestercool.co.uk
SUMMARY:Sherlock Holmes & The Hunt for Moriarty
DESCRIPTION:Blackeyed Theatre in association with Theatre Royal Winchester and South Hill Park presents Sherlock Holmes: The Hunt for MoriartyAdapted by Nick Lane from the work of Sir Arthur Conan DoyleComposer – Tristan Parkes \n“When you have one of the first brains of Europe up against you\, and all the powers of darkness at his back\, there are infinite possibilities.” \nLondon\, 1901. As the British Empire wages war in the name of a Queen whose health is failing\, a series of mysterious events reveals a crack in the high corridors of power. A crack that threatens to destabilise monarchy\, government and Empire. And at its centre\, controlling the flow of information and influence\, a shadowy figure plans a final deadly move. \nDrawn into the game and unsure who to trust\, Sherlock Holmes and Dr. Watson find themselves confronting figures from their past in a desperate race against time\, aware that the most powerful person in the world could be in the pocket of one of the most corrupt. But just how much is Holmes willing to sacrifice as he faces ‘checkmate’? \nA thrilling adventure based on the work of Sir Arthur Conan Doyle\, Sherlock Holmes: The Hunt for Moriarty is a world premiere that combines powerful performances\, a haunting soundscape and innovative design for an exhilarating theatrical experience. \n“One of the most innovative\, audacious companies working in contemporary English theatre” – The Stage
URL:https://keepcolchestercool.co.uk/event/sherlock-holmes-the-hunt-for-moriarty/
LOCATION:Mercury Theatre Colchester\, Mercury Theatre Colchester
ATTACH;FMTTYPE=image/jpeg:https://keepcolchestercool.co.uk/wp-content/uploads/127406_image_586308687_1307866898038316_6236936934499931017_n.jpg
ORGANIZER;CN="Mercury Theatre Colchester":MAILTO:noreply@facebookmail_com
END:VEVENT
BEGIN:VEVENT
DTSTART;TZID=Europe/London:20260423T190000
DTEND;TZID=Europe/London:20260423T214500
DTSTAMP:20260423T232012
CREATED:20260225T071241Z
LAST-MODIFIED:20260226T071227Z
UID:129382-1776970800-1776980700@keepcolchestercool.co.uk
SUMMARY:Strong Enough - Colchester
DESCRIPTION:Strong EnoughGet ready for an unforgettable evening\, celebrating the global superstar and great female icon that is Cher. \nFeaturing all of the classic hits including Turn Back Time\, I Found Someone\, Believe\, Strong Enough\, Gypsies Tramps and thieves\, her modern Abba remixes and many more.  \nThis is one show-stopping dazzling extravaganza you do not want to miss! This show will take you on a musical journey from the Dark Lady days\, to the rocking 80’s perm days and the celebration disco hits. \n‘Strong enough’ features 25 smash hits\, six decades of stardom and enough costume changes to cause a sequins shortage…come along and experience the passion\, the flair and the glitter!!!
URL:https://keepcolchestercool.co.uk/event/strong-enough-colchester/
LOCATION:Colchester Charter Hall\, Colchester Charter Hall
ATTACH;FMTTYPE=image/jpeg:https://keepcolchestercool.co.uk/wp-content/uploads/129382_image_585480062_1628837588596251_911699527122182980_n.jpg
ORGANIZER;CN="Carlton Entertainment &amp%3B Event Management":MAILTO:noreply@facebookmail.com
END:VEVENT
BEGIN:VEVENT
DTSTART;TZID=Europe/London:20260423T201500
DTEND;TZID=Europe/London:20260423T231500
DTSTAMP:20260423T232012
CREATED:20260125T071028Z
LAST-MODIFIED:20260226T071227Z
UID:128073-1776975300-1776986100@keepcolchestercool.co.uk
SUMMARY:LATES: Queer Diary Open Mic Session
DESCRIPTION:Would YOU read your Teenage Diary to a live audience? \nQueer Diary is the night where queers share REAL teenage diaries\, plus long-lost love-letters\, fabulous fan-fiction\, terrible tumblr posts\, and the odd bit of cringey poetry. \nWe can’t promise to reunite you with your first crush\, but we do aim to reignite that rush of adrenaline you got when they first noticed you! \nQueer Diary is an ‘open mic’ style event. We’re always looking for new readers\, and appreciate support from individuals and local LGBTQIA+ groups who may be able to help us make contact with folks who’d like to share something from their teens on our stage. \nUp for sharing something from your youth? Our mic is open. Get in touch here: bit.ly/queerdiary. \nThis follows on from the Hasbian show in our Studio on Thu 23 Apr\, 7pm.
URL:https://keepcolchestercool.co.uk/event/lates-queer-diary-open-mic-session/
LOCATION:Mercury Theatre Colchester\, Mercury Theatre Colchester
ATTACH;FMTTYPE=image/jpeg:https://keepcolchestercool.co.uk/wp-content/uploads/128073_image_596724193_1318986860259653_6355740732350110704_n.jpg
ORGANIZER;CN="Mercury Theatre Colchester":MAILTO:noreply@facebookmail_com
END:VEVENT
END:VCALENDAR