BEGIN:VCALENDAR
VERSION:2.0
PRODID:-//Keep Colchester Cool - ECPv6.15.20//NONSGML v1.0//EN
CALSCALE:GREGORIAN
METHOD:PUBLISH
X-ORIGINAL-URL:https://keepcolchestercool.co.uk
X-WR-CALDESC:Events for Keep Colchester Cool
REFRESH-INTERVAL;VALUE=DURATION:PT1H
X-Robots-Tag:noindex
X-PUBLISHED-TTL:PT1H
BEGIN:VTIMEZONE
TZID:Europe/London
BEGIN:DAYLIGHT
TZOFFSETFROM:+0000
TZOFFSETTO:+0100
TZNAME:BST
DTSTART:20250330T010000
END:DAYLIGHT
BEGIN:STANDARD
TZOFFSETFROM:+0100
TZOFFSETTO:+0000
TZNAME:GMT
DTSTART:20251026T010000
END:STANDARD
BEGIN:DAYLIGHT
TZOFFSETFROM:+0000
TZOFFSETTO:+0100
TZNAME:BST
DTSTART:20260329T010000
END:DAYLIGHT
BEGIN:STANDARD
TZOFFSETFROM:+0100
TZOFFSETTO:+0000
TZNAME:GMT
DTSTART:20261025T010000
END:STANDARD
BEGIN:DAYLIGHT
TZOFFSETFROM:+0000
TZOFFSETTO:+0100
TZNAME:BST
DTSTART:20270328T010000
END:DAYLIGHT
BEGIN:STANDARD
TZOFFSETFROM:+0100
TZOFFSETTO:+0000
TZNAME:GMT
DTSTART:20271031T010000
END:STANDARD
END:VTIMEZONE
BEGIN:VEVENT
DTSTART;TZID=Europe/London:20260502T100000
DTEND;TZID=Europe/London:20260502T160000
DTSTAMP:20260424T011822
CREATED:20260225T071242Z
LAST-MODIFIED:20260226T071228Z
UID:129386-1777716000-1777737600@keepcolchestercool.co.uk
SUMMARY:Colchester Plant-Based Market
DESCRIPTION:We are thrilled to announce our plant-based market is coming to Colchester on Saturday 2nd May\, from 10am to 4pm! Explore a vibrant selection of artisan traders showcasing their unique creations\, including freshly made street food\, barista-crafted coffee\, handmade crafts and delicious snacks.If you’re interested in attending\, don’t forget to click ‘Going’ or ‘Interested’ on this event page and invite your friends and family to join you!Let’s make this event a resounding success for the amazing traders involved—help spread the word\, show your support\, and join us for a day filled with plant-based delights and community spirit! 😊
URL:https://keepcolchestercool.co.uk/event/colchester-plant-based-market-2/
LOCATION:Firstsite Colchester\, Firstsite Colchester
ATTACH;FMTTYPE=image/jpeg:https://keepcolchestercool.co.uk/wp-content/uploads/129386_image_600515860_122196127754553943_8085776988951265262_n.jpg
END:VEVENT
BEGIN:VEVENT
DTSTART;TZID=Europe/London:20260502T154500
DTEND;TZID=Europe/London:20260502T184500
DTSTAMP:20260424T011822
CREATED:20260204T071034Z
LAST-MODIFIED:20260226T071228Z
UID:128230-1777736700-1777747500@keepcolchestercool.co.uk
SUMMARY:MEFF-FEST 2026
DESCRIPTION:YOU READY COLCHESTER? Things are gonna get loud.  \nIn association with Black Cactus Studio\, Colchester Events and Charter Hall\, we’re bringing a massive line-up of punk\, rock and ska heavyweights to the stage.  \n🎟️ TICKETS– Early Bird Tickets: ❌ SOLD OUT (in 48 hours)– General Admission: ✅ ON SALE NOW– Under 18s: ✅ ON SALE NOW– Carers: ✅ ON SALE NOW (free admission) \nAges 14+. Please note that those aged 14–16 must be accompanied by an adult. \n🎵 THE LINE-UP– THE MEFFS– UK SUBS– STEVE IGNORANT BAND (performing CRASS)– THE SUBWAYS– RANDOM HAND \nOpening the festival will be the “wild card” winners of TWM under 18’s Battle Of The Bands. Eyes peeled to see who. \nGrab Tickets here-https://www.eventbrite.com/e/meff-fest-3-tickets-1397126064669?aff=oddtdtcreator
URL:https://keepcolchestercool.co.uk/event/meff-fest-2026/
LOCATION:Charter Hall\, Charter Hall
ATTACH;FMTTYPE=image/jpeg:https://keepcolchestercool.co.uk/wp-content/uploads/128230_image_608976384_1467743015353918_7213518562225866713_n.jpg
ORGANIZER;CN="The Meffs":MAILTO:noreply@facebookmail.com
END:VEVENT
BEGIN:VEVENT
DTSTART;TZID=Europe/London:20260502T170000
DTEND;TZID=Europe/London:20260502T203000
DTSTAMP:20260424T011822
CREATED:20260224T071225Z
LAST-MODIFIED:20260226T071228Z
UID:129164-1777741200-1777753800@keepcolchestercool.co.uk
SUMMARY:Beltane Women's Circle Celebration
DESCRIPTION:Beltane Women’s Circle Celebration \nJoin us for a heart-warming evening to honour Beltane\, the ancient Celtic festival celebrating the height of spring and the approach of summer. Together\, we will gather as women to embrace the spirit of connection\, growth\, and renewal in a nurturing and sacred space. \nWhat to Expect:	•	Opening Ceremony: We will begin by creating a sacred circle\, setting intentions\, and connecting to the vibrant energy of Beltane.	•	Guided Practices: Take part in meditative moments\, grounding rituals\, and activities to honour the turning of the seasons.	•	Shared Meal: Enjoy a lovingly prepared\, nourishing dinner\, along with snacks and herbal teas\, crafted to support your body and soul.	•	Sisterhood Connection: Reflect\, share\, and laugh together\, creating bonds and celebrating the power of women in community.	•	Closing Ritual: Release our intentions to the universe as we conclude our celebration under the magic of this sacred evening. \nDetails:📅 Date: Saturday\, 3rd May⏰ Time: 17:00 – 20:30📍 Location: The Tree Room\, Colchester 🏷️£55.00 per person 🍴 Includes dinner\, snacks\, and herbal tea \nThis circle is open to all women who wish to celebrate the turning of the wheel\, nurture their inner light\, and connect with like-minded souls. \nSpaces are limited\, so book early to secure your place! \nBooking Information: \nhttps://dharmabelle.co.uk/event/beltane-womens-circle/ \nCome as you are\, and leave nourished in body\, mind\, and spirit. Celebrate the abundance of life this Beltane with us.
URL:https://keepcolchestercool.co.uk/event/beltane-womens-circle-celebration-2/
LOCATION:The Tree Room\, The Tree Room
ATTACH;FMTTYPE=image/jpeg:https://keepcolchestercool.co.uk/wp-content/uploads/129164_image_508016056_1331480218980439_380523828306207669_n.jpg
ORGANIZER;CN="Dharmabelle":MAILTO:noreply@facebookmail_com
END:VEVENT
BEGIN:VEVENT
DTSTART;TZID=Europe/London:20260502T190000
DTEND;TZID=Europe/London:20260502T220000
DTSTAMP:20260424T011822
CREATED:20260210T071055Z
LAST-MODIFIED:20260226T071228Z
UID:128291-1777748400-1777759200@keepcolchestercool.co.uk
SUMMARY:COLCHESTER: Steve White
DESCRIPTION:AGMP Concerts presents \nSTEVE WHITE TRIO \nSteve White – Chris Hague – Joel White \nLegendary drum master Steve White of The Style Council\, Paul Weller\, Trio Valore and more announces tour dates with his new band launching his latest album ‘Soul Drums’ (Acid Jazz Records). \nSteve White came to fame as drummer with The Style Council appearing on the majority of the band’s recordings throughout the 1980’s and touring around the world including appearing at ‘Live Aid’ in 1985. \nWhen the Style Council broke up Steve White co-founded his own group with saxophonist Alan Barnes – The Jazz Renegades – who were one of the first bands from the ‘Acid Jazz’ movement. Steve went on to perform with Galliano\, The Young Disciples\, JTQ and more around that time. \nSteve White joined the Paul Weller Movement in 1991 and continued to record and perform with Paul Weller throughout the first few decades of his solo career. Steve White has recorded albums with Mick Talbot from the Style Council as Talbot/White and the Players group with Mick Talbot and Damon Minchella. 2008 saw Steve form the highly acclaimed Trio Valore with Damon Minchella and in 2015 Damon & Steve formed The Family Silver with ex-Mother Earth vocalist Matt Deighton. \nSteve White has also appeared live with Oasis\, The Who\, Ocean Colour Scene\, Jon Lord\, Ginger Baker\, La Roux\, Ian Dury and many more.
URL:https://keepcolchestercool.co.uk/event/colchester-steve-white/
LOCATION:Colchester Arts Centre\, Colchester Arts Centre
ATTACH;FMTTYPE=image/jpeg:https://keepcolchestercool.co.uk/wp-content/uploads/128291_image_625313562_1289736579868164_1026487630125684770_n.jpg
ORGANIZER;CN="AGMP Concerts":MAILTO:noreply@facebookmail_com
END:VEVENT
BEGIN:VEVENT
DTSTART;TZID=Europe/London:20260502T193000
DTEND;TZID=Europe/London:20260502T223000
DTSTAMP:20260424T011822
CREATED:20251008T071109Z
LAST-MODIFIED:20260226T071228Z
UID:126492-1777750200-1777761000@keepcolchestercool.co.uk
SUMMARY:Atom Heart Floyd (Pink Floyd Tribute)
DESCRIPTION:Join us for an extraordinary evening as Atom Heart Floyd pays tribute to one of the most iconic bands in history\, Pink Floyd. This tour continues to celebrate the timeless classic The Dark Side of the Moon\, arguably one of the most successful albums of all time. Attendees can look forward to a nod to Pink Floyd’s legendary performance at Wembley in 1974\, a show many regard as one of their finest\, and a revisit of their memorable concert at Earls Court in 1994.During the show\, the band will perform a selection of beloved tracks\, including “Wish You Were Here\,” “Another Brick in the Wall Pt II\,” “Shine On You Crazy Diamond\,” and “Comfortably Numb.” With fully programmed lighting and stunning visuals\, the performance will transport the audience into an authentic Pink Floyd experience.Don’t miss your chance to experience the magic of Pink Floyd with Atom Heart FloydDoors open at 7:30 PM\, Tickets £15 + booking feePlease note that access to the top floor of Three Wise Monkeys does not have a lift\, but there are rest opportunities between each flight of stairs.Viewer discretion is advised: This show may potentially contain flashing and strobing lighting effects.We wanted to inform you of our refund policy regarding event tickets. Please note that we will be unable to process any ticket refunds within 7 days of the event.We understand that circumstances may arise that prevent you from attending the event\, but unfortunately\, we are unable to accommodate refund requests within this timeframe.
URL:https://keepcolchestercool.co.uk/event/atom-heart-floyd-pink-floyd-tribute-2/
LOCATION:60 High Street\, CO1 1DN Colchester\, United Kingdom\, 60 High Street\, CO1 1DN Colchester\, United Kingdom
ATTACH;FMTTYPE=image/jpeg:https://keepcolchestercool.co.uk/wp-content/uploads/126492_image_555553602_1206299404866740_5567983940425460369_n.jpg
ORGANIZER;CN="Three Wise Monkeys Colchester":MAILTO:noreply@facebookmail_com
END:VEVENT
BEGIN:VEVENT
DTSTART;TZID=Europe/London:20260502T200000
DTEND;TZID=Europe/London:20260502T230000
DTSTAMP:20260424T011822
CREATED:20260225T071243Z
LAST-MODIFIED:20260226T071228Z
UID:129389-1777752000-1777762800@keepcolchestercool.co.uk
SUMMARY:NOW! That's What I Call...DRAG! BINGO! Colchester!
DESCRIPTION:Shantay this way\, Colchester\, because “NOW! That’s What I Call…DRAG!” is coming to Three Wise Monkeys with DRAG BINGO this MAY! For the first time\, they will be bringing you the latest edition of their fabulous DRAG BINGO show\, expect a FABULOUS evening of games\, drag performances\, and camp chaos with a classic bingo twist! \nHosted by East Anglia’s dynamite drag duo\, Knuckle Sandwich & Will Power\, and with some ridiculous prizes up for grabs\, you’ll be in for a camp night of big laughs\, bigger hair and balls aplenty as we roll through our very own DRAG BINGO! So put on those heels\, get those party frocks ready and let’s get ready for the drag mixtape to begin! Trust us\, you won’t want it to end! \nThis is a seated event! The event space is UPSTAIRS in the restaurant space! \nDoors at 8pm! Bingo from 8.45pm(ish)! \nGeneral Admission tickets – £12 each* \nOn The Door tickets – £14 each \n(Booking fees apply) \nPlease note – we unfortunately do not offer refunds! Any questions\, please just ask! Thank you!
URL:https://keepcolchestercool.co.uk/event/now-thats-what-i-call-drag-bingo-colchester/
LOCATION:Three Wise Monkeys Colchester
ATTACH;FMTTYPE=image/jpeg:https://keepcolchestercool.co.uk/wp-content/uploads/129389_image_633037077_941262435102124_7930565185713959216_n.jpg
ORGANIZER;CN="Knuckle Sandwich":MAILTO:noreply@facebookmail_com
END:VEVENT
END:VCALENDAR