BEGIN:VCALENDAR
VERSION:2.0
PRODID:-//Keep Colchester Cool - ECPv6.15.20//NONSGML v1.0//EN
CALSCALE:GREGORIAN
METHOD:PUBLISH
X-WR-CALNAME:Keep Colchester Cool
X-ORIGINAL-URL:https://keepcolchestercool.co.uk
X-WR-CALDESC:Events for Keep Colchester Cool
REFRESH-INTERVAL;VALUE=DURATION:PT1H
X-Robots-Tag:noindex
X-PUBLISHED-TTL:PT1H
BEGIN:VTIMEZONE
TZID:Europe/London
BEGIN:DAYLIGHT
TZOFFSETFROM:+0000
TZOFFSETTO:+0100
TZNAME:BST
DTSTART:20250330T010000
END:DAYLIGHT
BEGIN:STANDARD
TZOFFSETFROM:+0100
TZOFFSETTO:+0000
TZNAME:GMT
DTSTART:20251026T010000
END:STANDARD
BEGIN:DAYLIGHT
TZOFFSETFROM:+0000
TZOFFSETTO:+0100
TZNAME:BST
DTSTART:20260329T010000
END:DAYLIGHT
BEGIN:STANDARD
TZOFFSETFROM:+0100
TZOFFSETTO:+0000
TZNAME:GMT
DTSTART:20261025T010000
END:STANDARD
BEGIN:DAYLIGHT
TZOFFSETFROM:+0000
TZOFFSETTO:+0100
TZNAME:BST
DTSTART:20270328T010000
END:DAYLIGHT
BEGIN:STANDARD
TZOFFSETFROM:+0100
TZOFFSETTO:+0000
TZNAME:GMT
DTSTART:20271031T010000
END:STANDARD
END:VTIMEZONE
BEGIN:VEVENT
DTSTART;TZID=Europe/London:20260509T193000
DTEND;TZID=Europe/London:20260523T193000
DTSTAMP:20260424T044007
CREATED:20260128T071033Z
LAST-MODIFIED:20260226T071230Z
UID:128165-1778355000-1779564600@keepcolchestercool.co.uk
SUMMARY:Thespians
DESCRIPTION:THESPIANS – ANCIENT GREECE THE MUSICAL \nMISCHIEF\, the team behind the multi award-winning The Play That Goes Wrong\, rewrite ancient history with a brand-new musical comedy\, THESPIANS\, the first musical created by ‘the funniest theatre troupe in Britain’ (The Telegraph). \n534 BC. Greece’s smallest island is battling to avoid defeat in a nationwide prayer competition set up by a thin-skinned tyrant – where the loser is put to death. All is going dreadfully until Thespis accidentally invents acting\, leading to the world’s first play and the origins of theatre as we know it! \nStep into the amphitheatre\, leave your troubles in the foyer\, and escape into Ancient Greece as it bursts into song\, with a thrilling plot\, a love story worthy of Aphrodite\, and enough laughter to fill the Acropolis. THESPIANS is an uplifting\, hilarious\, and timely reminder of the power of empathy and stepping into someone else’s sandals. \nWritten by Jonathan Sayer (co-writer of The Play That Goes Wrong\, Peter Pan Goes Wrong and The Comedy About A Bank Robbery) and Ed Zanders (musical director Mischief Movie Night)\, do not miss this ancient prescription for modern day laughter packed with comedy\, chaos and choreography that will have every mortal in your household aching with laughter. \nLimited tour from May 2026 for only 12 weeks opening at Mercury Theatre\, Colchester. If you thought something funny happened on the way to the forum\, wait until you hear what happened enroute to the amphitheatre! \nAvoid tragedy\, get comedy tickets today!
URL:https://keepcolchestercool.co.uk/event/thespians/
LOCATION:Mercury Theatre Colchester\, Mercury Theatre Colchester
ATTACH;FMTTYPE=image/jpeg:https://keepcolchestercool.co.uk/wp-content/uploads/128165_image_577027163_1289370406554632_2264418215194198696_n.jpg
ORGANIZER;CN="Mercury Theatre Colchester":MAILTO:noreply@facebookmail_com
END:VEVENT
BEGIN:VEVENT
DTSTART;TZID=Europe/London:20260512T193000
DTEND;TZID=Europe/London:20260512T223000
DTSTAMP:20260424T044007
CREATED:20260224T071229Z
LAST-MODIFIED:20260226T071230Z
UID:129179-1778614200-1778625000@keepcolchestercool.co.uk
SUMMARY:Glenn Tilbrook // Colchester Arts
DESCRIPTION:Glenn Tilbrook – The Voice of Squeeze + special guest Leon TilbrookGlenn Tilbrook – The Voice of SqueezeGlenn Tilbrook has more than earned his place at pop’s top table as one of our most cherished singers\, guitarists and songwriters\, not to mention an in-demand and endlessly endearing live performer. More than 40 years after first answering an ad placed by Chris Difford looking for like-minded souls to form the band that became the much-loved evergreen Squeeze\, an ending remains nowhere in sight. \nSuch is the continuing work ethic of a musician who has never been far from the action since Squeeze made their recording bow with the Packet of Three EP in 1977. Those humble three tracks led to a catalogue of enduring pop classics—Take Me I’m Yours\, Cool for Cats\, Up the Junction\, Another Nail in My Heart\, Tempted\, Labelled With Love\, Black Coffee in Bed\, Hourglass (this could indeed go on for a while…)—as well as landmark albums including Argybargy\, East Side Story\, Some Fantastic Place and Cradle to the Grave. \nFollowing Squeeze’s demise in 1998 (a state of affairs that proved happily temporary)\, Glenn embarked on a parallel solo career that produced The Incomplete Glenn Tilbrook (2001) and Transatlantic Ping-Pong (2004)\, albums that showcased an ever-maturing melodic and lyrical voice. In 2009 came the fizzing energy of Pandemonium Ensues\, recorded with his touring band The Fluffers\, while Happy Ending emerged as his most personal solo statement to date—an evocative set of songs about time\, people and places\, featuring contributions from his sons Leon and Wesley alongside long-time collaborators Simon Hanson and Dennis Greaves. \nOver the past decade\, Glenn’s creative momentum has only intensified. Alongside continued global touring with Squeeze\, and recent work on two new Squeeze albums\, he has firmly established himself as a tireless and much-loved solo performer\, undertaking extensive headline tours across the UK and the United States. These shows—often built around his celebrated Songbook format—have seen Tilbrook playing theatres\, clubs and festivals on both sides of the Atlantic\, reimagining Squeeze classics\, showcasing solo material and fielding spontaneous audience requests with trademark warmth and virtuosity. \nThe 2020s in particular have found Glenn criss-crossing America on multiple solo runs\, winning over new audiences while deepening his connection with long-time fans\, before returning to the UK for equally well-received tours that underline his status as a consummate live artist in his own right. Whether performing alone with an acoustic guitar or fronting a full band\, his solo appearances have become a vital and ongoing strand of his musical life\, existing in perfect counterpoint to Squeeze’s continued success as a major live draw. \nAnyone who has witnessed Glenn on stage can attest to the sheer rightness of his doings. Armed with ready wit\, raucous energy and a seemingly inexhaustible supply of grin-inducing great songs\, there are few musicians able to connect with an audience so immediately and warmly. Whether fronting Squeeze\, headlining festivals\, or fielding impromptu requests that might veer from Jimi Hendrix to Tony Orlando & Dawn\, Glenn Tilbrook remains—by any measure—one of British pop’s most vital and life-affirming performers.
URL:https://keepcolchestercool.co.uk/event/glenn-tilbrook-colchester-arts/
LOCATION:Colchester Arts Centre\, Colchester Arts Centre
ATTACH;FMTTYPE=image/jpeg:https://keepcolchestercool.co.uk/wp-content/uploads/129179_image_615955046_1407672411146300_5158381060910520612_n.jpg
ORGANIZER;CN="The Gig Cartel":MAILTO:noreply@facebookmail.com
END:VEVENT
BEGIN:VEVENT
DTSTART;TZID=Europe/London:20260512T193000
DTEND;TZID=Europe/London:20260512T220000
DTSTAMP:20260424T044007
CREATED:20251008T071109Z
LAST-MODIFIED:20260226T071230Z
UID:126494-1778614200-1778623200@keepcolchestercool.co.uk
SUMMARY:"My Passion for Photography" Talk by Will Cheung
DESCRIPTION:In this engaging talk\, Will shares his personal approach to photography\, focusing on his passion for shooting projects that resonate with him\, emphasising creativity over competition and the joy of capturing moments for personal satisfaction rather thanexternal validation. The talk will feature a diverse range of images\, including compelling street scenes\, breathtaking nature photography\, and serene scenic compositions. With insights drawn from his extensive career\, including his role as editor of leading photography magazines and his Fellowship with the Royal Photographic Society\, Will offers a fresh perspective on how to approach photography with passion and purpose. (Visitors £5.00) [williamcheung.co.uk]\nImage: Will Cheung – Pleasure of Piers\, Brighton
URL:https://keepcolchestercool.co.uk/event/my-passion-for-photography-talk-by-will-cheung/
LOCATION:Ireton Road\, CO3 3AT Colchester\, United Kingdom\, Ireton Road\, CO3 3AT Colchester\, United Kingdom
ATTACH;FMTTYPE=image/jpeg:https://keepcolchestercool.co.uk/wp-content/uploads/126494_image_537707547_1348356713958719_4762234041562709154_n.jpg
ORGANIZER;CN="Colchester Photographic Society":MAILTO:noreply@facebookmail_com
END:VEVENT
END:VCALENDAR