BEGIN:VCALENDAR
VERSION:2.0
PRODID:-//Keep Colchester Cool - ECPv6.15.20//NONSGML v1.0//EN
CALSCALE:GREGORIAN
METHOD:PUBLISH
X-WR-CALNAME:Keep Colchester Cool
X-ORIGINAL-URL:https://keepcolchestercool.co.uk
X-WR-CALDESC:Events for Keep Colchester Cool
REFRESH-INTERVAL;VALUE=DURATION:PT1H
X-Robots-Tag:noindex
X-PUBLISHED-TTL:PT1H
BEGIN:VTIMEZONE
TZID:Europe/London
BEGIN:DAYLIGHT
TZOFFSETFROM:+0000
TZOFFSETTO:+0100
TZNAME:BST
DTSTART:20250330T010000
END:DAYLIGHT
BEGIN:STANDARD
TZOFFSETFROM:+0100
TZOFFSETTO:+0000
TZNAME:GMT
DTSTART:20251026T010000
END:STANDARD
BEGIN:DAYLIGHT
TZOFFSETFROM:+0000
TZOFFSETTO:+0100
TZNAME:BST
DTSTART:20260329T010000
END:DAYLIGHT
BEGIN:STANDARD
TZOFFSETFROM:+0100
TZOFFSETTO:+0000
TZNAME:GMT
DTSTART:20261025T010000
END:STANDARD
BEGIN:DAYLIGHT
TZOFFSETFROM:+0000
TZOFFSETTO:+0100
TZNAME:BST
DTSTART:20270328T010000
END:DAYLIGHT
BEGIN:STANDARD
TZOFFSETFROM:+0100
TZOFFSETTO:+0000
TZNAME:GMT
DTSTART:20271031T010000
END:STANDARD
END:VTIMEZONE
BEGIN:VEVENT
DTSTART;TZID=Europe/London:20260509T193000
DTEND;TZID=Europe/London:20260523T193000
DTSTAMP:20260424T044035
CREATED:20260128T071033Z
LAST-MODIFIED:20260226T071230Z
UID:128165-1778355000-1779564600@keepcolchestercool.co.uk
SUMMARY:Thespians
DESCRIPTION:THESPIANS – ANCIENT GREECE THE MUSICAL \nMISCHIEF\, the team behind the multi award-winning The Play That Goes Wrong\, rewrite ancient history with a brand-new musical comedy\, THESPIANS\, the first musical created by ‘the funniest theatre troupe in Britain’ (The Telegraph). \n534 BC. Greece’s smallest island is battling to avoid defeat in a nationwide prayer competition set up by a thin-skinned tyrant – where the loser is put to death. All is going dreadfully until Thespis accidentally invents acting\, leading to the world’s first play and the origins of theatre as we know it! \nStep into the amphitheatre\, leave your troubles in the foyer\, and escape into Ancient Greece as it bursts into song\, with a thrilling plot\, a love story worthy of Aphrodite\, and enough laughter to fill the Acropolis. THESPIANS is an uplifting\, hilarious\, and timely reminder of the power of empathy and stepping into someone else’s sandals. \nWritten by Jonathan Sayer (co-writer of The Play That Goes Wrong\, Peter Pan Goes Wrong and The Comedy About A Bank Robbery) and Ed Zanders (musical director Mischief Movie Night)\, do not miss this ancient prescription for modern day laughter packed with comedy\, chaos and choreography that will have every mortal in your household aching with laughter. \nLimited tour from May 2026 for only 12 weeks opening at Mercury Theatre\, Colchester. If you thought something funny happened on the way to the forum\, wait until you hear what happened enroute to the amphitheatre! \nAvoid tragedy\, get comedy tickets today!
URL:https://keepcolchestercool.co.uk/event/thespians/
LOCATION:Mercury Theatre Colchester\, Mercury Theatre Colchester
ATTACH;FMTTYPE=image/jpeg:https://keepcolchestercool.co.uk/wp-content/uploads/128165_image_577027163_1289370406554632_2264418215194198696_n.jpg
ORGANIZER;CN="Mercury Theatre Colchester":MAILTO:noreply@facebookmail_com
END:VEVENT
BEGIN:VEVENT
DTSTART;TZID=Europe/London:20260515T193000
DTEND;TZID=Europe/London:20260515T223000
DTSTAMP:20260424T044035
CREATED:20260224T071230Z
LAST-MODIFIED:20260226T071231Z
UID:129183-1778873400-1778884200@keepcolchestercool.co.uk
SUMMARY:The Busted Experience (Busted Tribute)
DESCRIPTION:TWM Live presents The Busted Experience\, a high-energy tribute band dedicated to capturing the sound\, style\, and spirit of BUSTED\, live at Three Wise Monkeys\, Colchester.Date: Friday 15th MayVenue: Three Wise Monkeys\, ColchesterTickets: £12Doors: 7:30pmAges: 18+ \nPlease note that access to the top floor of Three Wise Monkeys does not have a lift\, but there are rest opportunities between each flight of stairs.Viewer discretion is advised: This show may potentially contain flashing and strobing lighting effects.We wanted to inform you of our refund policy regarding event tickets. Please note that we will be unable to process any ticket refunds within 7 days of the event.We understand that circumstances may arise that prevent you from attending the event\, but unfortunately\, we are unable to accommodate refund requests within this timeframe.
URL:https://keepcolchestercool.co.uk/event/the-busted-experience-busted-tribute/
LOCATION:60 High Street\, CO1 1DN Colchester\, United Kingdom\, 60 High Street\, CO1 1DN Colchester\, United Kingdom
ATTACH;FMTTYPE=image/jpeg:https://keepcolchestercool.co.uk/wp-content/uploads/129183_image_598652132_1275089007987779_2793586410746192288_n.jpg
ORGANIZER;CN="Three Wise Monkeys Colchester":MAILTO:noreply@facebookmail_com
END:VEVENT
END:VCALENDAR