BEGIN:VCALENDAR
VERSION:2.0
PRODID:-//Keep Colchester Cool - ECPv6.15.20//NONSGML v1.0//EN
CALSCALE:GREGORIAN
METHOD:PUBLISH
X-ORIGINAL-URL:https://keepcolchestercool.co.uk
X-WR-CALDESC:Events for Keep Colchester Cool
REFRESH-INTERVAL;VALUE=DURATION:PT1H
X-Robots-Tag:noindex
X-PUBLISHED-TTL:PT1H
BEGIN:VTIMEZONE
TZID:Europe/London
BEGIN:DAYLIGHT
TZOFFSETFROM:+0000
TZOFFSETTO:+0100
TZNAME:BST
DTSTART:20250330T010000
END:DAYLIGHT
BEGIN:STANDARD
TZOFFSETFROM:+0100
TZOFFSETTO:+0000
TZNAME:GMT
DTSTART:20251026T010000
END:STANDARD
BEGIN:DAYLIGHT
TZOFFSETFROM:+0000
TZOFFSETTO:+0100
TZNAME:BST
DTSTART:20260329T010000
END:DAYLIGHT
BEGIN:STANDARD
TZOFFSETFROM:+0100
TZOFFSETTO:+0000
TZNAME:GMT
DTSTART:20261025T010000
END:STANDARD
BEGIN:DAYLIGHT
TZOFFSETFROM:+0000
TZOFFSETTO:+0100
TZNAME:BST
DTSTART:20270328T010000
END:DAYLIGHT
BEGIN:STANDARD
TZOFFSETFROM:+0100
TZOFFSETTO:+0000
TZNAME:GMT
DTSTART:20271031T010000
END:STANDARD
END:VTIMEZONE
BEGIN:VEVENT
DTSTART;TZID=Europe/London:20260509T193000
DTEND;TZID=Europe/London:20260523T193000
DTSTAMP:20260424T044211
CREATED:20260128T071033Z
LAST-MODIFIED:20260226T071230Z
UID:128165-1778355000-1779564600@keepcolchestercool.co.uk
SUMMARY:Thespians
DESCRIPTION:THESPIANS – ANCIENT GREECE THE MUSICAL \nMISCHIEF\, the team behind the multi award-winning The Play That Goes Wrong\, rewrite ancient history with a brand-new musical comedy\, THESPIANS\, the first musical created by ‘the funniest theatre troupe in Britain’ (The Telegraph). \n534 BC. Greece’s smallest island is battling to avoid defeat in a nationwide prayer competition set up by a thin-skinned tyrant – where the loser is put to death. All is going dreadfully until Thespis accidentally invents acting\, leading to the world’s first play and the origins of theatre as we know it! \nStep into the amphitheatre\, leave your troubles in the foyer\, and escape into Ancient Greece as it bursts into song\, with a thrilling plot\, a love story worthy of Aphrodite\, and enough laughter to fill the Acropolis. THESPIANS is an uplifting\, hilarious\, and timely reminder of the power of empathy and stepping into someone else’s sandals. \nWritten by Jonathan Sayer (co-writer of The Play That Goes Wrong\, Peter Pan Goes Wrong and The Comedy About A Bank Robbery) and Ed Zanders (musical director Mischief Movie Night)\, do not miss this ancient prescription for modern day laughter packed with comedy\, chaos and choreography that will have every mortal in your household aching with laughter. \nLimited tour from May 2026 for only 12 weeks opening at Mercury Theatre\, Colchester. If you thought something funny happened on the way to the forum\, wait until you hear what happened enroute to the amphitheatre! \nAvoid tragedy\, get comedy tickets today!
URL:https://keepcolchestercool.co.uk/event/thespians/
LOCATION:Mercury Theatre Colchester\, Mercury Theatre Colchester
ATTACH;FMTTYPE=image/jpeg:https://keepcolchestercool.co.uk/wp-content/uploads/128165_image_577027163_1289370406554632_2264418215194198696_n.jpg
ORGANIZER;CN="Mercury Theatre Colchester":MAILTO:noreply@facebookmail_com
END:VEVENT
BEGIN:VEVENT
DTSTART;TZID=Europe/London:20260516T100000
DTEND;TZID=Europe/London:20260516T170000
DTSTAMP:20260424T044211
CREATED:20260127T071123Z
LAST-MODIFIED:20260226T071231Z
UID:128117-1778925600-1778950800@keepcolchestercool.co.uk
SUMMARY:Street Food Festival
DESCRIPTION:🎉 STREET FOOD FESTIVAL 🎉Big flavours. Local vibes. Epic atmosphere. \nOne day. One place. A proper street food party.Come hungry\, stay all day\, soak up the sounds\, smells and buzz. \n📅 Saturday 16th May⏰ 10am – 5pm📍 Old Heath Recreation Ground\, CO1 2ER \n🌮🔥 Expect:🍔 Top street food traders & food trucks🎧 Live DJ & festival beats🍻 Bar pouring all day🎈 Kids entertainment & family fun🛍 Handpicked market stalls \n🎟 FREE ENTRY🐶 Family & dog friendly \n📧 Get involved: therecmarket@outlook.com
URL:https://keepcolchestercool.co.uk/event/street-food-festival/
LOCATION:Colchester old heath Recreation Ground\, Colchester old heath Recreation Ground
ATTACH;FMTTYPE=image/jpeg:https://keepcolchestercool.co.uk/wp-content/uploads/128117_image_615836238_122168625128771081_6722365061042461515_n.jpg
END:VEVENT
BEGIN:VEVENT
DTSTART;TZID=Europe/London:20260516T193000
DTEND;TZID=Europe/London:20260516T223000
DTSTAMP:20260424T044211
CREATED:20260224T071231Z
LAST-MODIFIED:20260226T071231Z
UID:129185-1778959800-1778970600@keepcolchestercool.co.uk
SUMMARY:Troy Hawke Live in Colchester
DESCRIPTION:Following last year’s sellout world tour\, Troy Hawke is back to his globe sweeping in 2026 with new show ‘Never Stop\, Never Change!’Sat\, 16 May 2026\, 19:30 | Charter Hall\, Colchester \nTICKETS>>> at box-office: https://cnear.me/rrudoWX \nAngry security guards\, barked compliments and crossed wires abound as Troy navigates various conversational minefields\, both online and in real life. \n*𝘐𝘧 𝘺𝘰𝘶 𝘮𝘢𝘬𝘦 𝘢 𝘱𝘶𝘳𝘤𝘩𝘢𝘴𝘦 𝘢𝘧𝘵𝘦𝘳 𝘤𝘭𝘪𝘤𝘬𝘪𝘯𝘨 𝘢 𝘭𝘪𝘯𝘬\, 𝘸𝘦 𝘮𝘢𝘺 𝘦𝘢𝘳𝘯 𝘢𝘯 𝘢𝘧𝘧𝘪𝘭𝘪𝘢𝘵𝘦 𝘤𝘰𝘮𝘮𝘪𝘴𝘴𝘪𝘰𝘯.
URL:https://keepcolchestercool.co.uk/event/troy-hawke-live-in-colchester/
LOCATION:Colchester Charter Hall\, Colchester Charter Hall
ATTACH;FMTTYPE=image/jpeg:https://keepcolchestercool.co.uk/wp-content/uploads/129185_image_530640604_1177983881029587_2468380763473593160_n.jpg
ORGANIZER;CN="London Events Guide":MAILTO:noreply@facebookmail.com
END:VEVENT
BEGIN:VEVENT
DTSTART;TZID=Europe/London:20260516T193000
DTEND;TZID=Europe/London:20260516T223000
DTSTAMP:20260424T044211
CREATED:20260224T071231Z
LAST-MODIFIED:20260226T071231Z
UID:129187-1778959800-1778970600@keepcolchestercool.co.uk
SUMMARY:Stereophonies (The UK’s First Official Stereophonics Tribute Band)
DESCRIPTION:Back by popular demand! TWM Live presents Stereophonies – The UK’s first\, original and best Stereophonics tribute act – at Three Wise Monkeys Colchester on Saturday 16th May.Playing tribute to the mighty welsh rockers who were the 8th group to achieve 5 consecutive UK number 1 albums in a list that includes the Beatles\, Led Zeppelin\, ABBA\, Genesis\, Oasis\, Blur and U2. The Stereophonics enjoyed 11 top 10 singles including the number 1 single ‘Dakota’. Their hits collection\, ‘Decade In The Sun’\, sold 1.2 million copies in the UK.Tickets are on sale now\, advance booking advised as this show sold out last time!Advance tickets £15 +booking feeDoors 7:30pmPlease note that access to the top floor of Three Wise Monkeys does not have a lift\, but there are rest opportunities between each flight of stairs.Viewer discretion is advised: This show may potentially contain flashing and strobing lighting effects.We wanted to inform you of our refund policy regarding event tickets. Please note that we will be unable to process any ticket refunds within 7 days of the event.We understand that circumstances may arise that prevent you from attending the event\, but unfortunately\, we are unable to accommodate refund requests within this timeframe.
URL:https://keepcolchestercool.co.uk/event/stereophonies-the-uks-first-official-stereophonics-tribute-band/
LOCATION:60 High Street\, CO1 1DN Colchester\, United Kingdom\, 60 High Street\, CO1 1DN Colchester\, United Kingdom
ATTACH;FMTTYPE=image/jpeg:https://keepcolchestercool.co.uk/wp-content/uploads/129187_image_623286486_1308428067987206_2344820400187940805_n.jpg
ORGANIZER;CN="Three Wise Monkeys Colchester":MAILTO:noreply@facebookmail_com
END:VEVENT
BEGIN:VEVENT
DTSTART;TZID=Europe/London:20260516T193000
DTEND;TZID=Europe/London:20260516T223000
DTSTAMP:20260424T044211
CREATED:20251008T071109Z
LAST-MODIFIED:20260226T071231Z
UID:126495-1778959800-1778970600@keepcolchestercool.co.uk
SUMMARY:Troy Hawke: Never Stop\, Never Change!
DESCRIPTION:Sale Dates and Times: \nPublic Onsale : Fri\, 1 Aug 2025 at 10:00 AM \nPriority from O2 : Wed\, 30 Jul 2025 at 10:00 AM \nLive Nation Presale : Thu\, 31 Jul 2025 at 10:00 AM \nTicketmaster Presale : Thu\, 31 Jul 2025 at 10:00 AM
URL:https://keepcolchestercool.co.uk/event/troy-hawke-never-stop-never-change/
LOCATION:Colchester Charter Hall\, Colchester Charter Hall
ATTACH;FMTTYPE=image/jpeg:https://keepcolchestercool.co.uk/wp-content/uploads/126495_image_577373434_1280908920744329_6536005423296571753_n.jpg
ORGANIZER;CN="Ticketmaster Events":MAILTO:noreply@facebookmail_com
END:VEVENT
BEGIN:VEVENT
DTSTART;TZID=Europe/London:20260516T213000
DTEND;TZID=Europe/London:20260516T234500
DTSTAMP:20260424T044211
CREATED:20260224T071231Z
LAST-MODIFIED:20260226T071231Z
UID:129189-1778967000-1778975100@keepcolchestercool.co.uk
SUMMARY:Terminal party at Coda
DESCRIPTION:The Iron Boot Scrapers rip it up with our inimitable covers of well know songs that will get you dancing and singing along!Free entry
URL:https://keepcolchestercool.co.uk/event/terminal-party-at-coda-2/
LOCATION:Coda Colchester\, Coda Colchester
ATTACH;FMTTYPE=image/jpeg:https://keepcolchestercool.co.uk/wp-content/uploads/129189_image_602912786_1438225814972058_7695536429256305611_n.jpg
ORGANIZER;CN="The Iron Boot Scrapers":MAILTO:noreply@facebookmail_com
END:VEVENT
END:VCALENDAR