BEGIN:VCALENDAR
VERSION:2.0
PRODID:-//Keep Colchester Cool - ECPv6.15.20//NONSGML v1.0//EN
CALSCALE:GREGORIAN
METHOD:PUBLISH
X-WR-CALNAME:Keep Colchester Cool
X-ORIGINAL-URL:https://keepcolchestercool.co.uk
X-WR-CALDESC:Events for Keep Colchester Cool
REFRESH-INTERVAL;VALUE=DURATION:PT1H
X-Robots-Tag:noindex
X-PUBLISHED-TTL:PT1H
BEGIN:VTIMEZONE
TZID:Europe/London
BEGIN:DAYLIGHT
TZOFFSETFROM:+0000
TZOFFSETTO:+0100
TZNAME:BST
DTSTART:20250330T010000
END:DAYLIGHT
BEGIN:STANDARD
TZOFFSETFROM:+0100
TZOFFSETTO:+0000
TZNAME:GMT
DTSTART:20251026T010000
END:STANDARD
BEGIN:DAYLIGHT
TZOFFSETFROM:+0000
TZOFFSETTO:+0100
TZNAME:BST
DTSTART:20260329T010000
END:DAYLIGHT
BEGIN:STANDARD
TZOFFSETFROM:+0100
TZOFFSETTO:+0000
TZNAME:GMT
DTSTART:20261025T010000
END:STANDARD
BEGIN:DAYLIGHT
TZOFFSETFROM:+0000
TZOFFSETTO:+0100
TZNAME:BST
DTSTART:20270328T010000
END:DAYLIGHT
BEGIN:STANDARD
TZOFFSETFROM:+0100
TZOFFSETTO:+0000
TZNAME:GMT
DTSTART:20271031T010000
END:STANDARD
END:VTIMEZONE
BEGIN:VEVENT
DTSTART;TZID=Europe/London:20260530T100000
DTEND;TZID=Europe/London:20260530T160000
DTSTAMP:20260424T043923
CREATED:20240925T071111Z
LAST-MODIFIED:20260226T071232Z
UID:118507-1780135200-1780156800@keepcolchestercool.co.uk
SUMMARY:Colchester Brick Festival
DESCRIPTION:The first-ever Colchester Brick Festival is happening in May 2026 and tickets are available now! \nThe Brick Festival celebrates all things LEGO! With amazing creations to see\, activities and competitions to take part in and traders selling rare\, retired and new sets\, loose bricks and minifigures\, it’s a fun day out for fans of all ages! \nBook now to guarantee your preferred time slot. \n📆: 30th May 2026📍: Colchester Charter Hall🎟: www.ColchesterBrickFestival.com
URL:https://keepcolchestercool.co.uk/event/colchester-brick-festival/
LOCATION:Colchester Charter Hall\, Colchester Charter Hall
ATTACH;FMTTYPE=image/jpeg:https://keepcolchestercool.co.uk/wp-content/uploads/118507_image_623301414_122195017886534970_5786078893720529230_n.jpg
ORGANIZER;CN="Colchester Brick Festival":MAILTO:noreply@facebookmail.com
END:VEVENT
BEGIN:VEVENT
DTSTART;TZID=Europe/London:20260530T150000
DTEND;TZID=Europe/London:20260530T200000
DTSTAMP:20260424T043923
CREATED:20260113T071050Z
LAST-MODIFIED:20260226T071232Z
UID:127809-1780153200-1780171200@keepcolchestercool.co.uk
SUMMARY:90s Day Party: Colchester 💿
DESCRIPTION:Get Ready to Throw It Back to the 90s! 🎉 \nJoin us for an unforgettable day filled with the biggest hits of the 1990s\, featuring chart-topping tracks from your favorite artists of the decade. Whether you’re a 90s music lover or just here for the nostalgia\, this party is all about good vibes and even better tunes! 🎊💃✨ \nWhat to Expect: \n🎶 Nonstop 90s Anthems: Sing your heart out to the iconic hits that defined the decade—from pop bangers to rnb classics and everything in between. \n🕺 Dance Floor Throwbacks: Show off your best moves and relive the energy of the ultimate 90s party scene. \n📸 90s-Inspired Photo Ops: Capture the moment with fun backdrops and throwback props that scream early 1990s. \n🌟 Feel-Good Vibes All Day Long: Celebrate the music\, the energy\, and the nostalgia with great people and timeless tunes. \nLet’s make it a day to remember—90s style! 💿🎤🎉
URL:https://keepcolchestercool.co.uk/event/90s-day-party-colchester-%f0%9f%92%bf/
LOCATION:Trilogy Colchester\, Trilogy Colchester
ATTACH;FMTTYPE=image/jpeg:https://keepcolchestercool.co.uk/wp-content/uploads/127809_image_611157852_122202098084546827_7627490140413145933_n.jpg
END:VEVENT
END:VCALENDAR