BEGIN:VCALENDAR
VERSION:2.0
PRODID:-//Keep Colchester Cool - ECPv6.15.20//NONSGML v1.0//EN
CALSCALE:GREGORIAN
METHOD:PUBLISH
X-ORIGINAL-URL:https://keepcolchestercool.co.uk
X-WR-CALDESC:Events for Keep Colchester Cool
REFRESH-INTERVAL;VALUE=DURATION:PT1H
X-Robots-Tag:noindex
X-PUBLISHED-TTL:PT1H
BEGIN:VTIMEZONE
TZID:Europe/London
BEGIN:DAYLIGHT
TZOFFSETFROM:+0000
TZOFFSETTO:+0100
TZNAME:BST
DTSTART:20250330T010000
END:DAYLIGHT
BEGIN:STANDARD
TZOFFSETFROM:+0100
TZOFFSETTO:+0000
TZNAME:GMT
DTSTART:20251026T010000
END:STANDARD
BEGIN:DAYLIGHT
TZOFFSETFROM:+0000
TZOFFSETTO:+0100
TZNAME:BST
DTSTART:20260329T010000
END:DAYLIGHT
BEGIN:STANDARD
TZOFFSETFROM:+0100
TZOFFSETTO:+0000
TZNAME:GMT
DTSTART:20261025T010000
END:STANDARD
BEGIN:DAYLIGHT
TZOFFSETFROM:+0000
TZOFFSETTO:+0100
TZNAME:BST
DTSTART:20270328T010000
END:DAYLIGHT
BEGIN:STANDARD
TZOFFSETFROM:+0100
TZOFFSETTO:+0000
TZNAME:GMT
DTSTART:20271031T010000
END:STANDARD
END:VTIMEZONE
BEGIN:VEVENT
DTSTART;TZID=Europe/London:20260603T193000
DTEND;TZID=Europe/London:20260613T193000
DTSTAMP:20260424T065635
CREATED:20260128T071035Z
LAST-MODIFIED:20260226T071232Z
UID:128167-1780515000-1781379000@keepcolchestercool.co.uk
SUMMARY:Caroline – A New Musical
DESCRIPTION:Presented by the East Anglian Touring Consortium. \n“A radio station for young people! Why do we need that? We both enjoy Housewives choice\, don’t we Caroline?” \n1964\, Clacton-on-Sea. \nCaroline and her best friend Mary spend their days stacking shelves and return home to their mothers listening to Housewives Choice on the BBC. Every night they escape to the pier to eat chips\, laugh and talk about music with Caroline’s charismatic boyfriend Robbie. \nBut a music revolution is coming\, and Robbie lands a shock gig with Radio Caroline – the pirate radio station blasting pop\, soul and rock ’n’ roll into every home in Britain. Overnight\, Caroline is hurled into a whirlwind of music\, mischief\, and a cultural rebellion that will rewrite history. \nShe’s not a DJ. She’s not a rock star. But in the middle of Britain’s radio revolution\, Caroline might just steal the show. \nPowered by the sound of the 60s\, Caroline is a bold\, funny\, and heart-filled new musical about love\, ambition\, and finding the courage to turn up the volume on your own voice.
URL:https://keepcolchestercool.co.uk/event/caroline-a-new-musical/
LOCATION:Mercury Theatre Colchester\, Mercury Theatre Colchester
ATTACH;FMTTYPE=image/jpeg:https://keepcolchestercool.co.uk/wp-content/uploads/128167_image_576383183_1290229736468699_3079210250268447672_n.jpg
ORGANIZER;CN="Mercury Theatre Colchester":MAILTO:noreply@facebookmail_com
END:VEVENT
BEGIN:VEVENT
DTSTART;TZID=Europe/London:20260606T100000
DTEND;TZID=Europe/London:20260607T180000
DTSTAMP:20260424T065635
CREATED:20250827T071030Z
LAST-MODIFIED:20260226T071232Z
UID:125973-1780740000-1780855200@keepcolchestercool.co.uk
SUMMARY:Roman and Medieval Festival 2026
DESCRIPTION:When: June 6th & 7th 2026 \nWhere: Lower Castle Park\, St Peters Street entrance (Ryegate) Colchester\, C01 1HL. \nTickets: Adults £10.00\, under 16s FREE \nFREE parking: \n𝗸𝗶𝗻𝗴𝘀 𝗠𝗲𝗮𝗱𝗼𝘄\, 𝗘𝗻𝗱 𝗼𝗳 𝗖𝗮𝘁𝗰𝗵𝗽𝗼𝗼𝗹 𝗿𝗼𝗮𝗱\, 𝗖𝗢𝟭 𝟭𝗫𝗡 \nWalk along Pavilion View and cross at the Lower Castle Park footbridge (5 minutes walk to the festival) \n𝟱 𝗺𝗶𝗻𝘂𝘁𝗲𝘀 𝘄𝗮𝗹𝗸 from the festival. \nThe route will be sign posted and staff on hand to help with directions. \n𝗗𝗶𝘀𝗮𝗯𝗹𝗲𝗱 𝗽𝗮𝗿𝗸𝗶𝗻𝗴 is available at the leisure center. \nA huge fun packed and educational event in Colchester’s Castle Park. \nRe-enactors from the Viking\, Roman and Medieval periods showing fighting skills\, cookery and living history camps. \nA grand Market with all kinds of treasures for you to browse. \nOne of Britain’s largest and most exciting longbow competitions. \nAle bars\, hog roast\, excellent food outlets. Join in the archery and axe throwing. \nStory tellers\, puppeteers\, traders\, musicians\, hawkers\, wonderful sights and sounds \nFree dressing up and activities for children. \nFree parking. \nDogs welcome
URL:https://keepcolchestercool.co.uk/event/roman-and-medieval-festival-2026/
LOCATION:Lower Castle Park\, CO1 1XS Colchester\, United Kingdom\, Lower Castle Park\, CO1 1XS Colchester\, United Kingdom
ATTACH;FMTTYPE=image/jpeg:https://keepcolchestercool.co.uk/wp-content/uploads/125973_image_538606515_1349103447215629_443664190455096550_n.jpg
ORGANIZER;CN="The Colchester Food and Drink Festival":MAILTO:noreply@facebookmail_com
END:VEVENT
END:VCALENDAR