BEGIN:VCALENDAR
VERSION:2.0
PRODID:-//Keep Colchester Cool - ECPv6.15.20//NONSGML v1.0//EN
CALSCALE:GREGORIAN
METHOD:PUBLISH
X-ORIGINAL-URL:https://keepcolchestercool.co.uk
X-WR-CALDESC:Events for Keep Colchester Cool
REFRESH-INTERVAL;VALUE=DURATION:PT1H
X-Robots-Tag:noindex
X-PUBLISHED-TTL:PT1H
BEGIN:VTIMEZONE
TZID:Europe/London
BEGIN:DAYLIGHT
TZOFFSETFROM:+0000
TZOFFSETTO:+0100
TZNAME:BST
DTSTART:20250330T010000
END:DAYLIGHT
BEGIN:STANDARD
TZOFFSETFROM:+0100
TZOFFSETTO:+0000
TZNAME:GMT
DTSTART:20251026T010000
END:STANDARD
BEGIN:DAYLIGHT
TZOFFSETFROM:+0000
TZOFFSETTO:+0100
TZNAME:BST
DTSTART:20260329T010000
END:DAYLIGHT
BEGIN:STANDARD
TZOFFSETFROM:+0100
TZOFFSETTO:+0000
TZNAME:GMT
DTSTART:20261025T010000
END:STANDARD
BEGIN:DAYLIGHT
TZOFFSETFROM:+0000
TZOFFSETTO:+0100
TZNAME:BST
DTSTART:20270328T010000
END:DAYLIGHT
BEGIN:STANDARD
TZOFFSETFROM:+0100
TZOFFSETTO:+0000
TZNAME:GMT
DTSTART:20271031T010000
END:STANDARD
END:VTIMEZONE
BEGIN:VEVENT
DTSTART;TZID=Europe/London:20260705T100000
DTEND;TZID=Europe/London:20260705T160000
DTSTAMP:20260424T062357
CREATED:20260224T071236Z
LAST-MODIFIED:20260226T071233Z
UID:129204-1783245600-1783267200@keepcolchestercool.co.uk
SUMMARY:The Rec Community Market - Summer in Full Swing
DESCRIPTION:The Rec Community Market returns on Sunday 5th July 2026! \nJoin us for another vibrant summer Sunday at the Rec Community Market\, bringing together local traders\, great food and a lively community atmosphere at The Recreation Ground. \nBrowse a brilliant selection of independent stalls\, including street food\, fresh produce\, handmade crafts\, gifts\, art and locally made goods. It’s the perfect way to spend a summer Sunday — whether you’re meeting friends\, grabbing lunch or supporting local businesses. \nAs always\, the market is free to attend\, family-friendly and open to everyone\, celebrating the best of our local community. \n📅 Date: Sunday 5th July 2026📍 Location: The Recreation Ground🎟 Entry: Free👨‍👩‍👧 Family-friendly | Dog-friendly | Supporting local \nWe look forward to welcoming you back for another great day at the Rec.
URL:https://keepcolchestercool.co.uk/event/the-rec-community-market-summer-in-full-swing/
LOCATION:Colchester old heath Recreation Ground\, Colchester old heath Recreation Ground
ATTACH;FMTTYPE=image/jpeg:https://keepcolchestercool.co.uk/wp-content/uploads/129204_image_621833632_122169683774771081_5338457804761137412_n.jpg
END:VEVENT
END:VCALENDAR