BEGIN:VCALENDAR
VERSION:2.0
PRODID:-//Keep Colchester Cool - ECPv6.15.20//NONSGML v1.0//EN
CALSCALE:GREGORIAN
METHOD:PUBLISH
X-ORIGINAL-URL:https://keepcolchestercool.co.uk
X-WR-CALDESC:Events for Keep Colchester Cool
REFRESH-INTERVAL;VALUE=DURATION:PT1H
X-Robots-Tag:noindex
X-PUBLISHED-TTL:PT1H
BEGIN:VTIMEZONE
TZID:Europe/London
BEGIN:DAYLIGHT
TZOFFSETFROM:+0000
TZOFFSETTO:+0100
TZNAME:BST
DTSTART:20250330T010000
END:DAYLIGHT
BEGIN:STANDARD
TZOFFSETFROM:+0100
TZOFFSETTO:+0000
TZNAME:GMT
DTSTART:20251026T010000
END:STANDARD
BEGIN:DAYLIGHT
TZOFFSETFROM:+0000
TZOFFSETTO:+0100
TZNAME:BST
DTSTART:20260329T010000
END:DAYLIGHT
BEGIN:STANDARD
TZOFFSETFROM:+0100
TZOFFSETTO:+0000
TZNAME:GMT
DTSTART:20261025T010000
END:STANDARD
BEGIN:DAYLIGHT
TZOFFSETFROM:+0000
TZOFFSETTO:+0100
TZNAME:BST
DTSTART:20270328T010000
END:DAYLIGHT
BEGIN:STANDARD
TZOFFSETFROM:+0100
TZOFFSETTO:+0000
TZNAME:GMT
DTSTART:20271031T010000
END:STANDARD
END:VTIMEZONE
BEGIN:VEVENT
DTSTART;TZID=Europe/London:20260709T190000
DTEND;TZID=Europe/London:20260709T220000
DTSTAMP:20260424T091903
CREATED:20260224T071236Z
LAST-MODIFIED:20260226T071233Z
UID:129206-1783623600-1783634400@keepcolchestercool.co.uk
SUMMARY:Author Talk: Bobby Palmer\, author of Isaac and the Egg talking about his new book MAIN CHARACTERS
DESCRIPTION:Thursday 9th July 2026\, 6pm in person event at Red Lion Books (finished by 7-7.30pm) \nMeet the Main Characters: Bobby Palmer\, author of Isaac and the Egg talks about his new book ‘Main Characters’ with author Kate Sawyer \nClara and Seb are about to fall in love.They don’t know it yet.But everybody else does. \nWhen Clara and Seb meet in a quiet corner of London\, it’s the start of something. She wants to be a Director. He’s an actor\, unsure what he wants from life. Their connection is magnetic. Everyone can see that falling in love looks something like this. But when Clara casts Seb in the film that will make her name\, what should be the happiest time of their lives ends with a gut-wrenching betrayal. \nSome love stories are bigger than just two people. This one is told through the eyes of friends\, flatmates\, exes and strangers who see all the sides of Seb and Clara\, from their first date to the moment they fell apart. Everyone has their version of events. But only Clara and Seb can decide how their story ends…This is a love story\, told by everyone but the main characters. \n‘Unique\, tender and funny’ Pandora Sykes \nBobby Palmer is both an author and journalist. His critically acclaimed debut novel\, Isaac and the Egg\, was a Waterstones Paperback of the Year in 2022; his second novel Small Hours was published in 2024. Bobby co- hosts the podcast Book Chat with Pandora Sykes and his writing has appeared in GQ\, Esquire\, Men’s Health\, Cosmopolitan amongst others. \nKate Sawyeris the author of three novels: Getting Away\, Waterstones Fiction Book of The Month\, This Family\, and her debut novel\, The Stranding\, which was shortlisted for the Costa First Novel Award\, won the East Anglian fiction prize\, was adapted for BBC Radio 4 Book at Bedtime
URL:https://keepcolchestercool.co.uk/event/author-talk-bobby-palmer-author-of-isaac-and-the-egg-talking-about-his-new-book-main-characters/
LOCATION:125 High Street\, CO1 1SZ Colchester\, United Kingdom\, 125 High Street\, CO1 1SZ Colchester\, United Kingdom
ATTACH;FMTTYPE=image/jpeg:https://keepcolchestercool.co.uk/wp-content/uploads/129206_image_637425853_1380214007471666_8860212958864932556_n.jpg
ORGANIZER;CN="Red Lion Books":MAILTO:noreply@facebookmail_com
END:VEVENT
END:VCALENDAR