BEGIN:VCALENDAR
VERSION:2.0
PRODID:-//Keep Colchester Cool - ECPv6.15.20//NONSGML v1.0//EN
CALSCALE:GREGORIAN
METHOD:PUBLISH
X-WR-CALNAME:Keep Colchester Cool
X-ORIGINAL-URL:https://keepcolchestercool.co.uk
X-WR-CALDESC:Events for Keep Colchester Cool
REFRESH-INTERVAL;VALUE=DURATION:PT1H
X-Robots-Tag:noindex
X-PUBLISHED-TTL:PT1H
BEGIN:VTIMEZONE
TZID:Europe/London
BEGIN:DAYLIGHT
TZOFFSETFROM:+0000
TZOFFSETTO:+0100
TZNAME:BST
DTSTART:20250330T010000
END:DAYLIGHT
BEGIN:STANDARD
TZOFFSETFROM:+0100
TZOFFSETTO:+0000
TZNAME:GMT
DTSTART:20251026T010000
END:STANDARD
BEGIN:DAYLIGHT
TZOFFSETFROM:+0000
TZOFFSETTO:+0100
TZNAME:BST
DTSTART:20260329T010000
END:DAYLIGHT
BEGIN:STANDARD
TZOFFSETFROM:+0100
TZOFFSETTO:+0000
TZNAME:GMT
DTSTART:20261025T010000
END:STANDARD
BEGIN:DAYLIGHT
TZOFFSETFROM:+0000
TZOFFSETTO:+0100
TZNAME:BST
DTSTART:20270328T010000
END:DAYLIGHT
BEGIN:STANDARD
TZOFFSETFROM:+0100
TZOFFSETTO:+0000
TZNAME:GMT
DTSTART:20271031T010000
END:STANDARD
END:VTIMEZONE
BEGIN:VEVENT
DTSTART;TZID=Europe/London:20260710T140000
DTEND;TZID=Europe/London:20260712T220000
DTSTAMP:20260424T092255
CREATED:20260224T071237Z
LAST-MODIFIED:20260226T071233Z
UID:129208-1783692000-1783893600@keepcolchestercool.co.uk
SUMMARY:Filthy Keg 2026
DESCRIPTION:Our annual homage to all things keg and can!!  \nFull details to be released over the next few months.
URL:https://keepcolchestercool.co.uk/event/filthy-keg-2026/
LOCATION:10 North Station Rd\, Colchester
ATTACH;FMTTYPE=image/jpeg:https://keepcolchestercool.co.uk/wp-content/uploads/129208_image_633891557_1529358952529799_3859970547412217064_n.jpg
ORGANIZER;CN="Victoria Inn Colchester":MAILTO:noreply@facebookmail_com
END:VEVENT
BEGIN:VEVENT
DTSTART;TZID=Europe/London:20260710T173000
DTEND;TZID=Europe/London:20260710T223000
DTSTAMP:20260424T092255
CREATED:20260224T071237Z
LAST-MODIFIED:20260226T071234Z
UID:129210-1783704600-1783722600@keepcolchestercool.co.uk
SUMMARY:The Ibiza Orchestra Experience: The Final Encore - Colchester 2026
DESCRIPTION:🚨TICKETS AVAILABLE NOW🚨 \nThe Ibiza Orchestra Experience: The Final Encore \nThis incredible 26 piece orchestra will be performing some of the greatest hits from the famous white isle\, for the very last time! \nExpect an unforgettable night featuring:🎶26 Piece Orchestra 🎤 HUGE line up of Special Guests to be announced!🎧 Silent Disco💥Glitter Artists\, Lasers\, Pyrotechnics\, and Fire Breathers🕺 BRAND NEW for 2026:90’s Dance Tent! \n50% OFF TICKETS&Buy one day – Get 2 Days FREE Weekend Ticket!(Sausage and Cider Festival & Summer In Nashville) \nGRAB TICKETS NOW!🔗 – www.ibizaorchestraexperience.co.uk/colchester📅- Friday 10th July📍- Lower Castle Park18+ \nOne last night. One final show. Don’t miss it.
URL:https://keepcolchestercool.co.uk/event/the-ibiza-orchestra-experience-the-final-encore-colchester-2026/
LOCATION:Lower castle Park\, Colchester\, United Kingdom\, Lower castle Park\, Colchester\, United Kingdom
ATTACH;FMTTYPE=image/jpeg:https://keepcolchestercool.co.uk/wp-content/uploads/129210_image_604680880_1384653680371437_4508494352656634586_n.jpg
ORGANIZER;CN="Ibiza Orchestra Experience - Colchester":MAILTO:noreply@facebookmail.com
END:VEVENT
BEGIN:VEVENT
DTSTART;TZID=Europe/London:20260710T193000
DTEND;TZID=Europe/London:20260710T223000
DTSTAMP:20260424T092255
CREATED:20260224T071238Z
LAST-MODIFIED:20260226T071234Z
UID:129213-1783711800-1783722600@keepcolchestercool.co.uk
SUMMARY:Shalamar: The Gold Tour - A Fifty Year Celebration
DESCRIPTION:Sale Dates and Times: \nPublic Onsale : Fri\, 30 Jan 2026 at 10:00 AM \nPriority from O2 : Wed\, 28 Jan 2026 at 10:00 AM \nArtist Presale : Thu\, 29 Jan 2026 at 10:00 AM \nTicketmaster Presale : Thu\, 29 Jan 2026 at 10:00 AM
URL:https://keepcolchestercool.co.uk/event/shalamar-the-gold-tour-a-fifty-year-celebration/
LOCATION:Colchester Charter Hall\, Colchester Charter Hall
ATTACH;FMTTYPE=image/jpeg:https://keepcolchestercool.co.uk/wp-content/uploads/129213_image_623233936_1353192836849270_6402141023670260969_n.jpg
ORGANIZER;CN="Ticketmaster Events":MAILTO:noreply@facebookmail_com
END:VEVENT
END:VCALENDAR