BEGIN:VCALENDAR
VERSION:2.0
PRODID:-//Keep Colchester Cool - ECPv6.15.20//NONSGML v1.0//EN
CALSCALE:GREGORIAN
METHOD:PUBLISH
X-WR-CALNAME:Keep Colchester Cool
X-ORIGINAL-URL:https://keepcolchestercool.co.uk
X-WR-CALDESC:Events for Keep Colchester Cool
REFRESH-INTERVAL;VALUE=DURATION:PT1H
X-Robots-Tag:noindex
X-PUBLISHED-TTL:PT1H
BEGIN:VTIMEZONE
TZID:Europe/London
BEGIN:DAYLIGHT
TZOFFSETFROM:+0000
TZOFFSETTO:+0100
TZNAME:BST
DTSTART:20250330T010000
END:DAYLIGHT
BEGIN:STANDARD
TZOFFSETFROM:+0100
TZOFFSETTO:+0000
TZNAME:GMT
DTSTART:20251026T010000
END:STANDARD
BEGIN:DAYLIGHT
TZOFFSETFROM:+0000
TZOFFSETTO:+0100
TZNAME:BST
DTSTART:20260329T010000
END:DAYLIGHT
BEGIN:STANDARD
TZOFFSETFROM:+0100
TZOFFSETTO:+0000
TZNAME:GMT
DTSTART:20261025T010000
END:STANDARD
BEGIN:DAYLIGHT
TZOFFSETFROM:+0000
TZOFFSETTO:+0100
TZNAME:BST
DTSTART:20270328T010000
END:DAYLIGHT
BEGIN:STANDARD
TZOFFSETFROM:+0100
TZOFFSETTO:+0000
TZNAME:GMT
DTSTART:20271031T010000
END:STANDARD
END:VTIMEZONE
BEGIN:VEVENT
DTSTART;TZID=Europe/London:20261114T183000
DTEND;TZID=Europe/London:20261114T230000
DTSTAMP:20260424T170641
CREATED:20251008T071112Z
LAST-MODIFIED:20260226T071238Z
UID:126501-1794681000-1794697200@keepcolchestercool.co.uk
SUMMARY:Dacia Album Launch Party
DESCRIPTION:Tickets £10 in advance\, £12 on the door.Doors open 6.30pm. First band on 6.45pm.This gig is for a standing audience. \nAll tickets cover admission and a free copy of the Dismanibus Dacia album to be collected on the door. \nDismanibus\, local melodic death band and titans of the Essex metal scene\, are launching their magnum opus concept album ‘Dacia’ at the Colchester Arts Centre\, in what promises to be a night of truly epic aural brutality. “Dismanibus\, for those who have never seen them live\, are simply one of the most enjoyable bands you will see in the Essex area.” – Jack Fryer\, Metal Recusants. \nThe album follows the life story of a Dacian aristocrat\, later to be remembered as an infamous traitor\, Bikilis. From assisting his life-long friend and mentor\, Decebal\, in claiming the throne\, following the unexpected death of their king Duras\, we see them consolidate power among the Dacian tribes\, outmaneuver the Roman emperor Domitian\, to pressure Rome into signing a treaty on terms extremely favourable to the ascendant Dacian kingdom and begin to build Dacian fortifications across the lands north of the Danube. The story follows their early victories and subsequent changes in fortune with the rise of a new Roman emperor and seasoned general\, Trajan\, as he sets his sights on Dacian conquest. It closes on Bikilis’ descent into despair\, disillusionment\, betrayal and sorrow\, as the Dacian people find themselves on the receiving end of one of the only documented Roman wars of extermination… a harrowing reminder of what the civilised world is capable of in its quest for control of wealth and coveted natural resources. \nSupport will be provided by four of the best local metal acts in the scene today… \nOlympus – Melodic death metal forged in Essex fire. Old-school roots\, modern aggression. They tear through the boundaries like blast beats through bone! \nBy Virtue Fall – Progressive metalcore brimming with soaring melodies and brutal breakdowns for thinking headbangers! \nKillerkorp – Military-grade extreme metal: Slipknot meets Gojira with a dystopian message in every artillery-hit ri􏰀! \nDraugrheim – Nordic melodic metal: from mead-soaked feasting hall tunes to blood-drenched and vicious neck-snappers\, Draugrheim come to claim victory on the stages of all lands!
URL:https://keepcolchestercool.co.uk/event/dacia-album-launch-party/
LOCATION:Colchester Arts Centre\, Colchester Arts Centre
ATTACH;FMTTYPE=image/jpeg:https://keepcolchestercool.co.uk/wp-content/uploads/126501_image_557608367_1384752696986369_475403795031376853_n.jpg
ORGANIZER;CN="Dismanibus":MAILTO:noreply@facebookmail.com
END:VEVENT
END:VCALENDAR