BEGIN:VCALENDAR
VERSION:2.0
PRODID:-//Keep Colchester Cool - ECPv6.15.20//NONSGML v1.0//EN
CALSCALE:GREGORIAN
METHOD:PUBLISH
X-WR-CALNAME:Keep Colchester Cool
X-ORIGINAL-URL:https://keepcolchestercool.co.uk
X-WR-CALDESC:Events for Keep Colchester Cool
REFRESH-INTERVAL;VALUE=DURATION:PT1H
X-Robots-Tag:noindex
X-PUBLISHED-TTL:PT1H
BEGIN:VTIMEZONE
TZID:Europe/London
BEGIN:DAYLIGHT
TZOFFSETFROM:+0000
TZOFFSETTO:+0100
TZNAME:BST
DTSTART:20240331T010000
END:DAYLIGHT
BEGIN:STANDARD
TZOFFSETFROM:+0100
TZOFFSETTO:+0000
TZNAME:GMT
DTSTART:20241027T010000
END:STANDARD
BEGIN:DAYLIGHT
TZOFFSETFROM:+0000
TZOFFSETTO:+0100
TZNAME:BST
DTSTART:20250330T010000
END:DAYLIGHT
BEGIN:STANDARD
TZOFFSETFROM:+0100
TZOFFSETTO:+0000
TZNAME:GMT
DTSTART:20251026T010000
END:STANDARD
BEGIN:DAYLIGHT
TZOFFSETFROM:+0000
TZOFFSETTO:+0100
TZNAME:BST
DTSTART:20260329T010000
END:DAYLIGHT
BEGIN:STANDARD
TZOFFSETFROM:+0100
TZOFFSETTO:+0000
TZNAME:GMT
DTSTART:20261025T010000
END:STANDARD
END:VTIMEZONE
BEGIN:VEVENT
DTSTART;TZID=Europe/London:20250425T203000
DTEND;TZID=Europe/London:20250426T013000
DTSTAMP:20260425T120852
CREATED:20250409T071024Z
LAST-MODIFIED:20250426T071112Z
UID:123412-1745613000-1745631000@keepcolchestercool.co.uk
SUMMARY:Creatures of the Night
DESCRIPTION:Colchester’s No. 1 GOTH ROCK METAL night with DJs K-Sera & Gentleman Jim spinning the hardest and moodiest tracks 7.30-12.30.Dance the night away!!🎧 🪩 🕸️
URL:https://keepcolchestercool.co.uk/event/creatures-of-the-night-3/
LOCATION:Queen St Brewhouse\, 7 - 9 Queen Street\, Colchester\, CO1 2PG\, GB
ORGANIZER;CN="Queen St Brewhouse":MAILTO:noreply@facebookmail_com
END:VEVENT
BEGIN:VEVENT
DTSTART;TZID=Europe/London:20250425T200000
DTEND;TZID=Europe/London:20250425T230000
DTSTAMP:20260425T120852
CREATED:20250409T071024Z
LAST-MODIFIED:20250425T071011Z
UID:123411-1745611200-1745622000@keepcolchestercool.co.uk
SUMMARY:Last Friday Pub Crawl (April 2025)
DESCRIPTION:8pm – Centurion9pm – Two Brews10pm – Other Monkey Brewery Tap Room \nOur regular ‘last Friday’ pub crawls around Colchester. \nThe route is as follows with approximate times so you can ‘hop on’ or ‘hop off’ during the evening. If a pub isn’t serving real ale on the night\, you can always find us in the next pub on the list.
URL:https://keepcolchestercool.co.uk/event/last-friday-pub-crawl-april-2025/
LOCATION:The Centurion Colchester\, The Centurion Colchester
ORGANIZER;CN="Colchester and North East Essex CAMRA":MAILTO:noreply@facebookmail_com
END:VEVENT
BEGIN:VEVENT
DTSTART;TZID=Europe/London:20250425T193000
DTEND;TZID=Europe/London:20250425T223000
DTSTAMP:20260425T120852
CREATED:20250409T071024Z
LAST-MODIFIED:20250425T071011Z
UID:123410-1745609400-1745620200@keepcolchestercool.co.uk
SUMMARY:SAMANTICS & NICK PARKER
DESCRIPTION:Samantics and Nick Parker are politely joining forces once again for a string of intimate double headline shows.
URL:https://keepcolchestercool.co.uk/event/samantics-nick-parker/
LOCATION:60 High Street\, CO1 1DN Colchester\, United Kingdom\, 60 High Street\, CO1 1DN Colchester\, United Kingdom
ORGANIZER;CN="Three Wise Monkeys Colchester":MAILTO:noreply@facebookmail_com
END:VEVENT
BEGIN:VEVENT
DTSTART;TZID=Europe/London:20250425T193000
DTEND;TZID=Europe/London:20250425T213000
DTSTAMP:20260425T120852
CREATED:20250321T071036Z
LAST-MODIFIED:20250425T071011Z
UID:122959-1745609400-1745616600@keepcolchestercool.co.uk
SUMMARY:Boozy Brushes – Paint in Pairs
DESCRIPTION:Join Sirena Hart at Firstsite for Boozy Brushes a multi-art\, Drag entertainment painting class extravaganza where you can paint in pairs! \nJoin us in the café/bar area for a lively\, fun and creative evening. \nUnlike Boozy Brushes\, where the subject is a different celebrity every month\, now the subject is your favourite person! \nSo who’s your muse? \nTicket price includes all materials and one drink from the bar. This event is for ages 18+. \nFor more info & tickets: https://firstsite.uk/event/boozy-brushes-paint-in-pairs/ or call us on 01206 713 700.
URL:https://keepcolchestercool.co.uk/event/boozy-brushes-paint-in-pairs/
LOCATION:Lewis Gardens\, CO1 1JH Colchester\, United Kingdom
ORGANIZER;CN="Firstsite Colchester":MAILTO:noreply@facebookmail_com
END:VEVENT
BEGIN:VEVENT
DTSTART;TZID=Europe/London:20250425T193000
DTEND;TZID=Europe/London:20250425T210000
DTSTAMP:20260425T120852
CREATED:20250409T071024Z
LAST-MODIFIED:20250425T071010Z
UID:123408-1745609400-1745614800@keepcolchestercool.co.uk
SUMMARY:Sound Bath Meditation
DESCRIPTION:Come and join our Sound Bath meditations\, vibrational relaxation\, curated sonic journies to soothe the soul… \nMinimal effort required\, for maximum results. Simply recline\, bathing in the deeply therapeutic and delightful sacred sound vibrations that will help promote healing\, happiness and vitality.We may ease out with a gentle stretch & focus on the breath\, before lying down\, wrapped up warmly in blankets.  \nYou will listen to the ethereal tones of our crystal bowls\, handmade Tibetan Singing Bowls – including 7 Chakra bowls – unique titanium gongs\, Chinese Wind Gong\, vocal toning\, shamanic drum\, tingshas\, koshi bells and more….. \nThe different frequencies activate different aspects of our subtle body and the Sympathetic Nervous System – the Relaxation\, Rest & Repair Response – and open up a plethora of positive physical\, mental\, emotional & energetic health benefits. This includes lowering blood pressure\, helping to self regulate\, relax muscles and reduces tension\, pains reduces as endorphins increase\, improved circulation… etc \nNB – 16th May will be hosted just by Naomi  \nhttps://www.facebook.com/events/1105189268010839/?event_time_id=1160488905814208
URL:https://keepcolchestercool.co.uk/event/sound-bath-meditation/
LOCATION:Myland Parish Halls\, Myland Parish Halls
ORGANIZER;CN="In her element YogaBabe":MAILTO:noreply@facebookmail.com
END:VEVENT
BEGIN:VEVENT
DTSTART;TZID=Europe/London:20250425T190000
DTEND;TZID=Europe/London:20250425T210000
DTSTAMP:20260425T120852
CREATED:20250321T071035Z
LAST-MODIFIED:20250425T071010Z
UID:122958-1745607600-1745614800@keepcolchestercool.co.uk
SUMMARY:The Art Café - Flow with Watercolours
DESCRIPTION:The Art Café is our new unguided painting art session!  \nBring along old friends\, make new connections or ask that special someone out for this fun and relaxed art activity. \nIn these free-flow painting sessions you will be provided with a blank canvas and all the materials needed to create your personal masterpiece. Aprons and easels are also available to use. \nWhile everyone is welcomed to get creative\, this activity is suitable for people ages 16+. \nFor more info & tickets: https://firstsite.uk/event/the-art-cafe/ or call us on 01206 713 700.
URL:https://keepcolchestercool.co.uk/event/the-art-cafe-flow-with-watercolours-2/
LOCATION:Lewis Gardens\, CO1 1JH Colchester\, United Kingdom
ORGANIZER;CN="Firstsite Colchester":MAILTO:noreply@facebookmail_com
END:VEVENT
BEGIN:VEVENT
DTSTART;TZID=Europe/London:20250425T180000
DTEND;TZID=Europe/London:20250425T210000
DTSTAMP:20260425T120852
CREATED:20250409T071024Z
LAST-MODIFIED:20250425T071010Z
UID:123407-1745604000-1745614800@keepcolchestercool.co.uk
SUMMARY:Star Realms Tournament @ Dice & a Slice
DESCRIPTION:Come and test your mettle against other Star Realms players at our first ever Star Realms tournament!  \n£5 Entry  \nSign-Up at the link belowhttps://form.jotform.com/250845584801057 \nFor more info\, send us a message!  \nWhat is Star Realms?Star Realms is a spaceship combat deck-building game by Magic Hall of Famers Darwin Kastle (The Battle for Hill 218) and Rob Dougherty (Ascension Co-designer). It combines the fun of a deck-building game with the speed and interactivity of Trading Card Game style combat. In Star Realms\, players make use of Ships and Bases to generate Trade to acquire new Ships and Bases or to generate Combat to attack their opponent to reduce their Authority or destroy their Bases. When you reduce your opponent’s Authority to zero\, you win!
URL:https://keepcolchestercool.co.uk/event/star-realms-tournament-dice-a-slice/
LOCATION:Dice & A Slice\, 37 Queen Street\, Colchester\, CO1 2PQ\, GB
ORGANIZER;CN="Dice &amp%3B a Slice":MAILTO:noreply@facebookmail_com
END:VEVENT
BEGIN:VEVENT
DTSTART;TZID=Europe/London:20250425T110000
DTEND;TZID=Europe/London:20250425T130000
DTSTAMP:20260425T120852
CREATED:20250409T071024Z
LAST-MODIFIED:20250425T071010Z
UID:123406-1745578800-1745586000@keepcolchestercool.co.uk
SUMMARY:Cinema | Ernest Cole: Lost and Found (15)
DESCRIPTION:Showing at Firstsite Cinema – Ernest Cole: Lost and Found (15)! \nErnest Cole. \nHis book House of Bondage\, published in 1967 when he was only 27 years old\, led him into exile in NYC and Europe for the rest of his life\, never to find his bearings. \nRaoul Peck recounts his wanderings\, his turmoil as an artist and his anger\, on a daily basis\, at the silence or complicity of the Western world in the face of the horrors of the Apartheid regime. \nBook now on our website or call us on 01206 713 700. \nhttps://www.facebook.com/events/1795095584369116/?event_time_id=1795095597702448
URL:https://keepcolchestercool.co.uk/event/cinema-ernest-cole-lost-and-found-15/
LOCATION:Lewis Gardens\, CO1 1JH Colchester\, United Kingdom
ORGANIZER;CN="Firstsite Colchester":MAILTO:noreply@facebookmail_com
END:VEVENT
BEGIN:VEVENT
DTSTART;TZID=Europe/London:20250425T080000
DTEND;TZID=Europe/London:20250425T110000
DTSTAMP:20260425T120852
CREATED:20250423T071013Z
LAST-MODIFIED:20250425T071010Z
UID:123718-1745568000-1745578800@keepcolchestercool.co.uk
SUMMARY:Dirty Funk Face + The Mack.ie @Roots and Grooves Cafe
DESCRIPTION:Presenting to you on Friday 25th April at Roots and Grooves Vinyl Cafe in Colchester! A night of funk and soul with two groovy acts for ya\, plus DJ. \nSupport slot by yours truly\, The Mack.ie (Cameron Mackie)\, you can find him all over town but he’s here for Friday exclusively giving you his raw funk and soul energy. Smooth and sultry singing to get you in the mood… \nTo come buy some drinks at Roots and have a groove on the dance floor. \nPlaying for you the rest of the night will be Dirty Funk Face. Out of the open mic scene in Colchester and North Essex\, these two are bringing the funk. Music to get you dancing\, real old-newschool vibes and a right laugh. Live funk action. \nFREE ENTRYStarts at 8pmBe there or be square ⬛️ 😉
URL:https://keepcolchestercool.co.uk/event/dirty-funk-face-the-mack-ie-roots-and-grooves-cafe/
LOCATION:Roots & Grooves Cafe\, Roots & Grooves Cafe
ORGANIZER;CN="Victoria Weaver":MAILTO:noreply@facebookmail_com
END:VEVENT
BEGIN:VEVENT
DTSTART;TZID=Europe/London:20250424T230000
DTEND;TZID=Europe/London:20250425T020000
DTSTAMP:20260425T120852
CREATED:20250423T071013Z
LAST-MODIFIED:20250425T071010Z
UID:123717-1745535600-1745546400@keepcolchestercool.co.uk
SUMMARY:It’s a Thursday thing!
DESCRIPTION:Kicking off Pay Weekend this Thursday for a late night drink and a dance after the pub\, dinner or karaoke elsewhere in town! Free Entry & 25% off all drinks!🍸
URL:https://keepcolchestercool.co.uk/event/its-a-thursday-thing/
LOCATION:Rubix Bar\, Rubix Bar
ORGANIZER;CN="Rubix Bar":MAILTO:noreply@facebookmail_com
END:VEVENT
END:VCALENDAR