BEGIN:VCALENDAR
VERSION:2.0
PRODID:-//Keep Colchester Cool - ECPv6.15.20//NONSGML v1.0//EN
CALSCALE:GREGORIAN
METHOD:PUBLISH
X-WR-CALNAME:Keep Colchester Cool
X-ORIGINAL-URL:https://keepcolchestercool.co.uk
X-WR-CALDESC:Events for Keep Colchester Cool
REFRESH-INTERVAL;VALUE=DURATION:PT1H
X-Robots-Tag:noindex
X-PUBLISHED-TTL:PT1H
BEGIN:VTIMEZONE
TZID:Europe/London
BEGIN:DAYLIGHT
TZOFFSETFROM:+0000
TZOFFSETTO:+0100
TZNAME:BST
DTSTART:20250330T010000
END:DAYLIGHT
BEGIN:STANDARD
TZOFFSETFROM:+0100
TZOFFSETTO:+0000
TZNAME:GMT
DTSTART:20251026T010000
END:STANDARD
BEGIN:DAYLIGHT
TZOFFSETFROM:+0000
TZOFFSETTO:+0100
TZNAME:BST
DTSTART:20260329T010000
END:DAYLIGHT
BEGIN:STANDARD
TZOFFSETFROM:+0100
TZOFFSETTO:+0000
TZNAME:GMT
DTSTART:20261025T010000
END:STANDARD
BEGIN:DAYLIGHT
TZOFFSETFROM:+0000
TZOFFSETTO:+0100
TZNAME:BST
DTSTART:20270328T010000
END:DAYLIGHT
BEGIN:STANDARD
TZOFFSETFROM:+0100
TZOFFSETTO:+0000
TZNAME:GMT
DTSTART:20271031T010000
END:STANDARD
END:VTIMEZONE
BEGIN:VEVENT
DTSTART;TZID=Europe/London:20260902T193000
DTEND;TZID=Europe/London:20260902T223000
DTSTAMP:20260424T113042
CREATED:20260224T071245Z
LAST-MODIFIED:20260226T071236Z
UID:129250-1788377400-1788388200@keepcolchestercool.co.uk
SUMMARY:Mark Chadwick ( Levellers ) // Colchester Arts Centre
DESCRIPTION:One of the UK’s most successful songwriters\, Mark Chadwick\, has co-written 20 chart singles and 6 Top 40 albums (including a Number 1) as part of the Levellers\, the band he has fronted for over 25 years. Still going strong\, the Levellers are festival favourites and have cemented their cherished status with headline performancesat Glastonbury\, Isle Of Wight\, Cambridge Folk Festival\, Bestival and Boomtown and many European and UK events and in 2003 they successfully created their own annual Beautiful Days Festival which takes place in August at Escot Park in Devon. During this time Mark has released two solo albums ‘All the Pieces’ and ‘Moment’ and his upfront and personal solo performance will see him play a mixture of material from these albums and Levellers classics. Be warned\, Mark will have you up dancing!
URL:https://keepcolchestercool.co.uk/event/mark-chadwick-levellers-colchester-arts-centre/
LOCATION:Colchester Arts Centre\, Colchester Arts Centre
ATTACH;FMTTYPE=image/jpeg:https://keepcolchestercool.co.uk/wp-content/uploads/129250_image_635136497_1433692311877643_3335510749730433940_n.jpg
ORGANIZER;CN="The Gig Cartel":MAILTO:noreply@facebookmail.com
END:VEVENT
BEGIN:VEVENT
DTSTART;TZID=Europe/London:20260905T110000
DTEND;TZID=Europe/London:20260905T140000
DTSTAMP:20260424T113042
CREATED:20260127T071125Z
LAST-MODIFIED:20260226T071236Z
UID:128118-1788606000-1788616800@keepcolchestercool.co.uk
SUMMARY:Folk on the Rec
DESCRIPTION:🎻 FOLK ON THE RECA Community Folk Music Festival \nGather with friends\, family and neighbours for a gentle day of live folk music\, fresh air and good company. \nFolk on the Rec is a celebration of local grassroots musicians\, traditional sounds and simple pleasures — music played on real instruments\, shared food\, cold drinks\, and children dancing on the grass. Set beneath the trees at Old Heath Recreation Ground\, it’s a festival made for slowing down and enjoying the moment. \nAcross the day you’ll find: 🎶 Live folk music & acoustic sets🍺 A welcoming bar🍲 Food & drink made with care🛍️ Local makers & stalls👨‍👩‍👧 Gentle\, family-friendly activities \nBring a blanket\, pull up a spot\, and let the music carry the afternoon. \n📅 Saturday 5th September⏰ 11am – 6pm📍 Old Heath Recreation Ground\, Colchester🎟 FREE ENTRY \nOrganised by The Rec Events📩 theremarket@outlook.com \nA proper community folk gathering — simple\, soulful\, and open to all 🌿🎶
URL:https://keepcolchestercool.co.uk/event/folk-on-the-rec/
LOCATION:Colchester old heath Recreation Ground\, Colchester old heath Recreation Ground
ATTACH;FMTTYPE=image/jpeg:https://keepcolchestercool.co.uk/wp-content/uploads/128118_image_619660749_122169588284771081_3012795152258691314_n.jpg
END:VEVENT
BEGIN:VEVENT
DTSTART;TZID=Europe/London:20260909T193000
DTEND;TZID=Europe/London:20260909T223000
DTSTAMP:20260424T113042
CREATED:20260224T071246Z
LAST-MODIFIED:20260226T071236Z
UID:129252-1788982200-1788993000@keepcolchestercool.co.uk
SUMMARY:The Mersey Beatles - Colchester
DESCRIPTION:The world’s favourite Liverpool-born tribute to the Fab Four are back with an all-new show for 2026.This globally acclaimed band has rocked sold-out audiences all over the world since 1999 with their truly authentic homage to the genius of John\, Paul\, George and Ringo.Through two magical hours fans are taken on an unforgettable ride through the hits of Beatlemania and the psychedelic wonder and melodic brilliance of the Fab Four’s later work.⭐New for 2026 – a special 60th anniversary of the ground-breaking ‘Revolver’ album.It’s quite simply a show no fan will want to miss
URL:https://keepcolchestercool.co.uk/event/the-mersey-beatles-colchester/
LOCATION:Mercury Theatre Colchester\, Mercury Theatre Colchester
ATTACH;FMTTYPE=image/jpeg:https://keepcolchestercool.co.uk/wp-content/uploads/129252_image_615953627_1420976122924138_7617487874485541365_n.jpg
END:VEVENT
BEGIN:VEVENT
DTSTART;TZID=Europe/London:20260910T190000
DTEND;TZID=Europe/London:20260910T220000
DTSTAMP:20260424T113042
CREATED:20260224T071246Z
LAST-MODIFIED:20260226T071236Z
UID:129255-1789066800-1789077600@keepcolchestercool.co.uk
SUMMARY:Shar’s Drag Bingo
DESCRIPTION:Shar invites you to Three Wise Monkeys Colchester\, for an evening of songs\, silliness and bingo. \nTickets £5\, Doors 7pm\, Restaurant floor \nThis gig takes place on the restaurant floor of Three Wise Monkeys Colchester \nAccess – There is no lift to access the restaurant floor of Three Wise Monkeys. There are two short flights of stairs to reach the top floor with rest opportunities between each flight.
URL:https://keepcolchestercool.co.uk/event/shars-drag-bingo-5/
LOCATION:60 High Street\, CO1 1DN Colchester\, United Kingdom\, 60 High Street\, CO1 1DN Colchester\, United Kingdom
ATTACH;FMTTYPE=image/jpeg:https://keepcolchestercool.co.uk/wp-content/uploads/129255_image_622812169_1308377277992285_2068608092878714489_n.jpg
ORGANIZER;CN="Three Wise Monkeys Colchester":MAILTO:noreply@facebookmail_com
END:VEVENT
BEGIN:VEVENT
DTSTART;TZID=Europe/London:20260912T210000
DTEND;TZID=Europe/London:20260913T000000
DTSTAMP:20260424T113042
CREATED:20260224T071247Z
LAST-MODIFIED:20260226T071236Z
UID:129257-1789246800-1789257600@keepcolchestercool.co.uk
SUMMARY:Punch it chewie! Live @coda Colchester
DESCRIPTION:Catch us live at coda!!
URL:https://keepcolchestercool.co.uk/event/punch-it-chewie-live-coda-colchester-4/
LOCATION:Coda Colchester\, Coda Colchester
ATTACH;FMTTYPE=image/jpeg:https://keepcolchestercool.co.uk/wp-content/uploads/129257_image_624898536_1541457064083334_5433317940743537065_n.jpg
ORGANIZER;CN="Punch it chewie":MAILTO:noreply@facebookmail_com
END:VEVENT
BEGIN:VEVENT
DTSTART;TZID=Europe/London:20260918T190000
DTEND;TZID=Europe/London:20260918T220000
DTSTAMP:20260424T113042
CREATED:20260224T071247Z
LAST-MODIFIED:20260226T071237Z
UID:129259-1789758000-1789768800@keepcolchestercool.co.uk
SUMMARY:Comedy Night
DESCRIPTION:Join us for our Comedy night hosted by our regular MC\, Justin Panks! \nOpening the show is Joey Page\, a highly sought-after comedian known for his distinctive style and hilarious take on everyday life. \nTaking the middle spot is Harry Pettit\, an audience-pleasing storyteller for all ages\, known from TV appearances and popular online comedy platforms. \nClosing the show\, we have Johnny Awsum\, comedian known for his high-energy\, feel-good\, and musical comedy style. He gained national recognition as a semi-finalist on Britians got Talent! \nDoors open at 7pm with Comedy starting at 8pm. Bar food available until 8:45pm. \nBook 10 tickets in one transaction and get a free pitcher of beer. \nThis event is for over 16s only (under 18s to be accompanied by an adult). \nParking is free just make sure to validate your car registration in reception – any car parked for longer than 10 minutes will need to do this.
URL:https://keepcolchestercool.co.uk/event/comedy-night-5/
LOCATION:Colchester United FC\, JobServe Community Stadium\, United Way\, Colchester\, CO4 5UP\, GB
ATTACH;FMTTYPE=image/jpeg:https://keepcolchestercool.co.uk/wp-content/uploads/129259_image_635511260_1481044980688731_5545078744308730767_n.jpg
ORGANIZER;CN="Events at Colchester United FC":MAILTO:noreply@facebookmail_com
END:VEVENT
BEGIN:VEVENT
DTSTART;TZID=Europe/London:20260919T180000
DTEND;TZID=Europe/London:20260919T220000
DTSTAMP:20260424T113042
CREATED:20260224T071247Z
LAST-MODIFIED:20260226T071237Z
UID:129261-1789840800-1789855200@keepcolchestercool.co.uk
SUMMARY:The Emo Festival Comes to Colchester!
DESCRIPTION:The Emo Festival is coming to Colchester! 💀🖤  \nThe greatest tribute night to the music that was never just a phase… 🖤  \n🚨 COMPETITION 🚨Click ‘Interested’ & TAG 3 friends on the event wall for the chance to win 4X VIP TICKETS & £150 BAR TAB! \nTEENAGE NOSTALGIA featuring all your biggest emo songs in existence with A LIVE BAND & LIVE DJs spinning all the angst your teenage dirtbag heart desires all night long! LIVE Performers\, confetti & much more! \nPut on your eyeliner\, lace up your high-tops and book your tickets now 👉 www.emofest.co.uk
URL:https://keepcolchestercool.co.uk/event/the-emo-festival-comes-to-colchester/
LOCATION:Colchester Charter Hall\, Colchester Charter Hall
ATTACH;FMTTYPE=image/jpeg:https://keepcolchestercool.co.uk/wp-content/uploads/129261_image_624484817_859867810427497_5663479453413908301_n.jpg
END:VEVENT
BEGIN:VEVENT
DTSTART;TZID=Europe/London:20260919T193000
DTEND;TZID=Europe/London:20260919T223000
DTSTAMP:20260424T113042
CREATED:20251008T071111Z
LAST-MODIFIED:20251119T071057Z
UID:126500-1789846200-1789857000@keepcolchestercool.co.uk
SUMMARY:Popscene – Performing the Music of Blur
DESCRIPTION:TWM Live Presents: Popscene – Performing the Music of BlurSaturday 19th September\, Doors 7:30pmThree Wise Monkeys\, ColchesterPopscene\, a high-quality tribute act dedicated to celebrating the iconic music of Blur\, will be taking the stage at Three Wise Monkeys on Saturday 26th April.Doors open at 7:30 PM\, with tickets priced at just £14 plus booking fee. Don’t miss this chance to relive the magic of Blur’s greatest hits\, performed with passion and precision by one of the freshest tribute acts around.Grab your tickets now and join us for an unforgettable evening of Britpop brilliance!Please note that access to the top floor of Three Wise Monkeys does not have a lift\, but there are rest opportunities between each flight of stairs.Viewer discretion is advised: This show may potentially contain flashing and strobing lighting effects.We wanted to inform you of our refund policy regarding event tickets. Please note that we will be unable to process any ticket refunds within 7 days of the event.We understand that circumstances may arise that prevent you from attending the event\, but unfortunately\, we are unable to accommodate refund requests within this timeframe.
URL:https://keepcolchestercool.co.uk/event/popscene-performing-the-music-of-blur-2/
LOCATION:60 High Street\, CO1 1DN Colchester\, United Kingdom\, 60 High Street\, CO1 1DN Colchester\, United Kingdom
ORGANIZER;CN="Three Wise Monkeys Colchester":MAILTO:noreply@facebookmail_com
END:VEVENT
BEGIN:VEVENT
DTSTART;TZID=Europe/London:20260924T073000
DTEND;TZID=Europe/London:20260924T103000
DTSTAMP:20260424T113042
CREATED:20260224T071248Z
LAST-MODIFIED:20260226T071237Z
UID:129264-1790235000-1790245800@keepcolchestercool.co.uk
SUMMARY:Sun Cutter ( aka Kevin Pearce ) - Live @ Colchester Arts Centre
DESCRIPTION:Sun Cutter aka Kevin Pearce is buzzed to announce the follow up to his 2022 debut\, an Album of the Week on Germany’s Radio Eins which also charted in Apple Music’s Top 10 in two different album categories. Chock-a-block with soul and folk-infused indie-pop\, Jupiter- sized choruses\, and yearning\, cinematic balladry\, Sun Cutter 2 is a lament to turbulent times\, beginning with a rallying call to shake it off and rise above it all. “All together we will stand and fight the darkness that has taken up our lives” Pearce sings on opener Union\, which has been playlisted by Radio X and has also found love on Mark Radcliffe’s 6 Music show. \nAccompanied by Gale Paridjanian (Turin Brakes) on sax\, Cecilia Fage (Matt Berry & the Maypoles) and the Stagecoach Children’s Choir\, the song is particularly poignant for Pearce since it features backing vocals from his close friend Simon Holliday\, the soundman for Stereolab and Mercury Rev who passed away prematurely last summer. \nOther collaborators on Sun Cutter 2 include Slowdive’s Rachel Goswell on ‘Mud Leaf’ and Michael J Sheehy on ‘The Spectacle’\, the latter nodding to Guy Debord’s The Society of the Spectacle\, albeit with one eye on modern media clickbait and doom-scrolling. \nStylistically\, sonically and emotionally\, Sun Cutter 2 covers plenty of ground\, offering hints of The Beatles\, Leonard Cohen\, Pink Floyd\, Cat Stevens\, Ennio Morricone\, Neil Young\, The Flaming Lips\, Massive Attack and Low\, with a shot of gospel for good measure. \nHe also recently released the educational synth-pop album\, The Sound of Science\, with members of I Monster \, as well as Sci-Fi Ballads for a Lost Generation on UK curio and oddities label Castles In Space.
URL:https://keepcolchestercool.co.uk/event/sun-cutter-aka-kevin-pearce-live-colchester-arts-centre/
LOCATION:Colchester Arts Centre\, Colchester Arts Centre
ATTACH;FMTTYPE=image/jpeg:https://keepcolchestercool.co.uk/wp-content/uploads/129264_image_607145887_1251205926828309_1057253250155563232_n.jpg
ORGANIZER;CN="Sun Cutter/K.Pearce":MAILTO:noreply@facebookmail.com
END:VEVENT
BEGIN:VEVENT
DTSTART;TZID=Europe/London:20260925T200000
DTEND;TZID=Europe/London:20260925T230000
DTSTAMP:20260424T113042
CREATED:20250527T071041Z
LAST-MODIFIED:20260226T071237Z
UID:124758-1790366400-1790377200@keepcolchestercool.co.uk
SUMMARY:The Comedy Store - Colchester
DESCRIPTION:Sale Dates and Times: \nPublic Onsale : Fri\, 28 Feb 2025 at 10:00 AM \nPriority from O2 : Wed\, 26 Feb 2025 at 10:00 AM \nTicketmaster Presale : Thu\, 27 Feb 2025 at 10:00 AM \nLive Nation Presale : Thu\, 27 Feb 2025 at 10:00 AM
URL:https://keepcolchestercool.co.uk/event/the-comedy-store-colchester-3/
LOCATION:Colchester Charter Hall\, Colchester Charter Hall
ATTACH;FMTTYPE=image/jpeg:https://keepcolchestercool.co.uk/wp-content/uploads/124758_image_571319984_1277266834441871_6902146499794827262_n.jpg
ORGANIZER;CN="Ticketmaster Events":MAILTO:noreply@facebookmail_com
END:VEVENT
END:VCALENDAR